Workbook

Sheet Hakulomake
A7: Liite lääkkeiden velvoitevarastointilain perusteella tehtävään korvaushakemukseen
A9: Lääkkeiden velvoitevarastoon sitoutunut pääoma vuodelta 2024
A11: Päiväys:
A13: Korvaushakemuksen yhdyshenkilö:
A14: Yhdyshenkilön puhelinnumero:
A15: Yhdyshenkilön sähköpostiosoite:
A17: Korvausta hakeva yhteisö:
A18: Postiosoite:
A19: Postinumero ja postitoimipaikka:
A20: Puhelin:
A21: Y-tunnus:
A22: Toimitusjohtaja:
... A36: Velvoitevaraston osoite tai osoitteet:
A42: Korvauskorko I % 1.1. - 30.6.2024 (Suomen Pankin viitekorko +2 %-yksikköä) | C42: =0.045+0.02 -> 0.065
A43: Korvauskorko II % 1.7. - 31.12.2024 (Suomen Pankin viitekorko +2 %-yksikköä) | C43: =0.045+0.02 -> 0.065 | D43: Asetuksen lääkeryhmät
D45: (1) Mikrobilääkkeet
A46: KORVAUSLASKELMA | B46: 1. vuosipuoli | C46: 2. vuosipuoli | D46: (2) Elektrolyytti ja nestetasapainohäiriöissä sekä parenteraalisessa ravitsemuksessa käytettävät lääkkeet
A47: Sitoutunut pääoma yhteensä | B47: =SUM(Lääkkeet[Sitoutunut pääoma 1.1.-30.6.2024 (EUR)])+'Oma tuotanto'!$D$4 -> 0 | C47: =SUM(Lääkkeet[Sitoutunut pääoma 1.7.-31.12.2024 (EUR)])+'Oma tuotanto'!$D$5 -> 0 | D47: (3) Sydän- ja verisuonisairauksien lääkkeet ja diureetit
D48: (4) Aineenvaihdunta- ja umpierityssairauksien lääkkeet
A49: Haettu korvaus: viitekorko ja +2 % -yksikköä | B49: =(31+29+31+30+31+30)/366*$C$42*$B$47 -> 0 | C49: =(31+31+30+31+30+31)/366*$C$43*$C$47 -> 0 | D49: (5) Kipu-, reuma- ja kuumelääkkeet
A50: Haettu lisäkorvaus: +2 % lääkeryhmästä 2 | B50: =(31+29+31+30+31+30)/366*0.02*(SUMIFS(Lääkelista!O:O,Lääkelista!C:C,2)+SUMIFS('Oma tuotanto'!I:I,'Oma tuotanto'!B:B,2)) -> 0 | C50: =(31+31+30+31+30+31)/366*0.02*SUMIFS(Lääkelista!U:U,Lääkelista!C:C,2) -> 0 | D50: (6) Paikallispuudutuksessa ja yleisanestesiassa käytettävät lääkkeet
D51: (7) Myrkytyslääkkeet ja rokotteet
A52: Haettu korvaus yhteensä | C52: =SUM(B49:C50) -> 0 | D52: (8) Hengityselinten sairauksien lääkkeet
D53: (9) Ruoansulatussairauksien lääkkeet
A54: Aika ja paikka: | D54: (10) Psyykenlääkkeet
D55: (11) Neurologiset lääkkeet
A56: Nimi: | D56: (12) Silmätautilääkkeet
D57: (13) Antitromboottiset lääkeaineet ja hemostaatit
D58: (14) Eläinlääkkeet
D59: (15) Valmistuksessa käytettävät raaka-aineet
D60: (16) Valmistuksessa käytettävät pakkausmateriaalit

Sheet Lääkelista
A2: Tekn | B2: Organisaatio / yritys | C2: Asetuksen ryhmä | D2: ATC-koodi | E2: VNR-numero | F2: Luokan nimi | G2: Kauppanimi | H2: Vahvuus | I2: Lääkemuoto | J2: Pakkauskoko (kpl) | K2: Velvoite 1.1.2024 (pakkauksia) | L2: Suurimman alitusluvan mukainen velvoite 1.1.-30.6.2024 (pakkauksia) | M2: Alin saldo 1.1.-30.6.2024 (pakkauksia) | N2: Kirjanpitoarvo / pakkaus 1.1.2024 (EUR ALV 0 %) | O2: Sitoutunut pääoma 1.1.-30.6.2024 (EUR) | P2: Alituslupanumerot 1.1.-30.6.2024 | Q2: Velvoite 1.7.2024 (pakkauksia) | R2: Suurimman alitusluvan mukainen velvoite 1.7.-31.12.2024 (pakkauksia) | S2: Alin saldo 1.7.-31.12.2024 (pakkauksia) | T2: Kirjanpitoarvo / pakkaus 1.7.2024 (EUR ALV 0 %) | U2: Sitoutunut pääoma 1.7.-31.12.2024 (EUR) | V2: Alituslupanumerot 1.7.-31.12.2024 | W2: Tyhjien rivien suodatus | X2: Kommentit (mm. korvaavat tuotteet velvoitteen toteutumiselle) | Y2: Korvauksen saaja (lääkeyhtiö)
A3: X | B3: =Hakulomake!$B$17 -> 0 | C3: 1 | D3: P01AB01 | E3: 000019 | F3: metronidatsoli | G3: Flagyl | H3: 400 mg | I3: tabletti, kalvopäällysteinen | J3: 10 | O3: =MIN(Lääkkeet[[#This Row],[Velvoite 1.1.2024 (pakkauksia)]],Lääkkeet[[#This Row],[Suurimman alitusluvan mukainen velvoite 1.1.-30.6.2024 (pakkauksia)]],Lääkkeet[[#This Row],[Alin saldo 1.1.-30.6.2024 (pakkauksia)]])*Lääkkeet[[#This Row],[Kirjanpitoarvo / pakkaus 1.1.2024 (EUR ALV 0 %)]] -> 0 | U3: =MIN(Lääkkeet[[#This Row],[Velvoite 1.7.2024 (pakkauksia)]],Lääkkeet[[#This Row],[Suurimman alitusluvan mukainen velvoite 1.7.-31.12.2024 (pakkauksia)]],Lääkkeet[[#This Row],[Alin saldo 1.7.-31.12.2024 (pakkauksia)]])*Lääkkeet[[#This Row],[Kirjanpitoarvo / pakkaus 1.7.2024 (EUR ALV 0 %)]] -> 0 | W3: {=IFERROR(_xlfn.IFS(Lääkkeet[[#This Row],[Sitoutunut pääoma 1.1.-30.6.2024 (EUR)]]>0,"Täytetyt",Lääkkeet[[#This Row],[Sitoutunut pääoma 1.7.-31.12.2024 (EUR)]]>0,"Täytetyt"),"")} | Y3: =Hakulomake!$B$29 -> 0
A4: X | B4: =Hakulomake!$B$17 -> 0 | C4: 1 | D4: J01CR02 | E4: 000082 | F4: amoksisilliini ja beetalaktamaasin estäjä | G4: Amoxin Comp | H4: 50 mg / 12.5 mg/ml | I4: jauhe oraalisuspensiota varten | J4: 100 ml | O4: =MIN(Lääkkeet[[#This Row],[Velvoite 1.1.2024 (pakkauksia)]],Lääkkeet[[#This Row],[Suurimman alitusluvan mukainen velvoite 1.1.-30.6.2024 (pakkauksia)]],Lääkkeet[[#This Row],[Alin saldo 1.1.-30.6.2024 (pakkauksia)]])*Lääkkeet[[#This Row],[Kirjanpitoarvo / pakkaus 1.1.2024 (EUR ALV 0 %)]] -> 0 | U4: =MIN(Lääkkeet[[#This Row],[Velvoite 1.7.2024 (pakkauksia)]],Lääkkeet[[#This Row],[Suurimman alitusluvan mukainen velvoite 1.7.-31.12.2024 (pakkauksia)]],Lääkkeet[[#This Row],[Alin saldo 1.7.-31.12.2024 (pakkauksia)]])*Lääkkeet[[#This Row],[Kirjanpitoarvo / pakkaus 1.7.2024 (EUR ALV 0 %)]] -> 0 | W4: {=IFERROR(_xlfn.IFS(Lääkkeet[[#This Row],[Sitoutunut pääoma 1.1.-30.6.2024 (EUR)]]>0,"Täytetyt",Lääkkeet[[#This Row],[Sitoutunut pääoma 1.7.-31.12.2024 (EUR)]]>0,"Täytetyt"),"")} | Y4: =Hakulomake!$B$29 -> 0
A5: X | B5: =Hakulomake!$B$17 -> 0 | C5: 1 | D5: J01CR02 | E5: 000115 | F5: amoksisilliini ja beetalaktamaasin estäjä | G5: Amoxin Comp | H5: 500 mg / 125 mg | I5: tabletti, kalvopäällysteinen | J5: 20 | O5: =MIN(Lääkkeet[[#This Row],[Velvoite 1.1.2024 (pakkauksia)]],Lääkkeet[[#This Row],[Suurimman alitusluvan mukainen velvoite 1.1.-30.6.2024 (pakkauksia)]],Lääkkeet[[#This Row],[Alin saldo 1.1.-30.6.2024 (pakkauksia)]])*Lääkkeet[[#This Row],[Kirjanpitoarvo / pakkaus 1.1.2024 (EUR ALV 0 %)]] -> 0 | U5: =MIN(Lääkkeet[[#This Row],[Velvoite 1.7.2024 (pakkauksia)]],Lääkkeet[[#This Row],[Suurimman alitusluvan mukainen velvoite 1.7.-31.12.2024 (pakkauksia)]],Lääkkeet[[#This Row],[Alin saldo 1.7.-31.12.2024 (pakkauksia)]])*Lääkkeet[[#This Row],[Kirjanpitoarvo / pakkaus 1.7.2024 (EUR ALV 0 %)]] -> 0 | W5: {=IFERROR(_xlfn.IFS(Lääkkeet[[#This Row],[Sitoutunut pääoma 1.1.-30.6.2024 (EUR)]]>0,"Täytetyt",Lääkkeet[[#This Row],[Sitoutunut pääoma 1.7.-31.12.2024 (EUR)]]>0,"Täytetyt"),"")} | Y5: =Hakulomake!$B$29 -> 0
A6: X | B6: =Hakulomake!$B$17 -> 0 | C6: 1 | D6: J01CR02 | E6: 000126 | F6: amoksisilliini ja beetalaktamaasin estäjä | G6: Amoxin Comp | H6: 500 mg / 125 mg | I6: tabletti, kalvopäällysteinen | J6: 30 | O6: =MIN(Lääkkeet[[#This Row],[Velvoite 1.1.2024 (pakkauksia)]],Lääkkeet[[#This Row],[Suurimman alitusluvan mukainen velvoite 1.1.-30.6.2024 (pakkauksia)]],Lääkkeet[[#This Row],[Alin saldo 1.1.-30.6.2024 (pakkauksia)]])*Lääkkeet[[#This Row],[Kirjanpitoarvo / pakkaus 1.1.2024 (EUR ALV 0 %)]] -> 0 | U6: =MIN(Lääkkeet[[#This Row],[Velvoite 1.7.2024 (pakkauksia)]],Lääkkeet[[#This Row],[Suurimman alitusluvan mukainen velvoite 1.7.-31.12.2024 (pakkauksia)]],Lääkkeet[[#This Row],[Alin saldo 1.7.-31.12.2024 (pakkauksia)]])*Lääkkeet[[#This Row],[Kirjanpitoarvo / pakkaus 1.7.2024 (EUR ALV 0 %)]] -> 0 | W6: {=IFERROR(_xlfn.IFS(Lääkkeet[[#This Row],[Sitoutunut pääoma 1.1.-30.6.2024 (EUR)]]>0,"Täytetyt",Lääkkeet[[#This Row],[Sitoutunut pääoma 1.7.-31.12.2024 (EUR)]]>0,"Täytetyt"),"")} | Y6: =Hakulomake!$B$29 -> 0
A7: X | B7: =Hakulomake!$B$17 -> 0 | C7: 1 | D7: J01CR02 | E7: 001165 | F7: amoksisilliini ja beetalaktamaasin estäjä | G7: Bioclavid | H7: 875 mg / 125 mg | I7: tabletti, kalvopäällysteinen | J7: 14 | O7: =MIN(Lääkkeet[[#This Row],[Velvoite 1.1.2024 (pakkauksia)]],Lääkkeet[[#This Row],[Suurimman alitusluvan mukainen velvoite 1.1.-30.6.2024 (pakkauksia)]],Lääkkeet[[#This Row],[Alin saldo 1.1.-30.6.2024 (pakkauksia)]])*Lääkkeet[[#This Row],[Kirjanpitoarvo / pakkaus 1.1.2024 (EUR ALV 0 %)]] -> 0 | U7: =MIN(Lääkkeet[[#This Row],[Velvoite 1.7.2024 (pakkauksia)]],Lääkkeet[[#This Row],[Suurimman alitusluvan mukainen velvoite 1.7.-31.12.2024 (pakkauksia)]],Lääkkeet[[#This Row],[Alin saldo 1.7.-31.12.2024 (pakkauksia)]])*Lääkkeet[[#This Row],[Kirjanpitoarvo / pakkaus 1.7.2024 (EUR ALV 0 %)]] -> 0 | W7: {=IFERROR(_xlfn.IFS(Lääkkeet[[#This Row],[Sitoutunut pääoma 1.1.-30.6.2024 (EUR)]]>0,"Täytetyt",Lääkkeet[[#This Row],[Sitoutunut pääoma 1.7.-31.12.2024 (EUR)]]>0,"Täytetyt"),"")} | Y7: =Hakulomake!$B$29 -> 0
A8: X | B8: =Hakulomake!$B$17 -> 0 | C8: 1 | D8: J01CR02 | E8: 001176 | F8: amoksisilliini ja beetalaktamaasin estäjä | G8: Bioclavid | H8: 875 mg / 125 mg | I8: tabletti, kalvopäällysteinen | J8: 20 | O8: =MIN(Lääkkeet[[#This Row],[Velvoite 1.1.2024 (pakkauksia)]],Lääkkeet[[#This Row],[Suurimman alitusluvan mukainen velvoite 1.1.-30.6.2024 (pakkauksia)]],Lääkkeet[[#This Row],[Alin saldo 1.1.-30.6.2024 (pakkauksia)]])*Lääkkeet[[#This Row],[Kirjanpitoarvo / pakkaus 1.1.2024 (EUR ALV 0 %)]] -> 0 | U8: =MIN(Lääkkeet[[#This Row],[Velvoite 1.7.2024 (pakkauksia)]],Lääkkeet[[#This Row],[Suurimman alitusluvan mukainen velvoite 1.7.-31.12.2024 (pakkauksia)]],Lääkkeet[[#This Row],[Alin saldo 1.7.-31.12.2024 (pakkauksia)]])*Lääkkeet[[#This Row],[Kirjanpitoarvo / pakkaus 1.7.2024 (EUR ALV 0 %)]] -> 0 | W8: {=IFERROR(_xlfn.IFS(Lääkkeet[[#This Row],[Sitoutunut pääoma 1.1.-30.6.2024 (EUR)]]>0,"Täytetyt",Lääkkeet[[#This Row],[Sitoutunut pääoma 1.7.-31.12.2024 (EUR)]]>0,"Täytetyt"),"")} | Y8: =Hakulomake!$B$29 -> 0
A9: X | B9: =Hakulomake!$B$17 -> 0 | C9: 1 | D9: J01GB01 | E9: 003861 | F9: tobramysiini | G9: TOBI | H9: 300 mg / 5 ml | I9: sumutinliuos | J9: 56 x 5 ml | O9: =MIN(Lääkkeet[[#This Row],[Velvoite 1.1.2024 (pakkauksia)]],Lääkkeet[[#This Row],[Suurimman alitusluvan mukainen velvoite 1.1.-30.6.2024 (pakkauksia)]],Lääkkeet[[#This Row],[Alin saldo 1.1.-30.6.2024 (pakkauksia)]])*Lääkkeet[[#This Row],[Kirjanpitoarvo / pakkaus 1.1.2024 (EUR ALV 0 %)]] -> 0 | U9: =MIN(Lääkkeet[[#This Row],[Velvoite 1.7.2024 (pakkauksia)]],Lääkkeet[[#This Row],[Suurimman alitusluvan mukainen velvoite 1.7.-31.12.2024 (pakkauksia)]],Lääkkeet[[#This Row],[Alin saldo 1.7.-31.12.2024 (pakkauksia)]])*Lääkkeet[[#This Row],[Kirjanpitoarvo / pakkaus 1.7.2024 (EUR ALV 0 %)]] -> 0 | W9: {=IFERROR(_xlfn.IFS(Lääkkeet[[#This Row],[Sitoutunut pääoma 1.1.-30.6.2024 (EUR)]]>0,"Täytetyt",Lääkkeet[[#This Row],[Sitoutunut pääoma 1.7.-31.12.2024 (EUR)]]>0,"Täytetyt"),"")} | Y9: =Hakulomake!$B$29 -> 0
A10: X | B10: =Hakulomake!$B$17 -> 0 | C10: 1 | D10: J01CR02 | E10: 005949 | F10: amoksisilliini ja beetalaktamaasin estäjä | G10: Amoxin Comp | H10: 875 mg / 125 mg | I10: tabletti, kalvopäällysteinen | J10: 10 | O10: =MIN(Lääkkeet[[#This Row],[Velvoite 1.1.2024 (pakkauksia)]],Lääkkeet[[#This Row],[Suurimman alitusluvan mukainen velvoite 1.1.-30.6.2024 (pakkauksia)]],Lääkkeet[[#This Row],[Alin saldo 1.1.-30.6.2024 (pakkauksia)]])*Lääkkeet[[#This Row],[Kirjanpitoarvo / pakkaus 1.1.2024 (EUR ALV 0 %)]] -> 0 | U10: =MIN(Lääkkeet[[#This Row],[Velvoite 1.7.2024 (pakkauksia)]],Lääkkeet[[#This Row],[Suurimman alitusluvan mukainen velvoite 1.7.-31.12.2024 (pakkauksia)]],Lääkkeet[[#This Row],[Alin saldo 1.7.-31.12.2024 (pakkauksia)]])*Lääkkeet[[#This Row],[Kirjanpitoarvo / pakkaus 1.7.2024 (EUR ALV 0 %)]] -> 0 | W10: {=IFERROR(_xlfn.IFS(Lääkkeet[[#This Row],[Sitoutunut pääoma 1.1.-30.6.2024 (EUR)]]>0,"Täytetyt",Lääkkeet[[#This Row],[Sitoutunut pääoma 1.7.-31.12.2024 (EUR)]]>0,"Täytetyt"),"")} | Y10: =Hakulomake!$B$29 -> 0
A11: X | B11: =Hakulomake!$B$17 -> 0 | C11: 1 | D11: J01CR02 | E11: 005963 | F11: amoksisilliini ja beetalaktamaasin estäjä | G11: Amoxin Comp | H11: 875 mg / 125 mg | I11: tabletti, kalvopäällysteinen | J11: 14 | O11: =MIN(Lääkkeet[[#This Row],[Velvoite 1.1.2024 (pakkauksia)]],Lääkkeet[[#This Row],[Suurimman alitusluvan mukainen velvoite 1.1.-30.6.2024 (pakkauksia)]],Lääkkeet[[#This Row],[Alin saldo 1.1.-30.6.2024 (pakkauksia)]])*Lääkkeet[[#This Row],[Kirjanpitoarvo / pakkaus 1.1.2024 (EUR ALV 0 %)]] -> 0 | U11: =MIN(Lääkkeet[[#This Row],[Velvoite 1.7.2024 (pakkauksia)]],Lääkkeet[[#This Row],[Suurimman alitusluvan mukainen velvoite 1.7.-31.12.2024 (pakkauksia)]],Lääkkeet[[#This Row],[Alin saldo 1.7.-31.12.2024 (pakkauksia)]])*Lääkkeet[[#This Row],[Kirjanpitoarvo / pakkaus 1.7.2024 (EUR ALV 0 %)]] -> 0 | W11: {=IFERROR(_xlfn.IFS(Lääkkeet[[#This Row],[Sitoutunut pääoma 1.1.-30.6.2024 (EUR)]]>0,"Täytetyt",Lääkkeet[[#This Row],[Sitoutunut pääoma 1.7.-31.12.2024 (EUR)]]>0,"Täytetyt"),"")} | Y11: =Hakulomake!$B$29 -> 0
A12: X | B12: =Hakulomake!$B$17 -> 0 | C12: 1 | D12: J01DB01 | E12: 006183 | F12: kefaleksiini | G12: Kefexin | H12: 500 mg | I12: tabletti, kalvopäällysteinen | J12: 14 | O12: =MIN(Lääkkeet[[#This Row],[Velvoite 1.1.2024 (pakkauksia)]],Lääkkeet[[#This Row],[Suurimman alitusluvan mukainen velvoite 1.1.-30.6.2024 (pakkauksia)]],Lääkkeet[[#This Row],[Alin saldo 1.1.-30.6.2024 (pakkauksia)]])*Lääkkeet[[#This Row],[Kirjanpitoarvo / pakkaus 1.1.2024 (EUR ALV 0 %)]] -> 0 | U12: =MIN(Lääkkeet[[#This Row],[Velvoite 1.7.2024 (pakkauksia)]],Lääkkeet[[#This Row],[Suurimman alitusluvan mukainen velvoite 1.7.-31.12.2024 (pakkauksia)]],Lääkkeet[[#This Row],[Alin saldo 1.7.-31.12.2024 (pakkauksia)]])*Lääkkeet[[#This Row],[Kirjanpitoarvo / pakkaus 1.7.2024 (EUR ALV 0 %)]] -> 0 | W12: {=IFERROR(_xlfn.IFS(Lääkkeet[[#This Row],[Sitoutunut pääoma 1.1.-30.6.2024 (EUR)]]>0,"Täytetyt",Lääkkeet[[#This Row],[Sitoutunut pääoma 1.7.-31.12.2024 (EUR)]]>0,"Täytetyt"),"")} | Y12: =Hakulomake!$B$29 -> 0
A13: X | B13: =Hakulomake!$B$17 -> 0 | C13: 1 | D13: J01CE02 | E13: 006185 | F13: fenoksimetyylipenisilliini | G13: V-Pen 1500 | H13: 1500000 IU | I13: tabletti, kalvopäällysteinen | J13: 14 | O13: =MIN(Lääkkeet[[#This Row],[Velvoite 1.1.2024 (pakkauksia)]],Lääkkeet[[#This Row],[Suurimman alitusluvan mukainen velvoite 1.1.-30.6.2024 (pakkauksia)]],Lääkkeet[[#This Row],[Alin saldo 1.1.-30.6.2024 (pakkauksia)]])*Lääkkeet[[#This Row],[Kirjanpitoarvo / pakkaus 1.1.2024 (EUR ALV 0 %)]] -> 0 | U13: =MIN(Lääkkeet[[#This Row],[Velvoite 1.7.2024 (pakkauksia)]],Lääkkeet[[#This Row],[Suurimman alitusluvan mukainen velvoite 1.7.-31.12.2024 (pakkauksia)]],Lääkkeet[[#This Row],[Alin saldo 1.7.-31.12.2024 (pakkauksia)]])*Lääkkeet[[#This Row],[Kirjanpitoarvo / pakkaus 1.7.2024 (EUR ALV 0 %)]] -> 0 | W13: {=IFERROR(_xlfn.IFS(Lääkkeet[[#This Row],[Sitoutunut pääoma 1.1.-30.6.2024 (EUR)]]>0,"Täytetyt",Lääkkeet[[#This Row],[Sitoutunut pääoma 1.7.-31.12.2024 (EUR)]]>0,"Täytetyt"),"")} | Y13: =Hakulomake!$B$29 -> 0
A14: X | B14: =Hakulomake!$B$17 -> 0 | C14: 1 | D14: J01CA04 | E14: 006192 | F14: amoksisilliini | G14: Amorion | H14: 500 mg | I14: tabletti, kalvopäällysteinen | J14: 14 | O14: =MIN(Lääkkeet[[#This Row],[Velvoite 1.1.2024 (pakkauksia)]],Lääkkeet[[#This Row],[Suurimman alitusluvan mukainen velvoite 1.1.-30.6.2024 (pakkauksia)]],Lääkkeet[[#This Row],[Alin saldo 1.1.-30.6.2024 (pakkauksia)]])*Lääkkeet[[#This Row],[Kirjanpitoarvo / pakkaus 1.1.2024 (EUR ALV 0 %)]] -> 0 | U14: =MIN(Lääkkeet[[#This Row],[Velvoite 1.7.2024 (pakkauksia)]],Lääkkeet[[#This Row],[Suurimman alitusluvan mukainen velvoite 1.7.-31.12.2024 (pakkauksia)]],Lääkkeet[[#This Row],[Alin saldo 1.7.-31.12.2024 (pakkauksia)]])*Lääkkeet[[#This Row],[Kirjanpitoarvo / pakkaus 1.7.2024 (EUR ALV 0 %)]] -> 0 | W14: {=IFERROR(_xlfn.IFS(Lääkkeet[[#This Row],[Sitoutunut pääoma 1.1.-30.6.2024 (EUR)]]>0,"Täytetyt",Lääkkeet[[#This Row],[Sitoutunut pääoma 1.7.-31.12.2024 (EUR)]]>0,"Täytetyt"),"")} | Y14: =Hakulomake!$B$29 -> 0
A15: X | B15: =Hakulomake!$B$17 -> 0 | C15: 1 | D15: J01CA04 | E15: 006203 | F15: amoksisilliini | G15: Amorion | H15: 750 mg | I15: tabletti, kalvopäällysteinen | J15: 14 | O15: =MIN(Lääkkeet[[#This Row],[Velvoite 1.1.2024 (pakkauksia)]],Lääkkeet[[#This Row],[Suurimman alitusluvan mukainen velvoite 1.1.-30.6.2024 (pakkauksia)]],Lääkkeet[[#This Row],[Alin saldo 1.1.-30.6.2024 (pakkauksia)]])*Lääkkeet[[#This Row],[Kirjanpitoarvo / pakkaus 1.1.2024 (EUR ALV 0 %)]] -> 0 | U15: =MIN(Lääkkeet[[#This Row],[Velvoite 1.7.2024 (pakkauksia)]],Lääkkeet[[#This Row],[Suurimman alitusluvan mukainen velvoite 1.7.-31.12.2024 (pakkauksia)]],Lääkkeet[[#This Row],[Alin saldo 1.7.-31.12.2024 (pakkauksia)]])*Lääkkeet[[#This Row],[Kirjanpitoarvo / pakkaus 1.7.2024 (EUR ALV 0 %)]] -> 0 | W15: {=IFERROR(_xlfn.IFS(Lääkkeet[[#This Row],[Sitoutunut pääoma 1.1.-30.6.2024 (EUR)]]>0,"Täytetyt",Lääkkeet[[#This Row],[Sitoutunut pääoma 1.7.-31.12.2024 (EUR)]]>0,"Täytetyt"),"")} | Y15: =Hakulomake!$B$29 -> 0
A16: X | B16: =Hakulomake!$B$17 -> 0 | C16: 1 | D16: J01DB01 | E16: 006222 | F16: kefaleksiini | G16: Kefexin | H16: 750 mg | I16: tabletti, kalvopäällysteinen | J16: 14 | O16: =MIN(Lääkkeet[[#This Row],[Velvoite 1.1.2024 (pakkauksia)]],Lääkkeet[[#This Row],[Suurimman alitusluvan mukainen velvoite 1.1.-30.6.2024 (pakkauksia)]],Lääkkeet[[#This Row],[Alin saldo 1.1.-30.6.2024 (pakkauksia)]])*Lääkkeet[[#This Row],[Kirjanpitoarvo / pakkaus 1.1.2024 (EUR ALV 0 %)]] -> 0 | U16: =MIN(Lääkkeet[[#This Row],[Velvoite 1.7.2024 (pakkauksia)]],Lääkkeet[[#This Row],[Suurimman alitusluvan mukainen velvoite 1.7.-31.12.2024 (pakkauksia)]],Lääkkeet[[#This Row],[Alin saldo 1.7.-31.12.2024 (pakkauksia)]])*Lääkkeet[[#This Row],[Kirjanpitoarvo / pakkaus 1.7.2024 (EUR ALV 0 %)]] -> 0 | W16: {=IFERROR(_xlfn.IFS(Lääkkeet[[#This Row],[Sitoutunut pääoma 1.1.-30.6.2024 (EUR)]]>0,"Täytetyt",Lääkkeet[[#This Row],[Sitoutunut pääoma 1.7.-31.12.2024 (EUR)]]>0,"Täytetyt"),"")} | Y16: =Hakulomake!$B$29 -> 0
A17: X | B17: =Hakulomake!$B$17 -> 0 | C17: 1 | D17: J01CE02 | E17: 006279 | F17: fenoksimetyylipenisilliini | G17: V-Pen | H17: 50 mg/ml | I17: rakeet oraaliliuosta varten | J17: 100 ml | O17: =MIN(Lääkkeet[[#This Row],[Velvoite 1.1.2024 (pakkauksia)]],Lääkkeet[[#This Row],[Suurimman alitusluvan mukainen velvoite 1.1.-30.6.2024 (pakkauksia)]],Lääkkeet[[#This Row],[Alin saldo 1.1.-30.6.2024 (pakkauksia)]])*Lääkkeet[[#This Row],[Kirjanpitoarvo / pakkaus 1.1.2024 (EUR ALV 0 %)]] -> 0 | U17: =MIN(Lääkkeet[[#This Row],[Velvoite 1.7.2024 (pakkauksia)]],Lääkkeet[[#This Row],[Suurimman alitusluvan mukainen velvoite 1.7.-31.12.2024 (pakkauksia)]],Lääkkeet[[#This Row],[Alin saldo 1.7.-31.12.2024 (pakkauksia)]])*Lääkkeet[[#This Row],[Kirjanpitoarvo / pakkaus 1.7.2024 (EUR ALV 0 %)]] -> 0 | W17: {=IFERROR(_xlfn.IFS(Lääkkeet[[#This Row],[Sitoutunut pääoma 1.1.-30.6.2024 (EUR)]]>0,"Täytetyt",Lääkkeet[[#This Row],[Sitoutunut pääoma 1.7.-31.12.2024 (EUR)]]>0,"Täytetyt"),"")} | Y17: =Hakulomake!$B$29 -> 0
A18: X | B18: =Hakulomake!$B$17 -> 0 | C18: 1 | D18: J01CA04 | E18: 006299 | F18: amoksisilliini | G18: Amorion | H18: 100 mg/ml | I18: jauhe oraalisuspensiota varten | J18: 50 ml | O18: =MIN(Lääkkeet[[#This Row],[Velvoite 1.1.2024 (pakkauksia)]],Lääkkeet[[#This Row],[Suurimman alitusluvan mukainen velvoite 1.1.-30.6.2024 (pakkauksia)]],Lääkkeet[[#This Row],[Alin saldo 1.1.-30.6.2024 (pakkauksia)]])*Lääkkeet[[#This Row],[Kirjanpitoarvo / pakkaus 1.1.2024 (EUR ALV 0 %)]] -> 0 | U18: =MIN(Lääkkeet[[#This Row],[Velvoite 1.7.2024 (pakkauksia)]],Lääkkeet[[#This Row],[Suurimman alitusluvan mukainen velvoite 1.7.-31.12.2024 (pakkauksia)]],Lääkkeet[[#This Row],[Alin saldo 1.7.-31.12.2024 (pakkauksia)]])*Lääkkeet[[#This Row],[Kirjanpitoarvo / pakkaus 1.7.2024 (EUR ALV 0 %)]] -> 0 | W18: {=IFERROR(_xlfn.IFS(Lääkkeet[[#This Row],[Sitoutunut pääoma 1.1.-30.6.2024 (EUR)]]>0,"Täytetyt",Lääkkeet[[#This Row],[Sitoutunut pääoma 1.7.-31.12.2024 (EUR)]]>0,"Täytetyt"),"")} | Y18: =Hakulomake!$B$29 -> 0
A19: X | B19: =Hakulomake!$B$17 -> 0 | C19: 1 | D19: J01CE02 | E19: 006324 | F19: fenoksimetyylipenisilliini | G19: V-Pen | H19: 50 mg/ml | I19: rakeet oraaliliuosta varten | J19: 60 ml | O19: =MIN(Lääkkeet[[#This Row],[Velvoite 1.1.2024 (pakkauksia)]],Lääkkeet[[#This Row],[Suurimman alitusluvan mukainen velvoite 1.1.-30.6.2024 (pakkauksia)]],Lääkkeet[[#This Row],[Alin saldo 1.1.-30.6.2024 (pakkauksia)]])*Lääkkeet[[#This Row],[Kirjanpitoarvo / pakkaus 1.1.2024 (EUR ALV 0 %)]] -> 0 | U19: =MIN(Lääkkeet[[#This Row],[Velvoite 1.7.2024 (pakkauksia)]],Lääkkeet[[#This Row],[Suurimman alitusluvan mukainen velvoite 1.7.-31.12.2024 (pakkauksia)]],Lääkkeet[[#This Row],[Alin saldo 1.7.-31.12.2024 (pakkauksia)]])*Lääkkeet[[#This Row],[Kirjanpitoarvo / pakkaus 1.7.2024 (EUR ALV 0 %)]] -> 0 | W19: {=IFERROR(_xlfn.IFS(Lääkkeet[[#This Row],[Sitoutunut pääoma 1.1.-30.6.2024 (EUR)]]>0,"Täytetyt",Lääkkeet[[#This Row],[Sitoutunut pääoma 1.7.-31.12.2024 (EUR)]]>0,"Täytetyt"),"")} | Y19: =Hakulomake!$B$29 -> 0
A20: X | B20: =Hakulomake!$B$17 -> 0 | C20: 1 | D20: J01CA04 | E20: 006334 | F20: amoksisilliini | G20: Amorion | H20: 50 mg/ml | I20: jauhe oraalisuspensiota varten | J20: 60 ml | O20: =MIN(Lääkkeet[[#This Row],[Velvoite 1.1.2024 (pakkauksia)]],Lääkkeet[[#This Row],[Suurimman alitusluvan mukainen velvoite 1.1.-30.6.2024 (pakkauksia)]],Lääkkeet[[#This Row],[Alin saldo 1.1.-30.6.2024 (pakkauksia)]])*Lääkkeet[[#This Row],[Kirjanpitoarvo / pakkaus 1.1.2024 (EUR ALV 0 %)]] -> 0 | U20: =MIN(Lääkkeet[[#This Row],[Velvoite 1.7.2024 (pakkauksia)]],Lääkkeet[[#This Row],[Suurimman alitusluvan mukainen velvoite 1.7.-31.12.2024 (pakkauksia)]],Lääkkeet[[#This Row],[Alin saldo 1.7.-31.12.2024 (pakkauksia)]])*Lääkkeet[[#This Row],[Kirjanpitoarvo / pakkaus 1.7.2024 (EUR ALV 0 %)]] -> 0 | W20: {=IFERROR(_xlfn.IFS(Lääkkeet[[#This Row],[Sitoutunut pääoma 1.1.-30.6.2024 (EUR)]]>0,"Täytetyt",Lääkkeet[[#This Row],[Sitoutunut pääoma 1.7.-31.12.2024 (EUR)]]>0,"Täytetyt"),"")} | Y20: =Hakulomake!$B$29 -> 0
A21: X | B21: =Hakulomake!$B$17 -> 0 | C21: 1 | D21: J01CA04 | E21: 006350 | F21: amoksisilliini | G21: Amorion | H21: 50 mg/ml | I21: jauhe oraalisuspensiota varten | J21: 100 ml | O21: =MIN(Lääkkeet[[#This Row],[Velvoite 1.1.2024 (pakkauksia)]],Lääkkeet[[#This Row],[Suurimman alitusluvan mukainen velvoite 1.1.-30.6.2024 (pakkauksia)]],Lääkkeet[[#This Row],[Alin saldo 1.1.-30.6.2024 (pakkauksia)]])*Lääkkeet[[#This Row],[Kirjanpitoarvo / pakkaus 1.1.2024 (EUR ALV 0 %)]] -> 0 | U21: =MIN(Lääkkeet[[#This Row],[Velvoite 1.7.2024 (pakkauksia)]],Lääkkeet[[#This Row],[Suurimman alitusluvan mukainen velvoite 1.7.-31.12.2024 (pakkauksia)]],Lääkkeet[[#This Row],[Alin saldo 1.7.-31.12.2024 (pakkauksia)]])*Lääkkeet[[#This Row],[Kirjanpitoarvo / pakkaus 1.7.2024 (EUR ALV 0 %)]] -> 0 | W21: {=IFERROR(_xlfn.IFS(Lääkkeet[[#This Row],[Sitoutunut pääoma 1.1.-30.6.2024 (EUR)]]>0,"Täytetyt",Lääkkeet[[#This Row],[Sitoutunut pääoma 1.7.-31.12.2024 (EUR)]]>0,"Täytetyt"),"")} | Y21: =Hakulomake!$B$29 -> 0
A22: X | B22: =Hakulomake!$B$17 -> 0 | C22: 1 | D22: J01CE02 | E22: 006826 | F22: fenoksimetyylipenisilliini | G22: V-Pen 1500 | H22: 1500000 IU | I22: tabletti, kalvopäällysteinen | J22: 20 | O22: =MIN(Lääkkeet[[#This Row],[Velvoite 1.1.2024 (pakkauksia)]],Lääkkeet[[#This Row],[Suurimman alitusluvan mukainen velvoite 1.1.-30.6.2024 (pakkauksia)]],Lääkkeet[[#This Row],[Alin saldo 1.1.-30.6.2024 (pakkauksia)]])*Lääkkeet[[#This Row],[Kirjanpitoarvo / pakkaus 1.1.2024 (EUR ALV 0 %)]] -> 0 | U22: =MIN(Lääkkeet[[#This Row],[Velvoite 1.7.2024 (pakkauksia)]],Lääkkeet[[#This Row],[Suurimman alitusluvan mukainen velvoite 1.7.-31.12.2024 (pakkauksia)]],Lääkkeet[[#This Row],[Alin saldo 1.7.-31.12.2024 (pakkauksia)]])*Lääkkeet[[#This Row],[Kirjanpitoarvo / pakkaus 1.7.2024 (EUR ALV 0 %)]] -> 0 | W22: {=IFERROR(_xlfn.IFS(Lääkkeet[[#This Row],[Sitoutunut pääoma 1.1.-30.6.2024 (EUR)]]>0,"Täytetyt",Lääkkeet[[#This Row],[Sitoutunut pääoma 1.7.-31.12.2024 (EUR)]]>0,"Täytetyt"),"")} | Y22: =Hakulomake!$B$29 -> 0
A23: X | B23: =Hakulomake!$B$17 -> 0 | C23: 1 | D23: J01CA04 | E23: 006989 | F23: amoksisilliini | G23: Amorion | H23: 500 mg | I23: tabletti, kalvopäällysteinen | J23: 20 | O23: =MIN(Lääkkeet[[#This Row],[Velvoite 1.1.2024 (pakkauksia)]],Lääkkeet[[#This Row],[Suurimman alitusluvan mukainen velvoite 1.1.-30.6.2024 (pakkauksia)]],Lääkkeet[[#This Row],[Alin saldo 1.1.-30.6.2024 (pakkauksia)]])*Lääkkeet[[#This Row],[Kirjanpitoarvo / pakkaus 1.1.2024 (EUR ALV 0 %)]] -> 0 | U23: =MIN(Lääkkeet[[#This Row],[Velvoite 1.7.2024 (pakkauksia)]],Lääkkeet[[#This Row],[Suurimman alitusluvan mukainen velvoite 1.7.-31.12.2024 (pakkauksia)]],Lääkkeet[[#This Row],[Alin saldo 1.7.-31.12.2024 (pakkauksia)]])*Lääkkeet[[#This Row],[Kirjanpitoarvo / pakkaus 1.7.2024 (EUR ALV 0 %)]] -> 0 | W23: {=IFERROR(_xlfn.IFS(Lääkkeet[[#This Row],[Sitoutunut pääoma 1.1.-30.6.2024 (EUR)]]>0,"Täytetyt",Lääkkeet[[#This Row],[Sitoutunut pääoma 1.7.-31.12.2024 (EUR)]]>0,"Täytetyt"),"")} | Y23: =Hakulomake!$B$29 -> 0
A24: X | B24: =Hakulomake!$B$17 -> 0 | C24: 1 | D24: J01CA04 | E24: 006998 | F24: amoksisilliini | G24: Amorion | H24: 500 mg | I24: tabletti, kalvopäällysteinen | J24: 30 | O24: =MIN(Lääkkeet[[#This Row],[Velvoite 1.1.2024 (pakkauksia)]],Lääkkeet[[#This Row],[Suurimman alitusluvan mukainen velvoite 1.1.-30.6.2024 (pakkauksia)]],Lääkkeet[[#This Row],[Alin saldo 1.1.-30.6.2024 (pakkauksia)]])*Lääkkeet[[#This Row],[Kirjanpitoarvo / pakkaus 1.1.2024 (EUR ALV 0 %)]] -> 0 | U24: =MIN(Lääkkeet[[#This Row],[Velvoite 1.7.2024 (pakkauksia)]],Lääkkeet[[#This Row],[Suurimman alitusluvan mukainen velvoite 1.7.-31.12.2024 (pakkauksia)]],Lääkkeet[[#This Row],[Alin saldo 1.7.-31.12.2024 (pakkauksia)]])*Lääkkeet[[#This Row],[Kirjanpitoarvo / pakkaus 1.7.2024 (EUR ALV 0 %)]] -> 0 | W24: {=IFERROR(_xlfn.IFS(Lääkkeet[[#This Row],[Sitoutunut pääoma 1.1.-30.6.2024 (EUR)]]>0,"Täytetyt",Lääkkeet[[#This Row],[Sitoutunut pääoma 1.7.-31.12.2024 (EUR)]]>0,"Täytetyt"),"")} | Y24: =Hakulomake!$B$29 -> 0
A25: X | B25: =Hakulomake!$B$17 -> 0 | C25: 1 | D25: J01CA04 | E25: 007009 | F25: amoksisilliini | G25: Amorion | H25: 750 mg | I25: tabletti, kalvopäällysteinen | J25: 20 | O25: =MIN(Lääkkeet[[#This Row],[Velvoite 1.1.2024 (pakkauksia)]],Lääkkeet[[#This Row],[Suurimman alitusluvan mukainen velvoite 1.1.-30.6.2024 (pakkauksia)]],Lääkkeet[[#This Row],[Alin saldo 1.1.-30.6.2024 (pakkauksia)]])*Lääkkeet[[#This Row],[Kirjanpitoarvo / pakkaus 1.1.2024 (EUR ALV 0 %)]] -> 0 | U25: =MIN(Lääkkeet[[#This Row],[Velvoite 1.7.2024 (pakkauksia)]],Lääkkeet[[#This Row],[Suurimman alitusluvan mukainen velvoite 1.7.-31.12.2024 (pakkauksia)]],Lääkkeet[[#This Row],[Alin saldo 1.7.-31.12.2024 (pakkauksia)]])*Lääkkeet[[#This Row],[Kirjanpitoarvo / pakkaus 1.7.2024 (EUR ALV 0 %)]] -> 0 | W25: {=IFERROR(_xlfn.IFS(Lääkkeet[[#This Row],[Sitoutunut pääoma 1.1.-30.6.2024 (EUR)]]>0,"Täytetyt",Lääkkeet[[#This Row],[Sitoutunut pääoma 1.7.-31.12.2024 (EUR)]]>0,"Täytetyt"),"")} | Y25: =Hakulomake!$B$29 -> 0
A26: X | B26: =Hakulomake!$B$17 -> 0 | C26: 1 | D26: J01DB01 | E26: 007050 | F26: kefaleksiini | G26: Kefexin | H26: 250 mg | I26: tabletti, kalvopäällysteinen | J26: 30 | O26: =MIN(Lääkkeet[[#This Row],[Velvoite 1.1.2024 (pakkauksia)]],Lääkkeet[[#This Row],[Suurimman alitusluvan mukainen velvoite 1.1.-30.6.2024 (pakkauksia)]],Lääkkeet[[#This Row],[Alin saldo 1.1.-30.6.2024 (pakkauksia)]])*Lääkkeet[[#This Row],[Kirjanpitoarvo / pakkaus 1.1.2024 (EUR ALV 0 %)]] -> 0 | U26: =MIN(Lääkkeet[[#This Row],[Velvoite 1.7.2024 (pakkauksia)]],Lääkkeet[[#This Row],[Suurimman alitusluvan mukainen velvoite 1.7.-31.12.2024 (pakkauksia)]],Lääkkeet[[#This Row],[Alin saldo 1.7.-31.12.2024 (pakkauksia)]])*Lääkkeet[[#This Row],[Kirjanpitoarvo / pakkaus 1.7.2024 (EUR ALV 0 %)]] -> 0 | W26: {=IFERROR(_xlfn.IFS(Lääkkeet[[#This Row],[Sitoutunut pääoma 1.1.-30.6.2024 (EUR)]]>0,"Täytetyt",Lääkkeet[[#This Row],[Sitoutunut pääoma 1.7.-31.12.2024 (EUR)]]>0,"Täytetyt"),"")} | Y26: =Hakulomake!$B$29 -> 0
A27: X | B27: =Hakulomake!$B$17 -> 0 | C27: 1 | D27: J01DB01 | E27: 007061 | F27: kefaleksiini | G27: Kefexin | H27: 500 mg | I27: tabletti, kalvopäällysteinen | J27: 20 | O27: =MIN(Lääkkeet[[#This Row],[Velvoite 1.1.2024 (pakkauksia)]],Lääkkeet[[#This Row],[Suurimman alitusluvan mukainen velvoite 1.1.-30.6.2024 (pakkauksia)]],Lääkkeet[[#This Row],[Alin saldo 1.1.-30.6.2024 (pakkauksia)]])*Lääkkeet[[#This Row],[Kirjanpitoarvo / pakkaus 1.1.2024 (EUR ALV 0 %)]] -> 0 | U27: =MIN(Lääkkeet[[#This Row],[Velvoite 1.7.2024 (pakkauksia)]],Lääkkeet[[#This Row],[Suurimman alitusluvan mukainen velvoite 1.7.-31.12.2024 (pakkauksia)]],Lääkkeet[[#This Row],[Alin saldo 1.7.-31.12.2024 (pakkauksia)]])*Lääkkeet[[#This Row],[Kirjanpitoarvo / pakkaus 1.7.2024 (EUR ALV 0 %)]] -> 0 | W27: {=IFERROR(_xlfn.IFS(Lääkkeet[[#This Row],[Sitoutunut pääoma 1.1.-30.6.2024 (EUR)]]>0,"Täytetyt",Lääkkeet[[#This Row],[Sitoutunut pääoma 1.7.-31.12.2024 (EUR)]]>0,"Täytetyt"),"")} | Y27: =Hakulomake!$B$29 -> 0
A28: X | B28: =Hakulomake!$B$17 -> 0 | C28: 1 | D28: J01DB01 | E28: 007072 | F28: kefaleksiini | G28: Kefexin | H28: 500 mg | I28: tabletti, kalvopäällysteinen | J28: 30 | O28: =MIN(Lääkkeet[[#This Row],[Velvoite 1.1.2024 (pakkauksia)]],Lääkkeet[[#This Row],[Suurimman alitusluvan mukainen velvoite 1.1.-30.6.2024 (pakkauksia)]],Lääkkeet[[#This Row],[Alin saldo 1.1.-30.6.2024 (pakkauksia)]])*Lääkkeet[[#This Row],[Kirjanpitoarvo / pakkaus 1.1.2024 (EUR ALV 0 %)]] -> 0 | U28: =MIN(Lääkkeet[[#This Row],[Velvoite 1.7.2024 (pakkauksia)]],Lääkkeet[[#This Row],[Suurimman alitusluvan mukainen velvoite 1.7.-31.12.2024 (pakkauksia)]],Lääkkeet[[#This Row],[Alin saldo 1.7.-31.12.2024 (pakkauksia)]])*Lääkkeet[[#This Row],[Kirjanpitoarvo / pakkaus 1.7.2024 (EUR ALV 0 %)]] -> 0 | W28: {=IFERROR(_xlfn.IFS(Lääkkeet[[#This Row],[Sitoutunut pääoma 1.1.-30.6.2024 (EUR)]]>0,"Täytetyt",Lääkkeet[[#This Row],[Sitoutunut pääoma 1.7.-31.12.2024 (EUR)]]>0,"Täytetyt"),"")} | Y28: =Hakulomake!$B$29 -> 0
A29: X | B29: =Hakulomake!$B$17 -> 0 | C29: 1 | D29: J01DB01 | E29: 007083 | F29: kefaleksiini | G29: Kefexin | H29: 750 mg | I29: tabletti, kalvopäällysteinen | J29: 20 | O29: =MIN(Lääkkeet[[#This Row],[Velvoite 1.1.2024 (pakkauksia)]],Lääkkeet[[#This Row],[Suurimman alitusluvan mukainen velvoite 1.1.-30.6.2024 (pakkauksia)]],Lääkkeet[[#This Row],[Alin saldo 1.1.-30.6.2024 (pakkauksia)]])*Lääkkeet[[#This Row],[Kirjanpitoarvo / pakkaus 1.1.2024 (EUR ALV 0 %)]] -> 0 | U29: =MIN(Lääkkeet[[#This Row],[Velvoite 1.7.2024 (pakkauksia)]],Lääkkeet[[#This Row],[Suurimman alitusluvan mukainen velvoite 1.7.-31.12.2024 (pakkauksia)]],Lääkkeet[[#This Row],[Alin saldo 1.7.-31.12.2024 (pakkauksia)]])*Lääkkeet[[#This Row],[Kirjanpitoarvo / pakkaus 1.7.2024 (EUR ALV 0 %)]] -> 0 | W29: {=IFERROR(_xlfn.IFS(Lääkkeet[[#This Row],[Sitoutunut pääoma 1.1.-30.6.2024 (EUR)]]>0,"Täytetyt",Lääkkeet[[#This Row],[Sitoutunut pääoma 1.7.-31.12.2024 (EUR)]]>0,"Täytetyt"),"")} | Y29: =Hakulomake!$B$29 -> 0
A30: X | B30: =Hakulomake!$B$17 -> 0 | C30: 1 | D30: J01CE02 | E30: 007181 | F30: fenoksimetyylipenisilliini | G30: V-Pen Mega | H30: 1000000 IU | I30: tabletti, kalvopäällysteinen | J30: 20 | O30: =MIN(Lääkkeet[[#This Row],[Velvoite 1.1.2024 (pakkauksia)]],Lääkkeet[[#This Row],[Suurimman alitusluvan mukainen velvoite 1.1.-30.6.2024 (pakkauksia)]],Lääkkeet[[#This Row],[Alin saldo 1.1.-30.6.2024 (pakkauksia)]])*Lääkkeet[[#This Row],[Kirjanpitoarvo / pakkaus 1.1.2024 (EUR ALV 0 %)]] -> 0 | U30: =MIN(Lääkkeet[[#This Row],[Velvoite 1.7.2024 (pakkauksia)]],Lääkkeet[[#This Row],[Suurimman alitusluvan mukainen velvoite 1.7.-31.12.2024 (pakkauksia)]],Lääkkeet[[#This Row],[Alin saldo 1.7.-31.12.2024 (pakkauksia)]])*Lääkkeet[[#This Row],[Kirjanpitoarvo / pakkaus 1.7.2024 (EUR ALV 0 %)]] -> 0 | W30: {=IFERROR(_xlfn.IFS(Lääkkeet[[#This Row],[Sitoutunut pääoma 1.1.-30.6.2024 (EUR)]]>0,"Täytetyt",Lääkkeet[[#This Row],[Sitoutunut pääoma 1.7.-31.12.2024 (EUR)]]>0,"Täytetyt"),"")} | Y30: =Hakulomake!$B$29 -> 0
A31: X | B31: =Hakulomake!$B$17 -> 0 | C31: 1 | D31: J01CE02 | E31: 007190 | F31: fenoksimetyylipenisilliini | G31: V-Pen Mega | H31: 1000000 IU | I31: tabletti, kalvopäällysteinen | J31: 30 | O31: =MIN(Lääkkeet[[#This Row],[Velvoite 1.1.2024 (pakkauksia)]],Lääkkeet[[#This Row],[Suurimman alitusluvan mukainen velvoite 1.1.-30.6.2024 (pakkauksia)]],Lääkkeet[[#This Row],[Alin saldo 1.1.-30.6.2024 (pakkauksia)]])*Lääkkeet[[#This Row],[Kirjanpitoarvo / pakkaus 1.1.2024 (EUR ALV 0 %)]] -> 0 | U31: =MIN(Lääkkeet[[#This Row],[Velvoite 1.7.2024 (pakkauksia)]],Lääkkeet[[#This Row],[Suurimman alitusluvan mukainen velvoite 1.7.-31.12.2024 (pakkauksia)]],Lääkkeet[[#This Row],[Alin saldo 1.7.-31.12.2024 (pakkauksia)]])*Lääkkeet[[#This Row],[Kirjanpitoarvo / pakkaus 1.7.2024 (EUR ALV 0 %)]] -> 0 | W31: {=IFERROR(_xlfn.IFS(Lääkkeet[[#This Row],[Sitoutunut pääoma 1.1.-30.6.2024 (EUR)]]>0,"Täytetyt",Lääkkeet[[#This Row],[Sitoutunut pääoma 1.7.-31.12.2024 (EUR)]]>0,"Täytetyt"),"")} | Y31: =Hakulomake!$B$29 -> 0
A32: X | B32: =Hakulomake!$B$17 -> 0 | C32: 1 | D32: J01EA01 | E32: 010180 | F32: trimetopriimi | G32: TRIMETIN | H32: 300 mg | I32: tabletti | J32: 10 | O32: =MIN(Lääkkeet[[#This Row],[Velvoite 1.1.2024 (pakkauksia)]],Lääkkeet[[#This Row],[Suurimman alitusluvan mukainen velvoite 1.1.-30.6.2024 (pakkauksia)]],Lääkkeet[[#This Row],[Alin saldo 1.1.-30.6.2024 (pakkauksia)]])*Lääkkeet[[#This Row],[Kirjanpitoarvo / pakkaus 1.1.2024 (EUR ALV 0 %)]] -> 0 | U32: =MIN(Lääkkeet[[#This Row],[Velvoite 1.7.2024 (pakkauksia)]],Lääkkeet[[#This Row],[Suurimman alitusluvan mukainen velvoite 1.7.-31.12.2024 (pakkauksia)]],Lääkkeet[[#This Row],[Alin saldo 1.7.-31.12.2024 (pakkauksia)]])*Lääkkeet[[#This Row],[Kirjanpitoarvo / pakkaus 1.7.2024 (EUR ALV 0 %)]] -> 0 | W32: {=IFERROR(_xlfn.IFS(Lääkkeet[[#This Row],[Sitoutunut pääoma 1.1.-30.6.2024 (EUR)]]>0,"Täytetyt",Lääkkeet[[#This Row],[Sitoutunut pääoma 1.7.-31.12.2024 (EUR)]]>0,"Täytetyt"),"")} | Y32: =Hakulomake!$B$29 -> 0
A33: X | B33: =Hakulomake!$B$17 -> 0 | C33: 1 | D33: J01MA02 | E33: 010519 | F33: siprofloksasiini | G33: Ciprofloxacin Ratiopharm | H33: 250 mg | I33: tabletti, kalvopäällysteinen | J33: 10 | O33: =MIN(Lääkkeet[[#This Row],[Velvoite 1.1.2024 (pakkauksia)]],Lääkkeet[[#This Row],[Suurimman alitusluvan mukainen velvoite 1.1.-30.6.2024 (pakkauksia)]],Lääkkeet[[#This Row],[Alin saldo 1.1.-30.6.2024 (pakkauksia)]])*Lääkkeet[[#This Row],[Kirjanpitoarvo / pakkaus 1.1.2024 (EUR ALV 0 %)]] -> 0 | U33: =MIN(Lääkkeet[[#This Row],[Velvoite 1.7.2024 (pakkauksia)]],Lääkkeet[[#This Row],[Suurimman alitusluvan mukainen velvoite 1.7.-31.12.2024 (pakkauksia)]],Lääkkeet[[#This Row],[Alin saldo 1.7.-31.12.2024 (pakkauksia)]])*Lääkkeet[[#This Row],[Kirjanpitoarvo / pakkaus 1.7.2024 (EUR ALV 0 %)]] -> 0 | W33: {=IFERROR(_xlfn.IFS(Lääkkeet[[#This Row],[Sitoutunut pääoma 1.1.-30.6.2024 (EUR)]]>0,"Täytetyt",Lääkkeet[[#This Row],[Sitoutunut pääoma 1.7.-31.12.2024 (EUR)]]>0,"Täytetyt"),"")} | Y33: =Hakulomake!$B$29 -> 0
... A38: X | B38: =Hakulomake!$B$17 -> 0 | C38: 1 | D38: J01EA01 | E38: 010797 | F38: trimetopriimi | G38: TRIMETIN | H38: 300 mg | I38: tabletti | J38: 5 | O38: =MIN(Lääkkeet[[#This Row],[Velvoite 1.1.2024 (pakkauksia)]],Lääkkeet[[#This Row],[Suurimman alitusluvan mukainen velvoite 1.1.-30.6.2024 (pakkauksia)]],Lääkkeet[[#This Row],[Alin saldo 1.1.-30.6.2024 (pakkauksia)]])*Lääkkeet[[#This Row],[Kirjanpitoarvo / pakkaus 1.1.2024 (EUR ALV 0 %)]] -> 0 | U38: =MIN(Lääkkeet[[#This Row],[Velvoite 1.7.2024 (pakkauksia)]],Lääkkeet[[#This Row],[Suurimman alitusluvan mukainen velvoite 1.7.-31.12.2024 (pakkauksia)]],Lääkkeet[[#This Row],[Alin saldo 1.7.-31.12.2024 (pakkauksia)]])*Lääkkeet[[#This Row],[Kirjanpitoarvo / pakkaus 1.7.2024 (EUR ALV 0 %)]] -> 0 | W38: {=IFERROR(_xlfn.IFS(Lääkkeet[[#This Row],[Sitoutunut pääoma 1.1.-30.6.2024 (EUR)]]>0,"Täytetyt",Lääkkeet[[#This Row],[Sitoutunut pääoma 1.7.-31.12.2024 (EUR)]]>0,"Täytetyt"),"")} | Y38: =Hakulomake!$B$29 -> 0
A39: X | B39: =Hakulomake!$B$17 -> 0 | C39: 1 | D39: J01DC02 | E39: 010897 | F39: kefuroksiimi | G39: Cefuroxime Orion Pharma | H39: 1.5 g | I39: injektio/infuusiokuiva-aine liuosta/suspensiota varten | J39: 10 x 1.5 g | O39: =MIN(Lääkkeet[[#This Row],[Velvoite 1.1.2024 (pakkauksia)]],Lääkkeet[[#This Row],[Suurimman alitusluvan mukainen velvoite 1.1.-30.6.2024 (pakkauksia)]],Lääkkeet[[#This Row],[Alin saldo 1.1.-30.6.2024 (pakkauksia)]])*Lääkkeet[[#This Row],[Kirjanpitoarvo / pakkaus 1.1.2024 (EUR ALV 0 %)]] -> 0 | U39: =MIN(Lääkkeet[[#This Row],[Velvoite 1.7.2024 (pakkauksia)]],Lääkkeet[[#This Row],[Suurimman alitusluvan mukainen velvoite 1.7.-31.12.2024 (pakkauksia)]],Lääkkeet[[#This Row],[Alin saldo 1.7.-31.12.2024 (pakkauksia)]])*Lääkkeet[[#This Row],[Kirjanpitoarvo / pakkaus 1.7.2024 (EUR ALV 0 %)]] -> 0 | W39: {=IFERROR(_xlfn.IFS(Lääkkeet[[#This Row],[Sitoutunut pääoma 1.1.-30.6.2024 (EUR)]]>0,"Täytetyt",Lääkkeet[[#This Row],[Sitoutunut pääoma 1.7.-31.12.2024 (EUR)]]>0,"Täytetyt"),"")} | Y39: =Hakulomake!$B$29 -> 0
A40: X | B40: =Hakulomake!$B$17 -> 0 | C40: 1 | D40: J01DC02 | E40: 011316 | F40: kefuroksiimi | G40: Cefuroxime Orion Pharma | H40: 750 mg | I40: injektio/infuusiokuiva-aine liuosta/suspensiota varten | J40: 10 x 750 mg | O40: =MIN(Lääkkeet[[#This Row],[Velvoite 1.1.2024 (pakkauksia)]],Lääkkeet[[#This Row],[Suurimman alitusluvan mukainen velvoite 1.1.-30.6.2024 (pakkauksia)]],Lääkkeet[[#This Row],[Alin saldo 1.1.-30.6.2024 (pakkauksia)]])*Lääkkeet[[#This Row],[Kirjanpitoarvo / pakkaus 1.1.2024 (EUR ALV 0 %)]] -> 0 | U40: =MIN(Lääkkeet[[#This Row],[Velvoite 1.7.2024 (pakkauksia)]],Lääkkeet[[#This Row],[Suurimman alitusluvan mukainen velvoite 1.7.-31.12.2024 (pakkauksia)]],Lääkkeet[[#This Row],[Alin saldo 1.7.-31.12.2024 (pakkauksia)]])*Lääkkeet[[#This Row],[Kirjanpitoarvo / pakkaus 1.7.2024 (EUR ALV 0 %)]] -> 0 | W40: {=IFERROR(_xlfn.IFS(Lääkkeet[[#This Row],[Sitoutunut pääoma 1.1.-30.6.2024 (EUR)]]>0,"Täytetyt",Lääkkeet[[#This Row],[Sitoutunut pääoma 1.7.-31.12.2024 (EUR)]]>0,"Täytetyt"),"")} | Y40: =Hakulomake!$B$29 -> 0
A41: X | B41: =Hakulomake!$B$17 -> 0 | C41: 1 | D41: QJ01CE01 | E41: 011718 | F41: Bentsyylipenisilliini | G41: Geepenil vet | H41: 24 g | I41: injektiokuiva-aine ja liuotin, liuosta varten | J41: 24.0 g + 64 ml | O41: =MIN(Lääkkeet[[#This Row],[Velvoite 1.1.2024 (pakkauksia)]],Lääkkeet[[#This Row],[Suurimman alitusluvan mukainen velvoite 1.1.-30.6.2024 (pakkauksia)]],Lääkkeet[[#This Row],[Alin saldo 1.1.-30.6.2024 (pakkauksia)]])*Lääkkeet[[#This Row],[Kirjanpitoarvo / pakkaus 1.1.2024 (EUR ALV 0 %)]] -> 0 | U41: =MIN(Lääkkeet[[#This Row],[Velvoite 1.7.2024 (pakkauksia)]],Lääkkeet[[#This Row],[Suurimman alitusluvan mukainen velvoite 1.7.-31.12.2024 (pakkauksia)]],Lääkkeet[[#This Row],[Alin saldo 1.7.-31.12.2024 (pakkauksia)]])*Lääkkeet[[#This Row],[Kirjanpitoarvo / pakkaus 1.7.2024 (EUR ALV 0 %)]] -> 0 | W41: {=IFERROR(_xlfn.IFS(Lääkkeet[[#This Row],[Sitoutunut pääoma 1.1.-30.6.2024 (EUR)]]>0,"Täytetyt",Lääkkeet[[#This Row],[Sitoutunut pääoma 1.7.-31.12.2024 (EUR)]]>0,"Täytetyt"),"")} | Y41: =Hakulomake!$B$29 -> 0
A42: X | B42: =Hakulomake!$B$17 -> 0 | C42: 1 | D42: QJ01CE01 | E42: 011858 | F42: Bentsyylipenisilliini | G42: Geepenil vet | H42: 24 g | I42: injektiokuiva-aine ja liuotin, liuosta varten | J42: 10 x (24.0 g + 64 ml) | O42: =MIN(Lääkkeet[[#This Row],[Velvoite 1.1.2024 (pakkauksia)]],Lääkkeet[[#This Row],[Suurimman alitusluvan mukainen velvoite 1.1.-30.6.2024 (pakkauksia)]],Lääkkeet[[#This Row],[Alin saldo 1.1.-30.6.2024 (pakkauksia)]])*Lääkkeet[[#This Row],[Kirjanpitoarvo / pakkaus 1.1.2024 (EUR ALV 0 %)]] -> 0 | U42: =MIN(Lääkkeet[[#This Row],[Velvoite 1.7.2024 (pakkauksia)]],Lääkkeet[[#This Row],[Suurimman alitusluvan mukainen velvoite 1.7.-31.12.2024 (pakkauksia)]],Lääkkeet[[#This Row],[Alin saldo 1.7.-31.12.2024 (pakkauksia)]])*Lääkkeet[[#This Row],[Kirjanpitoarvo / pakkaus 1.7.2024 (EUR ALV 0 %)]] -> 0 | W42: {=IFERROR(_xlfn.IFS(Lääkkeet[[#This Row],[Sitoutunut pääoma 1.1.-30.6.2024 (EUR)]]>0,"Täytetyt",Lääkkeet[[#This Row],[Sitoutunut pääoma 1.7.-31.12.2024 (EUR)]]>0,"Täytetyt"),"")} | Y42: =Hakulomake!$B$29 -> 0
A43: X | B43: =Hakulomake!$B$17 -> 0 | C43: 1 | D43: J05AB01 | E43: 013177 | F43: asikloviiri | G43: Zovirax | I43: infuusiokuiva-aine, liuosta varten | J43: 5 x 500 mg | O43: =MIN(Lääkkeet[[#This Row],[Velvoite 1.1.2024 (pakkauksia)]],Lääkkeet[[#This Row],[Suurimman alitusluvan mukainen velvoite 1.1.-30.6.2024 (pakkauksia)]],Lääkkeet[[#This Row],[Alin saldo 1.1.-30.6.2024 (pakkauksia)]])*Lääkkeet[[#This Row],[Kirjanpitoarvo / pakkaus 1.1.2024 (EUR ALV 0 %)]] -> 0 | U43: =MIN(Lääkkeet[[#This Row],[Velvoite 1.7.2024 (pakkauksia)]],Lääkkeet[[#This Row],[Suurimman alitusluvan mukainen velvoite 1.7.-31.12.2024 (pakkauksia)]],Lääkkeet[[#This Row],[Alin saldo 1.7.-31.12.2024 (pakkauksia)]])*Lääkkeet[[#This Row],[Kirjanpitoarvo / pakkaus 1.7.2024 (EUR ALV 0 %)]] -> 0 | W43: {=IFERROR(_xlfn.IFS(Lääkkeet[[#This Row],[Sitoutunut pääoma 1.1.-30.6.2024 (EUR)]]>0,"Täytetyt",Lääkkeet[[#This Row],[Sitoutunut pääoma 1.7.-31.12.2024 (EUR)]]>0,"Täytetyt"),"")} | Y43: =Hakulomake!$B$29 -> 0
A44: X | B44: =Hakulomake!$B$17 -> 0 | C44: 1 | D44: J02AC01 | E44: 015406 | F44: flukonatsoli | G44: Fluconazol Orion | H44: 100 mg | I44: kapseli, kova | J44: 28 | O44: =MIN(Lääkkeet[[#This Row],[Velvoite 1.1.2024 (pakkauksia)]],Lääkkeet[[#This Row],[Suurimman alitusluvan mukainen velvoite 1.1.-30.6.2024 (pakkauksia)]],Lääkkeet[[#This Row],[Alin saldo 1.1.-30.6.2024 (pakkauksia)]])*Lääkkeet[[#This Row],[Kirjanpitoarvo / pakkaus 1.1.2024 (EUR ALV 0 %)]] -> 0 | U44: =MIN(Lääkkeet[[#This Row],[Velvoite 1.7.2024 (pakkauksia)]],Lääkkeet[[#This Row],[Suurimman alitusluvan mukainen velvoite 1.7.-31.12.2024 (pakkauksia)]],Lääkkeet[[#This Row],[Alin saldo 1.7.-31.12.2024 (pakkauksia)]])*Lääkkeet[[#This Row],[Kirjanpitoarvo / pakkaus 1.7.2024 (EUR ALV 0 %)]] -> 0 | W44: {=IFERROR(_xlfn.IFS(Lääkkeet[[#This Row],[Sitoutunut pääoma 1.1.-30.6.2024 (EUR)]]>0,"Täytetyt",Lääkkeet[[#This Row],[Sitoutunut pääoma 1.7.-31.12.2024 (EUR)]]>0,"Täytetyt"),"")} | Y44: =Hakulomake!$B$29 -> 0
A45: X | B45: =Hakulomake!$B$17 -> 0 | C45: 1 | D45: J02AC01 | E45: 015417 | F45: flukonatsoli | G45: Fluconazol Orion | H45: 150 mg | I45: kapseli, kova | J45: 1 | O45: =MIN(Lääkkeet[[#This Row],[Velvoite 1.1.2024 (pakkauksia)]],Lääkkeet[[#This Row],[Suurimman alitusluvan mukainen velvoite 1.1.-30.6.2024 (pakkauksia)]],Lääkkeet[[#This Row],[Alin saldo 1.1.-30.6.2024 (pakkauksia)]])*Lääkkeet[[#This Row],[Kirjanpitoarvo / pakkaus 1.1.2024 (EUR ALV 0 %)]] -> 0 | U45: =MIN(Lääkkeet[[#This Row],[Velvoite 1.7.2024 (pakkauksia)]],Lääkkeet[[#This Row],[Suurimman alitusluvan mukainen velvoite 1.7.-31.12.2024 (pakkauksia)]],Lääkkeet[[#This Row],[Alin saldo 1.7.-31.12.2024 (pakkauksia)]])*Lääkkeet[[#This Row],[Kirjanpitoarvo / pakkaus 1.7.2024 (EUR ALV 0 %)]] -> 0 | W45: {=IFERROR(_xlfn.IFS(Lääkkeet[[#This Row],[Sitoutunut pääoma 1.1.-30.6.2024 (EUR)]]>0,"Täytetyt",Lääkkeet[[#This Row],[Sitoutunut pääoma 1.7.-31.12.2024 (EUR)]]>0,"Täytetyt"),"")} | Y45: =Hakulomake!$B$29 -> 0
A46: X | B46: =Hakulomake!$B$17 -> 0 | C46: 1 | D46: J02AC01 | E46: 015428 | F46: flukonatsoli | G46: Fluconazol Orion | H46: 150 mg | I46: kapseli, kova | J46: 4 | O46: =MIN(Lääkkeet[[#This Row],[Velvoite 1.1.2024 (pakkauksia)]],Lääkkeet[[#This Row],[Suurimman alitusluvan mukainen velvoite 1.1.-30.6.2024 (pakkauksia)]],Lääkkeet[[#This Row],[Alin saldo 1.1.-30.6.2024 (pakkauksia)]])*Lääkkeet[[#This Row],[Kirjanpitoarvo / pakkaus 1.1.2024 (EUR ALV 0 %)]] -> 0 | U46: =MIN(Lääkkeet[[#This Row],[Velvoite 1.7.2024 (pakkauksia)]],Lääkkeet[[#This Row],[Suurimman alitusluvan mukainen velvoite 1.7.-31.12.2024 (pakkauksia)]],Lääkkeet[[#This Row],[Alin saldo 1.7.-31.12.2024 (pakkauksia)]])*Lääkkeet[[#This Row],[Kirjanpitoarvo / pakkaus 1.7.2024 (EUR ALV 0 %)]] -> 0 | W46: {=IFERROR(_xlfn.IFS(Lääkkeet[[#This Row],[Sitoutunut pääoma 1.1.-30.6.2024 (EUR)]]>0,"Täytetyt",Lääkkeet[[#This Row],[Sitoutunut pääoma 1.7.-31.12.2024 (EUR)]]>0,"Täytetyt"),"")} | Y46: =Hakulomake!$B$29 -> 0
A47: X | B47: =Hakulomake!$B$17 -> 0 | C47: 1 | D47: J02AC01 | E47: 015430 | F47: flukonatsoli | G47: Fluconazol Orion | H47: 100 mg | I47: kapseli, kova | J47: 7 | O47: =MIN(Lääkkeet[[#This Row],[Velvoite 1.1.2024 (pakkauksia)]],Lääkkeet[[#This Row],[Suurimman alitusluvan mukainen velvoite 1.1.-30.6.2024 (pakkauksia)]],Lääkkeet[[#This Row],[Alin saldo 1.1.-30.6.2024 (pakkauksia)]])*Lääkkeet[[#This Row],[Kirjanpitoarvo / pakkaus 1.1.2024 (EUR ALV 0 %)]] -> 0 | U47: =MIN(Lääkkeet[[#This Row],[Velvoite 1.7.2024 (pakkauksia)]],Lääkkeet[[#This Row],[Suurimman alitusluvan mukainen velvoite 1.7.-31.12.2024 (pakkauksia)]],Lääkkeet[[#This Row],[Alin saldo 1.7.-31.12.2024 (pakkauksia)]])*Lääkkeet[[#This Row],[Kirjanpitoarvo / pakkaus 1.7.2024 (EUR ALV 0 %)]] -> 0 | W47: {=IFERROR(_xlfn.IFS(Lääkkeet[[#This Row],[Sitoutunut pääoma 1.1.-30.6.2024 (EUR)]]>0,"Täytetyt",Lääkkeet[[#This Row],[Sitoutunut pääoma 1.7.-31.12.2024 (EUR)]]>0,"Täytetyt"),"")} | Y47: =Hakulomake!$B$29 -> 0
A48: X | B48: =Hakulomake!$B$17 -> 0 | C48: 1 | D48: J02AC01 | E48: 015439 | F48: flukonatsoli | G48: Fluconazol Orion | H48: 150 mg | I48: kapseli, kova | J48: 12 | O48: =MIN(Lääkkeet[[#This Row],[Velvoite 1.1.2024 (pakkauksia)]],Lääkkeet[[#This Row],[Suurimman alitusluvan mukainen velvoite 1.1.-30.6.2024 (pakkauksia)]],Lääkkeet[[#This Row],[Alin saldo 1.1.-30.6.2024 (pakkauksia)]])*Lääkkeet[[#This Row],[Kirjanpitoarvo / pakkaus 1.1.2024 (EUR ALV 0 %)]] -> 0 | U48: =MIN(Lääkkeet[[#This Row],[Velvoite 1.7.2024 (pakkauksia)]],Lääkkeet[[#This Row],[Suurimman alitusluvan mukainen velvoite 1.7.-31.12.2024 (pakkauksia)]],Lääkkeet[[#This Row],[Alin saldo 1.7.-31.12.2024 (pakkauksia)]])*Lääkkeet[[#This Row],[Kirjanpitoarvo / pakkaus 1.7.2024 (EUR ALV 0 %)]] -> 0 | W48: {=IFERROR(_xlfn.IFS(Lääkkeet[[#This Row],[Sitoutunut pääoma 1.1.-30.6.2024 (EUR)]]>0,"Täytetyt",Lääkkeet[[#This Row],[Sitoutunut pääoma 1.7.-31.12.2024 (EUR)]]>0,"Täytetyt"),"")} | Y48: =Hakulomake!$B$29 -> 0
A49: X | B49: =Hakulomake!$B$17 -> 0 | C49: 1 | D49: J02AC01 | E49: 015447 | F49: flukonatsoli | G49: Fluconazol Orion | H49: 50 mg | I49: kapseli, kova | J49: 7 | O49: =MIN(Lääkkeet[[#This Row],[Velvoite 1.1.2024 (pakkauksia)]],Lääkkeet[[#This Row],[Suurimman alitusluvan mukainen velvoite 1.1.-30.6.2024 (pakkauksia)]],Lääkkeet[[#This Row],[Alin saldo 1.1.-30.6.2024 (pakkauksia)]])*Lääkkeet[[#This Row],[Kirjanpitoarvo / pakkaus 1.1.2024 (EUR ALV 0 %)]] -> 0 | U49: =MIN(Lääkkeet[[#This Row],[Velvoite 1.7.2024 (pakkauksia)]],Lääkkeet[[#This Row],[Suurimman alitusluvan mukainen velvoite 1.7.-31.12.2024 (pakkauksia)]],Lääkkeet[[#This Row],[Alin saldo 1.7.-31.12.2024 (pakkauksia)]])*Lääkkeet[[#This Row],[Kirjanpitoarvo / pakkaus 1.7.2024 (EUR ALV 0 %)]] -> 0 | W49: {=IFERROR(_xlfn.IFS(Lääkkeet[[#This Row],[Sitoutunut pääoma 1.1.-30.6.2024 (EUR)]]>0,"Täytetyt",Lääkkeet[[#This Row],[Sitoutunut pääoma 1.7.-31.12.2024 (EUR)]]>0,"Täytetyt"),"")} | Y49: =Hakulomake!$B$29 -> 0
A50: X | B50: =Hakulomake!$B$17 -> 0 | C50: 1 | D50: J02AC01 | E50: 015458 | F50: flukonatsoli | G50: Fluconazol Orion | H50: 50 mg | I50: kapseli, kova | J50: 28 | O50: =MIN(Lääkkeet[[#This Row],[Velvoite 1.1.2024 (pakkauksia)]],Lääkkeet[[#This Row],[Suurimman alitusluvan mukainen velvoite 1.1.-30.6.2024 (pakkauksia)]],Lääkkeet[[#This Row],[Alin saldo 1.1.-30.6.2024 (pakkauksia)]])*Lääkkeet[[#This Row],[Kirjanpitoarvo / pakkaus 1.1.2024 (EUR ALV 0 %)]] -> 0 | U50: =MIN(Lääkkeet[[#This Row],[Velvoite 1.7.2024 (pakkauksia)]],Lääkkeet[[#This Row],[Suurimman alitusluvan mukainen velvoite 1.7.-31.12.2024 (pakkauksia)]],Lääkkeet[[#This Row],[Alin saldo 1.7.-31.12.2024 (pakkauksia)]])*Lääkkeet[[#This Row],[Kirjanpitoarvo / pakkaus 1.7.2024 (EUR ALV 0 %)]] -> 0 | W50: {=IFERROR(_xlfn.IFS(Lääkkeet[[#This Row],[Sitoutunut pääoma 1.1.-30.6.2024 (EUR)]]>0,"Täytetyt",Lääkkeet[[#This Row],[Sitoutunut pääoma 1.7.-31.12.2024 (EUR)]]>0,"Täytetyt"),"")} | Y50: =Hakulomake!$B$29 -> 0
A51: X | B51: =Hakulomake!$B$17 -> 0 | C51: 1 | D51: J02AC01 | E51: 017585 | F51: flukonatsoli | G51: Fluconazol Krka | H51: 100 mg | I51: kapseli, kova | J51: 7 | O51: =MIN(Lääkkeet[[#This Row],[Velvoite 1.1.2024 (pakkauksia)]],Lääkkeet[[#This Row],[Suurimman alitusluvan mukainen velvoite 1.1.-30.6.2024 (pakkauksia)]],Lääkkeet[[#This Row],[Alin saldo 1.1.-30.6.2024 (pakkauksia)]])*Lääkkeet[[#This Row],[Kirjanpitoarvo / pakkaus 1.1.2024 (EUR ALV 0 %)]] -> 0 | U51: =MIN(Lääkkeet[[#This Row],[Velvoite 1.7.2024 (pakkauksia)]],Lääkkeet[[#This Row],[Suurimman alitusluvan mukainen velvoite 1.7.-31.12.2024 (pakkauksia)]],Lääkkeet[[#This Row],[Alin saldo 1.7.-31.12.2024 (pakkauksia)]])*Lääkkeet[[#This Row],[Kirjanpitoarvo / pakkaus 1.7.2024 (EUR ALV 0 %)]] -> 0 | W51: {=IFERROR(_xlfn.IFS(Lääkkeet[[#This Row],[Sitoutunut pääoma 1.1.-30.6.2024 (EUR)]]>0,"Täytetyt",Lääkkeet[[#This Row],[Sitoutunut pääoma 1.7.-31.12.2024 (EUR)]]>0,"Täytetyt"),"")} | Y51: =Hakulomake!$B$29 -> 0
A52: X | B52: =Hakulomake!$B$17 -> 0 | C52: 1 | D52: J02AC01 | E52: 017646 | F52: flukonatsoli | G52: Fluconazol Krka | H52: 100 mg | I52: kapseli, kova | J52: 28 | O52: =MIN(Lääkkeet[[#This Row],[Velvoite 1.1.2024 (pakkauksia)]],Lääkkeet[[#This Row],[Suurimman alitusluvan mukainen velvoite 1.1.-30.6.2024 (pakkauksia)]],Lääkkeet[[#This Row],[Alin saldo 1.1.-30.6.2024 (pakkauksia)]])*Lääkkeet[[#This Row],[Kirjanpitoarvo / pakkaus 1.1.2024 (EUR ALV 0 %)]] -> 0 | U52: =MIN(Lääkkeet[[#This Row],[Velvoite 1.7.2024 (pakkauksia)]],Lääkkeet[[#This Row],[Suurimman alitusluvan mukainen velvoite 1.7.-31.12.2024 (pakkauksia)]],Lääkkeet[[#This Row],[Alin saldo 1.7.-31.12.2024 (pakkauksia)]])*Lääkkeet[[#This Row],[Kirjanpitoarvo / pakkaus 1.7.2024 (EUR ALV 0 %)]] -> 0 | W52: {=IFERROR(_xlfn.IFS(Lääkkeet[[#This Row],[Sitoutunut pääoma 1.1.-30.6.2024 (EUR)]]>0,"Täytetyt",Lääkkeet[[#This Row],[Sitoutunut pääoma 1.7.-31.12.2024 (EUR)]]>0,"Täytetyt"),"")} | Y52: =Hakulomake!$B$29 -> 0
A53: X | B53: =Hakulomake!$B$17 -> 0 | C53: 1 | D53: J02AC01 | E53: 017668 | F53: flukonatsoli | G53: Fluconazol Krka | H53: 150 mg | I53: kapseli, kova | J53: 4 | O53: =MIN(Lääkkeet[[#This Row],[Velvoite 1.1.2024 (pakkauksia)]],Lääkkeet[[#This Row],[Suurimman alitusluvan mukainen velvoite 1.1.-30.6.2024 (pakkauksia)]],Lääkkeet[[#This Row],[Alin saldo 1.1.-30.6.2024 (pakkauksia)]])*Lääkkeet[[#This Row],[Kirjanpitoarvo / pakkaus 1.1.2024 (EUR ALV 0 %)]] -> 0 | U53: =MIN(Lääkkeet[[#This Row],[Velvoite 1.7.2024 (pakkauksia)]],Lääkkeet[[#This Row],[Suurimman alitusluvan mukainen velvoite 1.7.-31.12.2024 (pakkauksia)]],Lääkkeet[[#This Row],[Alin saldo 1.7.-31.12.2024 (pakkauksia)]])*Lääkkeet[[#This Row],[Kirjanpitoarvo / pakkaus 1.7.2024 (EUR ALV 0 %)]] -> 0 | W53: {=IFERROR(_xlfn.IFS(Lääkkeet[[#This Row],[Sitoutunut pääoma 1.1.-30.6.2024 (EUR)]]>0,"Täytetyt",Lääkkeet[[#This Row],[Sitoutunut pääoma 1.7.-31.12.2024 (EUR)]]>0,"Täytetyt"),"")} | Y53: =Hakulomake!$B$29 -> 0
A54: X | B54: =Hakulomake!$B$17 -> 0 | C54: 1 | D54: J02AC01 | E54: 017679 | F54: flukonatsoli | G54: Fluconazol Krka | H54: 150 mg | I54: kapseli, kova | J54: 1 | O54: =MIN(Lääkkeet[[#This Row],[Velvoite 1.1.2024 (pakkauksia)]],Lääkkeet[[#This Row],[Suurimman alitusluvan mukainen velvoite 1.1.-30.6.2024 (pakkauksia)]],Lääkkeet[[#This Row],[Alin saldo 1.1.-30.6.2024 (pakkauksia)]])*Lääkkeet[[#This Row],[Kirjanpitoarvo / pakkaus 1.1.2024 (EUR ALV 0 %)]] -> 0 | U54: =MIN(Lääkkeet[[#This Row],[Velvoite 1.7.2024 (pakkauksia)]],Lääkkeet[[#This Row],[Suurimman alitusluvan mukainen velvoite 1.7.-31.12.2024 (pakkauksia)]],Lääkkeet[[#This Row],[Alin saldo 1.7.-31.12.2024 (pakkauksia)]])*Lääkkeet[[#This Row],[Kirjanpitoarvo / pakkaus 1.7.2024 (EUR ALV 0 %)]] -> 0 | W54: {=IFERROR(_xlfn.IFS(Lääkkeet[[#This Row],[Sitoutunut pääoma 1.1.-30.6.2024 (EUR)]]>0,"Täytetyt",Lääkkeet[[#This Row],[Sitoutunut pääoma 1.7.-31.12.2024 (EUR)]]>0,"Täytetyt"),"")} | Y54: =Hakulomake!$B$29 -> 0
A55: X | B55: =Hakulomake!$B$17 -> 0 | C55: 1 | D55: J02AC01 | E55: 017701 | F55: flukonatsoli | G55: Fluconazol Krka | H55: 150 mg | I55: kapseli, kova | J55: 6 | O55: =MIN(Lääkkeet[[#This Row],[Velvoite 1.1.2024 (pakkauksia)]],Lääkkeet[[#This Row],[Suurimman alitusluvan mukainen velvoite 1.1.-30.6.2024 (pakkauksia)]],Lääkkeet[[#This Row],[Alin saldo 1.1.-30.6.2024 (pakkauksia)]])*Lääkkeet[[#This Row],[Kirjanpitoarvo / pakkaus 1.1.2024 (EUR ALV 0 %)]] -> 0 | U55: =MIN(Lääkkeet[[#This Row],[Velvoite 1.7.2024 (pakkauksia)]],Lääkkeet[[#This Row],[Suurimman alitusluvan mukainen velvoite 1.7.-31.12.2024 (pakkauksia)]],Lääkkeet[[#This Row],[Alin saldo 1.7.-31.12.2024 (pakkauksia)]])*Lääkkeet[[#This Row],[Kirjanpitoarvo / pakkaus 1.7.2024 (EUR ALV 0 %)]] -> 0 | W55: {=IFERROR(_xlfn.IFS(Lääkkeet[[#This Row],[Sitoutunut pääoma 1.1.-30.6.2024 (EUR)]]>0,"Täytetyt",Lääkkeet[[#This Row],[Sitoutunut pääoma 1.7.-31.12.2024 (EUR)]]>0,"Täytetyt"),"")} | Y55: =Hakulomake!$B$29 -> 0
... A57: X | B57: =Hakulomake!$B$17 -> 0 | C57: 1 | D57: J02AC01 | E57: 017745 | F57: flukonatsoli | G57: Fluconazol Krka | H57: 50 mg | I57: kapseli, kova | J57: 28 | O57: =MIN(Lääkkeet[[#This Row],[Velvoite 1.1.2024 (pakkauksia)]],Lääkkeet[[#This Row],[Suurimman alitusluvan mukainen velvoite 1.1.-30.6.2024 (pakkauksia)]],Lääkkeet[[#This Row],[Alin saldo 1.1.-30.6.2024 (pakkauksia)]])*Lääkkeet[[#This Row],[Kirjanpitoarvo / pakkaus 1.1.2024 (EUR ALV 0 %)]] -> 0 | U57: =MIN(Lääkkeet[[#This Row],[Velvoite 1.7.2024 (pakkauksia)]],Lääkkeet[[#This Row],[Suurimman alitusluvan mukainen velvoite 1.7.-31.12.2024 (pakkauksia)]],Lääkkeet[[#This Row],[Alin saldo 1.7.-31.12.2024 (pakkauksia)]])*Lääkkeet[[#This Row],[Kirjanpitoarvo / pakkaus 1.7.2024 (EUR ALV 0 %)]] -> 0 | W57: {=IFERROR(_xlfn.IFS(Lääkkeet[[#This Row],[Sitoutunut pääoma 1.1.-30.6.2024 (EUR)]]>0,"Täytetyt",Lääkkeet[[#This Row],[Sitoutunut pääoma 1.7.-31.12.2024 (EUR)]]>0,"Täytetyt"),"")} | Y57: =Hakulomake!$B$29 -> 0
A58: X | B58: =Hakulomake!$B$17 -> 0 | C58: 1 | D58: J01FF01 | E58: 027846 | F58: klindamysiini | G58: Clindamycin Abcur | H58: 150 mg/ml | I58: injektio-/infuusioneste, liuos | J58: 5 x 4 ml | O58: =MIN(Lääkkeet[[#This Row],[Velvoite 1.1.2024 (pakkauksia)]],Lääkkeet[[#This Row],[Suurimman alitusluvan mukainen velvoite 1.1.-30.6.2024 (pakkauksia)]],Lääkkeet[[#This Row],[Alin saldo 1.1.-30.6.2024 (pakkauksia)]])*Lääkkeet[[#This Row],[Kirjanpitoarvo / pakkaus 1.1.2024 (EUR ALV 0 %)]] -> 0 | U58: =MIN(Lääkkeet[[#This Row],[Velvoite 1.7.2024 (pakkauksia)]],Lääkkeet[[#This Row],[Suurimman alitusluvan mukainen velvoite 1.7.-31.12.2024 (pakkauksia)]],Lääkkeet[[#This Row],[Alin saldo 1.7.-31.12.2024 (pakkauksia)]])*Lääkkeet[[#This Row],[Kirjanpitoarvo / pakkaus 1.7.2024 (EUR ALV 0 %)]] -> 0 | W58: {=IFERROR(_xlfn.IFS(Lääkkeet[[#This Row],[Sitoutunut pääoma 1.1.-30.6.2024 (EUR)]]>0,"Täytetyt",Lääkkeet[[#This Row],[Sitoutunut pääoma 1.7.-31.12.2024 (EUR)]]>0,"Täytetyt"),"")} | Y58: =Hakulomake!$B$29 -> 0
A59: X | B59: =Hakulomake!$B$17 -> 0 | C59: 1 | D59: J02AC01 | E59: 033833 | F59: flukonatsoli | G59: Fluconazol Krka | H59: 50 mg | I59: kapseli, kova | J59: 98 | O59: =MIN(Lääkkeet[[#This Row],[Velvoite 1.1.2024 (pakkauksia)]],Lääkkeet[[#This Row],[Suurimman alitusluvan mukainen velvoite 1.1.-30.6.2024 (pakkauksia)]],Lääkkeet[[#This Row],[Alin saldo 1.1.-30.6.2024 (pakkauksia)]])*Lääkkeet[[#This Row],[Kirjanpitoarvo / pakkaus 1.1.2024 (EUR ALV 0 %)]] -> 0 | U59: =MIN(Lääkkeet[[#This Row],[Velvoite 1.7.2024 (pakkauksia)]],Lääkkeet[[#This Row],[Suurimman alitusluvan mukainen velvoite 1.7.-31.12.2024 (pakkauksia)]],Lääkkeet[[#This Row],[Alin saldo 1.7.-31.12.2024 (pakkauksia)]])*Lääkkeet[[#This Row],[Kirjanpitoarvo / pakkaus 1.7.2024 (EUR ALV 0 %)]] -> 0 | W59: {=IFERROR(_xlfn.IFS(Lääkkeet[[#This Row],[Sitoutunut pääoma 1.1.-30.6.2024 (EUR)]]>0,"Täytetyt",Lääkkeet[[#This Row],[Sitoutunut pääoma 1.7.-31.12.2024 (EUR)]]>0,"Täytetyt"),"")} | Y59: =Hakulomake!$B$29 -> 0
A60: X | B60: =Hakulomake!$B$17 -> 0 | C60: 1 | D60: J02AC01 | E60: 036028 | F60: flukonatsoli | G60: Fluconazole B. Braun | H60: 2 mg/ml | I60: infuusioneste, liuos | J60: 20 x 100 ml | O60: =MIN(Lääkkeet[[#This Row],[Velvoite 1.1.2024 (pakkauksia)]],Lääkkeet[[#This Row],[Suurimman alitusluvan mukainen velvoite 1.1.-30.6.2024 (pakkauksia)]],Lääkkeet[[#This Row],[Alin saldo 1.1.-30.6.2024 (pakkauksia)]])*Lääkkeet[[#This Row],[Kirjanpitoarvo / pakkaus 1.1.2024 (EUR ALV 0 %)]] -> 0 | U60: =MIN(Lääkkeet[[#This Row],[Velvoite 1.7.2024 (pakkauksia)]],Lääkkeet[[#This Row],[Suurimman alitusluvan mukainen velvoite 1.7.-31.12.2024 (pakkauksia)]],Lääkkeet[[#This Row],[Alin saldo 1.7.-31.12.2024 (pakkauksia)]])*Lääkkeet[[#This Row],[Kirjanpitoarvo / pakkaus 1.7.2024 (EUR ALV 0 %)]] -> 0 | W60: {=IFERROR(_xlfn.IFS(Lääkkeet[[#This Row],[Sitoutunut pääoma 1.1.-30.6.2024 (EUR)]]>0,"Täytetyt",Lääkkeet[[#This Row],[Sitoutunut pääoma 1.7.-31.12.2024 (EUR)]]>0,"Täytetyt"),"")} | Y60: =Hakulomake!$B$29 -> 0
A61: X | B61: =Hakulomake!$B$17 -> 0 | C61: 1 | D61: J01FF01 | E61: 037777 | F61: klindamysiini | G61: Clindamycin MIP | H61: 300 mg | I61: tabletti, kalvopäällysteinen | J61: 12 | O61: =MIN(Lääkkeet[[#This Row],[Velvoite 1.1.2024 (pakkauksia)]],Lääkkeet[[#This Row],[Suurimman alitusluvan mukainen velvoite 1.1.-30.6.2024 (pakkauksia)]],Lääkkeet[[#This Row],[Alin saldo 1.1.-30.6.2024 (pakkauksia)]])*Lääkkeet[[#This Row],[Kirjanpitoarvo / pakkaus 1.1.2024 (EUR ALV 0 %)]] -> 0 | U61: =MIN(Lääkkeet[[#This Row],[Velvoite 1.7.2024 (pakkauksia)]],Lääkkeet[[#This Row],[Suurimman alitusluvan mukainen velvoite 1.7.-31.12.2024 (pakkauksia)]],Lääkkeet[[#This Row],[Alin saldo 1.7.-31.12.2024 (pakkauksia)]])*Lääkkeet[[#This Row],[Kirjanpitoarvo / pakkaus 1.7.2024 (EUR ALV 0 %)]] -> 0 | W61: {=IFERROR(_xlfn.IFS(Lääkkeet[[#This Row],[Sitoutunut pääoma 1.1.-30.6.2024 (EUR)]]>0,"Täytetyt",Lääkkeet[[#This Row],[Sitoutunut pääoma 1.7.-31.12.2024 (EUR)]]>0,"Täytetyt"),"")} | Y61: =Hakulomake!$B$29 -> 0
A62: X | B62: =Hakulomake!$B$17 -> 0 | C62: 1 | D62: J01FF01 | E62: 037789 | F62: klindamysiini | G62: Clindamycin MIP | H62: 300 mg | I62: tabletti, kalvopäällysteinen | J62: 30 | O62: =MIN(Lääkkeet[[#This Row],[Velvoite 1.1.2024 (pakkauksia)]],Lääkkeet[[#This Row],[Suurimman alitusluvan mukainen velvoite 1.1.-30.6.2024 (pakkauksia)]],Lääkkeet[[#This Row],[Alin saldo 1.1.-30.6.2024 (pakkauksia)]])*Lääkkeet[[#This Row],[Kirjanpitoarvo / pakkaus 1.1.2024 (EUR ALV 0 %)]] -> 0 | U62: =MIN(Lääkkeet[[#This Row],[Velvoite 1.7.2024 (pakkauksia)]],Lääkkeet[[#This Row],[Suurimman alitusluvan mukainen velvoite 1.7.-31.12.2024 (pakkauksia)]],Lääkkeet[[#This Row],[Alin saldo 1.7.-31.12.2024 (pakkauksia)]])*Lääkkeet[[#This Row],[Kirjanpitoarvo / pakkaus 1.7.2024 (EUR ALV 0 %)]] -> 0 | W62: {=IFERROR(_xlfn.IFS(Lääkkeet[[#This Row],[Sitoutunut pääoma 1.1.-30.6.2024 (EUR)]]>0,"Täytetyt",Lääkkeet[[#This Row],[Sitoutunut pääoma 1.7.-31.12.2024 (EUR)]]>0,"Täytetyt"),"")} | Y62: =Hakulomake!$B$29 -> 0
A63: X | B63: =Hakulomake!$B$17 -> 0 | C63: 1 | D63: J01FF01 | E63: 037800 | F63: klindamysiini | G63: Clindamycin MIP | H63: 600 mg | I63: tabletti, kalvopäällysteinen | J63: 16 | O63: =MIN(Lääkkeet[[#This Row],[Velvoite 1.1.2024 (pakkauksia)]],Lääkkeet[[#This Row],[Suurimman alitusluvan mukainen velvoite 1.1.-30.6.2024 (pakkauksia)]],Lääkkeet[[#This Row],[Alin saldo 1.1.-30.6.2024 (pakkauksia)]])*Lääkkeet[[#This Row],[Kirjanpitoarvo / pakkaus 1.1.2024 (EUR ALV 0 %)]] -> 0 | U63: =MIN(Lääkkeet[[#This Row],[Velvoite 1.7.2024 (pakkauksia)]],Lääkkeet[[#This Row],[Suurimman alitusluvan mukainen velvoite 1.7.-31.12.2024 (pakkauksia)]],Lääkkeet[[#This Row],[Alin saldo 1.7.-31.12.2024 (pakkauksia)]])*Lääkkeet[[#This Row],[Kirjanpitoarvo / pakkaus 1.7.2024 (EUR ALV 0 %)]] -> 0 | W63: {=IFERROR(_xlfn.IFS(Lääkkeet[[#This Row],[Sitoutunut pääoma 1.1.-30.6.2024 (EUR)]]>0,"Täytetyt",Lääkkeet[[#This Row],[Sitoutunut pääoma 1.7.-31.12.2024 (EUR)]]>0,"Täytetyt"),"")} | Y63: =Hakulomake!$B$29 -> 0
A64: X | B64: =Hakulomake!$B$17 -> 0 | C64: 1 | D64: J01FF01 | E64: 037811 | F64: klindamysiini | G64: Clindamycin MIP | H64: 600 mg | I64: tabletti, kalvopäällysteinen | J64: 32 | O64: =MIN(Lääkkeet[[#This Row],[Velvoite 1.1.2024 (pakkauksia)]],Lääkkeet[[#This Row],[Suurimman alitusluvan mukainen velvoite 1.1.-30.6.2024 (pakkauksia)]],Lääkkeet[[#This Row],[Alin saldo 1.1.-30.6.2024 (pakkauksia)]])*Lääkkeet[[#This Row],[Kirjanpitoarvo / pakkaus 1.1.2024 (EUR ALV 0 %)]] -> 0 | U64: =MIN(Lääkkeet[[#This Row],[Velvoite 1.7.2024 (pakkauksia)]],Lääkkeet[[#This Row],[Suurimman alitusluvan mukainen velvoite 1.7.-31.12.2024 (pakkauksia)]],Lääkkeet[[#This Row],[Alin saldo 1.7.-31.12.2024 (pakkauksia)]])*Lääkkeet[[#This Row],[Kirjanpitoarvo / pakkaus 1.7.2024 (EUR ALV 0 %)]] -> 0 | W64: {=IFERROR(_xlfn.IFS(Lääkkeet[[#This Row],[Sitoutunut pääoma 1.1.-30.6.2024 (EUR)]]>0,"Täytetyt",Lääkkeet[[#This Row],[Sitoutunut pääoma 1.7.-31.12.2024 (EUR)]]>0,"Täytetyt"),"")} | Y64: =Hakulomake!$B$29 -> 0
A65: X | B65: =Hakulomake!$B$17 -> 0 | C65: 1 | D65: J01FF01 | E65: 037834 | F65: klindamysiini | G65: Clindamycin MIP | H65: 150 mg/ml | I65: injektioneste, liuos | J65: 5 x 4 ml | O65: =MIN(Lääkkeet[[#This Row],[Velvoite 1.1.2024 (pakkauksia)]],Lääkkeet[[#This Row],[Suurimman alitusluvan mukainen velvoite 1.1.-30.6.2024 (pakkauksia)]],Lääkkeet[[#This Row],[Alin saldo 1.1.-30.6.2024 (pakkauksia)]])*Lääkkeet[[#This Row],[Kirjanpitoarvo / pakkaus 1.1.2024 (EUR ALV 0 %)]] -> 0 | U65: =MIN(Lääkkeet[[#This Row],[Velvoite 1.7.2024 (pakkauksia)]],Lääkkeet[[#This Row],[Suurimman alitusluvan mukainen velvoite 1.7.-31.12.2024 (pakkauksia)]],Lääkkeet[[#This Row],[Alin saldo 1.7.-31.12.2024 (pakkauksia)]])*Lääkkeet[[#This Row],[Kirjanpitoarvo / pakkaus 1.7.2024 (EUR ALV 0 %)]] -> 0 | W65: {=IFERROR(_xlfn.IFS(Lääkkeet[[#This Row],[Sitoutunut pääoma 1.1.-30.6.2024 (EUR)]]>0,"Täytetyt",Lääkkeet[[#This Row],[Sitoutunut pääoma 1.7.-31.12.2024 (EUR)]]>0,"Täytetyt"),"")} | Y65: =Hakulomake!$B$29 -> 0
A66: X | B66: =Hakulomake!$B$17 -> 0 | C66: 1 | D66: J01DH02 | E66: 041983 | F66: meropeneemi | G66: Meropenem Stada | H66: 500 mg | I66: injektio-/infuusiokuiva-aine liuosta varten | J66: 10 x 500 mg | O66: =MIN(Lääkkeet[[#This Row],[Velvoite 1.1.2024 (pakkauksia)]],Lääkkeet[[#This Row],[Suurimman alitusluvan mukainen velvoite 1.1.-30.6.2024 (pakkauksia)]],Lääkkeet[[#This Row],[Alin saldo 1.1.-30.6.2024 (pakkauksia)]])*Lääkkeet[[#This Row],[Kirjanpitoarvo / pakkaus 1.1.2024 (EUR ALV 0 %)]] -> 0 | U66: =MIN(Lääkkeet[[#This Row],[Velvoite 1.7.2024 (pakkauksia)]],Lääkkeet[[#This Row],[Suurimman alitusluvan mukainen velvoite 1.7.-31.12.2024 (pakkauksia)]],Lääkkeet[[#This Row],[Alin saldo 1.7.-31.12.2024 (pakkauksia)]])*Lääkkeet[[#This Row],[Kirjanpitoarvo / pakkaus 1.7.2024 (EUR ALV 0 %)]] -> 0 | W66: {=IFERROR(_xlfn.IFS(Lääkkeet[[#This Row],[Sitoutunut pääoma 1.1.-30.6.2024 (EUR)]]>0,"Täytetyt",Lääkkeet[[#This Row],[Sitoutunut pääoma 1.7.-31.12.2024 (EUR)]]>0,"Täytetyt"),"")} | Y66: =Hakulomake!$B$29 -> 0
A67: X | B67: =Hakulomake!$B$17 -> 0 | C67: 1 | D67: J01DH02 | E67: 043428 | F67: meropeneemi | G67: Meropenem Medical Valley | H67: 1 g | I67: injektio-/infuusiokuiva-aine liuosta varten | J67: 10 x 1 g | O67: =MIN(Lääkkeet[[#This Row],[Velvoite 1.1.2024 (pakkauksia)]],Lääkkeet[[#This Row],[Suurimman alitusluvan mukainen velvoite 1.1.-30.6.2024 (pakkauksia)]],Lääkkeet[[#This Row],[Alin saldo 1.1.-30.6.2024 (pakkauksia)]])*Lääkkeet[[#This Row],[Kirjanpitoarvo / pakkaus 1.1.2024 (EUR ALV 0 %)]] -> 0 | U67: =MIN(Lääkkeet[[#This Row],[Velvoite 1.7.2024 (pakkauksia)]],Lääkkeet[[#This Row],[Suurimman alitusluvan mukainen velvoite 1.7.-31.12.2024 (pakkauksia)]],Lääkkeet[[#This Row],[Alin saldo 1.7.-31.12.2024 (pakkauksia)]])*Lääkkeet[[#This Row],[Kirjanpitoarvo / pakkaus 1.7.2024 (EUR ALV 0 %)]] -> 0 | W67: {=IFERROR(_xlfn.IFS(Lääkkeet[[#This Row],[Sitoutunut pääoma 1.1.-30.6.2024 (EUR)]]>0,"Täytetyt",Lääkkeet[[#This Row],[Sitoutunut pääoma 1.7.-31.12.2024 (EUR)]]>0,"Täytetyt"),"")} | Y67: =Hakulomake!$B$29 -> 0
A68: X | B68: =Hakulomake!$B$17 -> 0 | C68: 1 | D68: J05AB01 | E68: 044560 | F68: asikloviiri | G68: Zovirax | H68: 80 mg/ml | I68: oraalisuspensio | J68: 100 ml | O68: =MIN(Lääkkeet[[#This Row],[Velvoite 1.1.2024 (pakkauksia)]],Lääkkeet[[#This Row],[Suurimman alitusluvan mukainen velvoite 1.1.-30.6.2024 (pakkauksia)]],Lääkkeet[[#This Row],[Alin saldo 1.1.-30.6.2024 (pakkauksia)]])*Lääkkeet[[#This Row],[Kirjanpitoarvo / pakkaus 1.1.2024 (EUR ALV 0 %)]] -> 0 | U68: =MIN(Lääkkeet[[#This Row],[Velvoite 1.7.2024 (pakkauksia)]],Lääkkeet[[#This Row],[Suurimman alitusluvan mukainen velvoite 1.7.-31.12.2024 (pakkauksia)]],Lääkkeet[[#This Row],[Alin saldo 1.7.-31.12.2024 (pakkauksia)]])*Lääkkeet[[#This Row],[Kirjanpitoarvo / pakkaus 1.7.2024 (EUR ALV 0 %)]] -> 0 | W68: {=IFERROR(_xlfn.IFS(Lääkkeet[[#This Row],[Sitoutunut pääoma 1.1.-30.6.2024 (EUR)]]>0,"Täytetyt",Lääkkeet[[#This Row],[Sitoutunut pääoma 1.7.-31.12.2024 (EUR)]]>0,"Täytetyt"),"")} | Y68: =Hakulomake!$B$29 -> 0
A69: X | B69: =Hakulomake!$B$17 -> 0 | C69: 1 | D69: J05AB01 | E69: 060517 | F69: asikloviiri | G69: Zovirax | I69: infuusiokuiva-aine, liuosta varten | J69: 5 x 250 mg | O69: =MIN(Lääkkeet[[#This Row],[Velvoite 1.1.2024 (pakkauksia)]],Lääkkeet[[#This Row],[Suurimman alitusluvan mukainen velvoite 1.1.-30.6.2024 (pakkauksia)]],Lääkkeet[[#This Row],[Alin saldo 1.1.-30.6.2024 (pakkauksia)]])*Lääkkeet[[#This Row],[Kirjanpitoarvo / pakkaus 1.1.2024 (EUR ALV 0 %)]] -> 0 | U69: =MIN(Lääkkeet[[#This Row],[Velvoite 1.7.2024 (pakkauksia)]],Lääkkeet[[#This Row],[Suurimman alitusluvan mukainen velvoite 1.7.-31.12.2024 (pakkauksia)]],Lääkkeet[[#This Row],[Alin saldo 1.7.-31.12.2024 (pakkauksia)]])*Lääkkeet[[#This Row],[Kirjanpitoarvo / pakkaus 1.7.2024 (EUR ALV 0 %)]] -> 0 | W69: {=IFERROR(_xlfn.IFS(Lääkkeet[[#This Row],[Sitoutunut pääoma 1.1.-30.6.2024 (EUR)]]>0,"Täytetyt",Lääkkeet[[#This Row],[Sitoutunut pääoma 1.7.-31.12.2024 (EUR)]]>0,"Täytetyt"),"")} | Y69: =Hakulomake!$B$29 -> 0
A70: X | B70: =Hakulomake!$B$17 -> 0 | C70: 1 | D70: J01XD01 | E70: 065041 | F70: metronidatsoli | G70: Metronidazole Braun | H70: 5 mg/ml | I70: infuusioneste, liuos | J70: 20 x 100 ml | O70: =MIN(Lääkkeet[[#This Row],[Velvoite 1.1.2024 (pakkauksia)]],Lääkkeet[[#This Row],[Suurimman alitusluvan mukainen velvoite 1.1.-30.6.2024 (pakkauksia)]],Lääkkeet[[#This Row],[Alin saldo 1.1.-30.6.2024 (pakkauksia)]])*Lääkkeet[[#This Row],[Kirjanpitoarvo / pakkaus 1.1.2024 (EUR ALV 0 %)]] -> 0 | U70: =MIN(Lääkkeet[[#This Row],[Velvoite 1.7.2024 (pakkauksia)]],Lääkkeet[[#This Row],[Suurimman alitusluvan mukainen velvoite 1.7.-31.12.2024 (pakkauksia)]],Lääkkeet[[#This Row],[Alin saldo 1.7.-31.12.2024 (pakkauksia)]])*Lääkkeet[[#This Row],[Kirjanpitoarvo / pakkaus 1.7.2024 (EUR ALV 0 %)]] -> 0 | W70: {=IFERROR(_xlfn.IFS(Lääkkeet[[#This Row],[Sitoutunut pääoma 1.1.-30.6.2024 (EUR)]]>0,"Täytetyt",Lääkkeet[[#This Row],[Sitoutunut pääoma 1.7.-31.12.2024 (EUR)]]>0,"Täytetyt"),"")} | Y70: =Hakulomake!$B$29 -> 0
A71: X | B71: =Hakulomake!$B$17 -> 0 | C71: 1 | D71: J01CA04 | E71: 065136 | F71: amoksisilliini | G71: Amoxin | H71: 500 mg | I71: tabletti, kalvopäällysteinen | J71: 14 | O71: =MIN(Lääkkeet[[#This Row],[Velvoite 1.1.2024 (pakkauksia)]],Lääkkeet[[#This Row],[Suurimman alitusluvan mukainen velvoite 1.1.-30.6.2024 (pakkauksia)]],Lääkkeet[[#This Row],[Alin saldo 1.1.-30.6.2024 (pakkauksia)]])*Lääkkeet[[#This Row],[Kirjanpitoarvo / pakkaus 1.1.2024 (EUR ALV 0 %)]] -> 0 | U71: =MIN(Lääkkeet[[#This Row],[Velvoite 1.7.2024 (pakkauksia)]],Lääkkeet[[#This Row],[Suurimman alitusluvan mukainen velvoite 1.7.-31.12.2024 (pakkauksia)]],Lääkkeet[[#This Row],[Alin saldo 1.7.-31.12.2024 (pakkauksia)]])*Lääkkeet[[#This Row],[Kirjanpitoarvo / pakkaus 1.7.2024 (EUR ALV 0 %)]] -> 0 | W71: {=IFERROR(_xlfn.IFS(Lääkkeet[[#This Row],[Sitoutunut pääoma 1.1.-30.6.2024 (EUR)]]>0,"Täytetyt",Lääkkeet[[#This Row],[Sitoutunut pääoma 1.7.-31.12.2024 (EUR)]]>0,"Täytetyt"),"")} | Y71: =Hakulomake!$B$29 -> 0
A72: X | B72: =Hakulomake!$B$17 -> 0 | C72: 1 | D72: J01CR02 | E72: 065751 | F72: amoksisilliini ja beetalaktamaasin estäjä | G72: Amoxin Comp | H72: 80 mg / 11.4 mg/ml | I72: jauhe oraalisuspensiota varten | J72: 70 ml | O72: =MIN(Lääkkeet[[#This Row],[Velvoite 1.1.2024 (pakkauksia)]],Lääkkeet[[#This Row],[Suurimman alitusluvan mukainen velvoite 1.1.-30.6.2024 (pakkauksia)]],Lääkkeet[[#This Row],[Alin saldo 1.1.-30.6.2024 (pakkauksia)]])*Lääkkeet[[#This Row],[Kirjanpitoarvo / pakkaus 1.1.2024 (EUR ALV 0 %)]] -> 0 | U72: =MIN(Lääkkeet[[#This Row],[Velvoite 1.7.2024 (pakkauksia)]],Lääkkeet[[#This Row],[Suurimman alitusluvan mukainen velvoite 1.7.-31.12.2024 (pakkauksia)]],Lääkkeet[[#This Row],[Alin saldo 1.7.-31.12.2024 (pakkauksia)]])*Lääkkeet[[#This Row],[Kirjanpitoarvo / pakkaus 1.7.2024 (EUR ALV 0 %)]] -> 0 | W72: {=IFERROR(_xlfn.IFS(Lääkkeet[[#This Row],[Sitoutunut pääoma 1.1.-30.6.2024 (EUR)]]>0,"Täytetyt",Lääkkeet[[#This Row],[Sitoutunut pääoma 1.7.-31.12.2024 (EUR)]]>0,"Täytetyt"),"")} | Y72: =Hakulomake!$B$29 -> 0
A73: X | B73: =Hakulomake!$B$17 -> 0 | C73: 1 | D73: J01MA02 | E73: 065978 | F73: siprofloksasiini | G73: Ciprofloxacin Krka | H73: 750 mg | I73: tabletti, kalvopäällysteinen | J73: 2 x 10 | O73: =MIN(Lääkkeet[[#This Row],[Velvoite 1.1.2024 (pakkauksia)]],Lääkkeet[[#This Row],[Suurimman alitusluvan mukainen velvoite 1.1.-30.6.2024 (pakkauksia)]],Lääkkeet[[#This Row],[Alin saldo 1.1.-30.6.2024 (pakkauksia)]])*Lääkkeet[[#This Row],[Kirjanpitoarvo / pakkaus 1.1.2024 (EUR ALV 0 %)]] -> 0 | U73: =MIN(Lääkkeet[[#This Row],[Velvoite 1.7.2024 (pakkauksia)]],Lääkkeet[[#This Row],[Suurimman alitusluvan mukainen velvoite 1.7.-31.12.2024 (pakkauksia)]],Lääkkeet[[#This Row],[Alin saldo 1.7.-31.12.2024 (pakkauksia)]])*Lääkkeet[[#This Row],[Kirjanpitoarvo / pakkaus 1.7.2024 (EUR ALV 0 %)]] -> 0 | W73: {=IFERROR(_xlfn.IFS(Lääkkeet[[#This Row],[Sitoutunut pääoma 1.1.-30.6.2024 (EUR)]]>0,"Täytetyt",Lääkkeet[[#This Row],[Sitoutunut pääoma 1.7.-31.12.2024 (EUR)]]>0,"Täytetyt"),"")} | Y73: =Hakulomake!$B$29 -> 0
A74: X | B74: =Hakulomake!$B$17 -> 0 | C74: 1 | D74: J01MA02 | E74: 065988 | F74: siprofloksasiini | G74: Ciprofloxacin Krka | H74: 250 mg | I74: tabletti, kalvopäällysteinen | J74: 10 | O74: =MIN(Lääkkeet[[#This Row],[Velvoite 1.1.2024 (pakkauksia)]],Lääkkeet[[#This Row],[Suurimman alitusluvan mukainen velvoite 1.1.-30.6.2024 (pakkauksia)]],Lääkkeet[[#This Row],[Alin saldo 1.1.-30.6.2024 (pakkauksia)]])*Lääkkeet[[#This Row],[Kirjanpitoarvo / pakkaus 1.1.2024 (EUR ALV 0 %)]] -> 0 | U74: =MIN(Lääkkeet[[#This Row],[Velvoite 1.7.2024 (pakkauksia)]],Lääkkeet[[#This Row],[Suurimman alitusluvan mukainen velvoite 1.7.-31.12.2024 (pakkauksia)]],Lääkkeet[[#This Row],[Alin saldo 1.7.-31.12.2024 (pakkauksia)]])*Lääkkeet[[#This Row],[Kirjanpitoarvo / pakkaus 1.7.2024 (EUR ALV 0 %)]] -> 0 | W74: {=IFERROR(_xlfn.IFS(Lääkkeet[[#This Row],[Sitoutunut pääoma 1.1.-30.6.2024 (EUR)]]>0,"Täytetyt",Lääkkeet[[#This Row],[Sitoutunut pääoma 1.7.-31.12.2024 (EUR)]]>0,"Täytetyt"),"")} | Y74: =Hakulomake!$B$29 -> 0
A75: X | B75: =Hakulomake!$B$17 -> 0 | C75: 1 | D75: J01MA02 | E75: 065997 | F75: siprofloksasiini | G75: Ciprofloxacin Krka | H75: 250 mg | I75: tabletti, kalvopäällysteinen | J75: 2 x 10 | O75: =MIN(Lääkkeet[[#This Row],[Velvoite 1.1.2024 (pakkauksia)]],Lääkkeet[[#This Row],[Suurimman alitusluvan mukainen velvoite 1.1.-30.6.2024 (pakkauksia)]],Lääkkeet[[#This Row],[Alin saldo 1.1.-30.6.2024 (pakkauksia)]])*Lääkkeet[[#This Row],[Kirjanpitoarvo / pakkaus 1.1.2024 (EUR ALV 0 %)]] -> 0 | U75: =MIN(Lääkkeet[[#This Row],[Velvoite 1.7.2024 (pakkauksia)]],Lääkkeet[[#This Row],[Suurimman alitusluvan mukainen velvoite 1.7.-31.12.2024 (pakkauksia)]],Lääkkeet[[#This Row],[Alin saldo 1.7.-31.12.2024 (pakkauksia)]])*Lääkkeet[[#This Row],[Kirjanpitoarvo / pakkaus 1.7.2024 (EUR ALV 0 %)]] -> 0 | W75: {=IFERROR(_xlfn.IFS(Lääkkeet[[#This Row],[Sitoutunut pääoma 1.1.-30.6.2024 (EUR)]]>0,"Täytetyt",Lääkkeet[[#This Row],[Sitoutunut pääoma 1.7.-31.12.2024 (EUR)]]>0,"Täytetyt"),"")} | Y75: =Hakulomake!$B$29 -> 0
A76: X | B76: =Hakulomake!$B$17 -> 0 | C76: 1 | D76: J01MA02 | E76: 066015 | F76: siprofloksasiini | G76: Ciprofloxacin Krka | H76: 500 mg | I76: tabletti, kalvopäällysteinen | J76: 10 | O76: =MIN(Lääkkeet[[#This Row],[Velvoite 1.1.2024 (pakkauksia)]],Lääkkeet[[#This Row],[Suurimman alitusluvan mukainen velvoite 1.1.-30.6.2024 (pakkauksia)]],Lääkkeet[[#This Row],[Alin saldo 1.1.-30.6.2024 (pakkauksia)]])*Lääkkeet[[#This Row],[Kirjanpitoarvo / pakkaus 1.1.2024 (EUR ALV 0 %)]] -> 0 | U76: =MIN(Lääkkeet[[#This Row],[Velvoite 1.7.2024 (pakkauksia)]],Lääkkeet[[#This Row],[Suurimman alitusluvan mukainen velvoite 1.7.-31.12.2024 (pakkauksia)]],Lääkkeet[[#This Row],[Alin saldo 1.7.-31.12.2024 (pakkauksia)]])*Lääkkeet[[#This Row],[Kirjanpitoarvo / pakkaus 1.7.2024 (EUR ALV 0 %)]] -> 0 | W76: {=IFERROR(_xlfn.IFS(Lääkkeet[[#This Row],[Sitoutunut pääoma 1.1.-30.6.2024 (EUR)]]>0,"Täytetyt",Lääkkeet[[#This Row],[Sitoutunut pääoma 1.7.-31.12.2024 (EUR)]]>0,"Täytetyt"),"")} | Y76: =Hakulomake!$B$29 -> 0
A77: X | B77: =Hakulomake!$B$17 -> 0 | C77: 1 | D77: J01MA02 | E77: 066033 | F77: siprofloksasiini | G77: Ciprofloxacin Krka | H77: 500 mg | I77: tabletti, kalvopäällysteinen | J77: 20 | O77: =MIN(Lääkkeet[[#This Row],[Velvoite 1.1.2024 (pakkauksia)]],Lääkkeet[[#This Row],[Suurimman alitusluvan mukainen velvoite 1.1.-30.6.2024 (pakkauksia)]],Lääkkeet[[#This Row],[Alin saldo 1.1.-30.6.2024 (pakkauksia)]])*Lääkkeet[[#This Row],[Kirjanpitoarvo / pakkaus 1.1.2024 (EUR ALV 0 %)]] -> 0 | U77: =MIN(Lääkkeet[[#This Row],[Velvoite 1.7.2024 (pakkauksia)]],Lääkkeet[[#This Row],[Suurimman alitusluvan mukainen velvoite 1.7.-31.12.2024 (pakkauksia)]],Lääkkeet[[#This Row],[Alin saldo 1.7.-31.12.2024 (pakkauksia)]])*Lääkkeet[[#This Row],[Kirjanpitoarvo / pakkaus 1.7.2024 (EUR ALV 0 %)]] -> 0 | W77: {=IFERROR(_xlfn.IFS(Lääkkeet[[#This Row],[Sitoutunut pääoma 1.1.-30.6.2024 (EUR)]]>0,"Täytetyt",Lääkkeet[[#This Row],[Sitoutunut pääoma 1.7.-31.12.2024 (EUR)]]>0,"Täytetyt"),"")} | Y77: =Hakulomake!$B$29 -> 0
A78: X | B78: =Hakulomake!$B$17 -> 0 | C78: 1 | D78: J01FF01 | E78: 071072 | F78: klindamysiini | G78: Clindamycin MIP | H78: 300 mg | I78: tabletti, kalvopäällysteinen | J78: 16 | O78: =MIN(Lääkkeet[[#This Row],[Velvoite 1.1.2024 (pakkauksia)]],Lääkkeet[[#This Row],[Suurimman alitusluvan mukainen velvoite 1.1.-30.6.2024 (pakkauksia)]],Lääkkeet[[#This Row],[Alin saldo 1.1.-30.6.2024 (pakkauksia)]])*Lääkkeet[[#This Row],[Kirjanpitoarvo / pakkaus 1.1.2024 (EUR ALV 0 %)]] -> 0 | U78: =MIN(Lääkkeet[[#This Row],[Velvoite 1.7.2024 (pakkauksia)]],Lääkkeet[[#This Row],[Suurimman alitusluvan mukainen velvoite 1.7.-31.12.2024 (pakkauksia)]],Lääkkeet[[#This Row],[Alin saldo 1.7.-31.12.2024 (pakkauksia)]])*Lääkkeet[[#This Row],[Kirjanpitoarvo / pakkaus 1.7.2024 (EUR ALV 0 %)]] -> 0 | W78: {=IFERROR(_xlfn.IFS(Lääkkeet[[#This Row],[Sitoutunut pääoma 1.1.-30.6.2024 (EUR)]]>0,"Täytetyt",Lääkkeet[[#This Row],[Sitoutunut pääoma 1.7.-31.12.2024 (EUR)]]>0,"Täytetyt"),"")} | Y78: =Hakulomake!$B$29 -> 0
A79: X | B79: =Hakulomake!$B$17 -> 0 | C79: 1 | D79: J01CR02 | E79: 072187 | F79: amoksisilliini ja beetalaktamaasin estäjä | G79: Betaklav | H79: 875 mg / 125 mg | I79: tabletti, kalvopäällysteinen | J79: 14 | O79: =MIN(Lääkkeet[[#This Row],[Velvoite 1.1.2024 (pakkauksia)]],Lääkkeet[[#This Row],[Suurimman alitusluvan mukainen velvoite 1.1.-30.6.2024 (pakkauksia)]],Lääkkeet[[#This Row],[Alin saldo 1.1.-30.6.2024 (pakkauksia)]])*Lääkkeet[[#This Row],[Kirjanpitoarvo / pakkaus 1.1.2024 (EUR ALV 0 %)]] -> 0 | U79: =MIN(Lääkkeet[[#This Row],[Velvoite 1.7.2024 (pakkauksia)]],Lääkkeet[[#This Row],[Suurimman alitusluvan mukainen velvoite 1.7.-31.12.2024 (pakkauksia)]],Lääkkeet[[#This Row],[Alin saldo 1.7.-31.12.2024 (pakkauksia)]])*Lääkkeet[[#This Row],[Kirjanpitoarvo / pakkaus 1.7.2024 (EUR ALV 0 %)]] -> 0 | W79: {=IFERROR(_xlfn.IFS(Lääkkeet[[#This Row],[Sitoutunut pääoma 1.1.-30.6.2024 (EUR)]]>0,"Täytetyt",Lääkkeet[[#This Row],[Sitoutunut pääoma 1.7.-31.12.2024 (EUR)]]>0,"Täytetyt"),"")} | Y79: =Hakulomake!$B$29 -> 0
A80: X | B80: =Hakulomake!$B$17 -> 0 | C80: 1 | D80: J01MA12 | E80: 076950 | F80: levofloksasiini | G80: Tavanic | H80: 500 mg | I80: tabletti, kalvopäällysteinen | J80: 10 | O80: =MIN(Lääkkeet[[#This Row],[Velvoite 1.1.2024 (pakkauksia)]],Lääkkeet[[#This Row],[Suurimman alitusluvan mukainen velvoite 1.1.-30.6.2024 (pakkauksia)]],Lääkkeet[[#This Row],[Alin saldo 1.1.-30.6.2024 (pakkauksia)]])*Lääkkeet[[#This Row],[Kirjanpitoarvo / pakkaus 1.1.2024 (EUR ALV 0 %)]] -> 0 | U80: =MIN(Lääkkeet[[#This Row],[Velvoite 1.7.2024 (pakkauksia)]],Lääkkeet[[#This Row],[Suurimman alitusluvan mukainen velvoite 1.7.-31.12.2024 (pakkauksia)]],Lääkkeet[[#This Row],[Alin saldo 1.7.-31.12.2024 (pakkauksia)]])*Lääkkeet[[#This Row],[Kirjanpitoarvo / pakkaus 1.7.2024 (EUR ALV 0 %)]] -> 0 | W80: {=IFERROR(_xlfn.IFS(Lääkkeet[[#This Row],[Sitoutunut pääoma 1.1.-30.6.2024 (EUR)]]>0,"Täytetyt",Lääkkeet[[#This Row],[Sitoutunut pääoma 1.7.-31.12.2024 (EUR)]]>0,"Täytetyt"),"")} | Y80: =Hakulomake!$B$29 -> 0
A81: X | B81: =Hakulomake!$B$17 -> 0 | C81: 1 | D81: J05AB01 | E81: 077180 | F81: asikloviiri | G81: Zovirax | H81: 200 mg | I81: tabletti | J81: 25 | O81: =MIN(Lääkkeet[[#This Row],[Velvoite 1.1.2024 (pakkauksia)]],Lääkkeet[[#This Row],[Suurimman alitusluvan mukainen velvoite 1.1.-30.6.2024 (pakkauksia)]],Lääkkeet[[#This Row],[Alin saldo 1.1.-30.6.2024 (pakkauksia)]])*Lääkkeet[[#This Row],[Kirjanpitoarvo / pakkaus 1.1.2024 (EUR ALV 0 %)]] -> 0 | U81: =MIN(Lääkkeet[[#This Row],[Velvoite 1.7.2024 (pakkauksia)]],Lääkkeet[[#This Row],[Suurimman alitusluvan mukainen velvoite 1.7.-31.12.2024 (pakkauksia)]],Lääkkeet[[#This Row],[Alin saldo 1.7.-31.12.2024 (pakkauksia)]])*Lääkkeet[[#This Row],[Kirjanpitoarvo / pakkaus 1.7.2024 (EUR ALV 0 %)]] -> 0 | W81: {=IFERROR(_xlfn.IFS(Lääkkeet[[#This Row],[Sitoutunut pääoma 1.1.-30.6.2024 (EUR)]]>0,"Täytetyt",Lääkkeet[[#This Row],[Sitoutunut pääoma 1.7.-31.12.2024 (EUR)]]>0,"Täytetyt"),"")} | Y81: =Hakulomake!$B$29 -> 0
A82: X | B82: =Hakulomake!$B$17 -> 0 | C82: 1 | D82: J05AH02 | E82: 079202 | F82: oseltamiviiri | G82: Tamiflu | H82: 75 mg | I82: kapseli, kova | J82: 10 | O82: =MIN(Lääkkeet[[#This Row],[Velvoite 1.1.2024 (pakkauksia)]],Lääkkeet[[#This Row],[Suurimman alitusluvan mukainen velvoite 1.1.-30.6.2024 (pakkauksia)]],Lääkkeet[[#This Row],[Alin saldo 1.1.-30.6.2024 (pakkauksia)]])*Lääkkeet[[#This Row],[Kirjanpitoarvo / pakkaus 1.1.2024 (EUR ALV 0 %)]] -> 0 | U82: =MIN(Lääkkeet[[#This Row],[Velvoite 1.7.2024 (pakkauksia)]],Lääkkeet[[#This Row],[Suurimman alitusluvan mukainen velvoite 1.7.-31.12.2024 (pakkauksia)]],Lääkkeet[[#This Row],[Alin saldo 1.7.-31.12.2024 (pakkauksia)]])*Lääkkeet[[#This Row],[Kirjanpitoarvo / pakkaus 1.7.2024 (EUR ALV 0 %)]] -> 0 | W82: {=IFERROR(_xlfn.IFS(Lääkkeet[[#This Row],[Sitoutunut pääoma 1.1.-30.6.2024 (EUR)]]>0,"Täytetyt",Lääkkeet[[#This Row],[Sitoutunut pääoma 1.7.-31.12.2024 (EUR)]]>0,"Täytetyt"),"")} | Y82: =Hakulomake!$B$29 -> 0
A83: X | B83: =Hakulomake!$B$17 -> 0 | C83: 1 | D83: J02AC01 | E83: 082476 | F83: flukonatsoli | G83: Fluconazole B. Braun | H83: 2 mg/ml | I83: infuusioneste, liuos | J83: 10 x 200 ml | O83: =MIN(Lääkkeet[[#This Row],[Velvoite 1.1.2024 (pakkauksia)]],Lääkkeet[[#This Row],[Suurimman alitusluvan mukainen velvoite 1.1.-30.6.2024 (pakkauksia)]],Lääkkeet[[#This Row],[Alin saldo 1.1.-30.6.2024 (pakkauksia)]])*Lääkkeet[[#This Row],[Kirjanpitoarvo / pakkaus 1.1.2024 (EUR ALV 0 %)]] -> 0 | U83: =MIN(Lääkkeet[[#This Row],[Velvoite 1.7.2024 (pakkauksia)]],Lääkkeet[[#This Row],[Suurimman alitusluvan mukainen velvoite 1.7.-31.12.2024 (pakkauksia)]],Lääkkeet[[#This Row],[Alin saldo 1.7.-31.12.2024 (pakkauksia)]])*Lääkkeet[[#This Row],[Kirjanpitoarvo / pakkaus 1.7.2024 (EUR ALV 0 %)]] -> 0 | W83: {=IFERROR(_xlfn.IFS(Lääkkeet[[#This Row],[Sitoutunut pääoma 1.1.-30.6.2024 (EUR)]]>0,"Täytetyt",Lääkkeet[[#This Row],[Sitoutunut pääoma 1.7.-31.12.2024 (EUR)]]>0,"Täytetyt"),"")} | Y83: =Hakulomake!$B$29 -> 0
A84: X | B84: =Hakulomake!$B$17 -> 0 | C84: 1 | D84: J01CR02 | E84: 090058 | F84: amoksisilliini ja beetalaktamaasin estäjä | G84: Amorion Comp | H84: 875 mg / 125 mg | I84: tabletti, kalvopäällysteinen | J84: 10 | O84: =MIN(Lääkkeet[[#This Row],[Velvoite 1.1.2024 (pakkauksia)]],Lääkkeet[[#This Row],[Suurimman alitusluvan mukainen velvoite 1.1.-30.6.2024 (pakkauksia)]],Lääkkeet[[#This Row],[Alin saldo 1.1.-30.6.2024 (pakkauksia)]])*Lääkkeet[[#This Row],[Kirjanpitoarvo / pakkaus 1.1.2024 (EUR ALV 0 %)]] -> 0 | U84: =MIN(Lääkkeet[[#This Row],[Velvoite 1.7.2024 (pakkauksia)]],Lääkkeet[[#This Row],[Suurimman alitusluvan mukainen velvoite 1.7.-31.12.2024 (pakkauksia)]],Lääkkeet[[#This Row],[Alin saldo 1.7.-31.12.2024 (pakkauksia)]])*Lääkkeet[[#This Row],[Kirjanpitoarvo / pakkaus 1.7.2024 (EUR ALV 0 %)]] -> 0 | W84: {=IFERROR(_xlfn.IFS(Lääkkeet[[#This Row],[Sitoutunut pääoma 1.1.-30.6.2024 (EUR)]]>0,"Täytetyt",Lääkkeet[[#This Row],[Sitoutunut pääoma 1.7.-31.12.2024 (EUR)]]>0,"Täytetyt"),"")} | Y84: =Hakulomake!$B$29 -> 0
A85: X | B85: =Hakulomake!$B$17 -> 0 | C85: 1 | D85: J01CR02 | E85: 090070 | F85: amoksisilliini ja beetalaktamaasin estäjä | G85: Amorion Comp | H85: 875 mg / 125 mg | I85: tabletti, kalvopäällysteinen | J85: 14 | O85: =MIN(Lääkkeet[[#This Row],[Velvoite 1.1.2024 (pakkauksia)]],Lääkkeet[[#This Row],[Suurimman alitusluvan mukainen velvoite 1.1.-30.6.2024 (pakkauksia)]],Lääkkeet[[#This Row],[Alin saldo 1.1.-30.6.2024 (pakkauksia)]])*Lääkkeet[[#This Row],[Kirjanpitoarvo / pakkaus 1.1.2024 (EUR ALV 0 %)]] -> 0 | U85: =MIN(Lääkkeet[[#This Row],[Velvoite 1.7.2024 (pakkauksia)]],Lääkkeet[[#This Row],[Suurimman alitusluvan mukainen velvoite 1.7.-31.12.2024 (pakkauksia)]],Lääkkeet[[#This Row],[Alin saldo 1.7.-31.12.2024 (pakkauksia)]])*Lääkkeet[[#This Row],[Kirjanpitoarvo / pakkaus 1.7.2024 (EUR ALV 0 %)]] -> 0 | W85: {=IFERROR(_xlfn.IFS(Lääkkeet[[#This Row],[Sitoutunut pääoma 1.1.-30.6.2024 (EUR)]]>0,"Täytetyt",Lääkkeet[[#This Row],[Sitoutunut pääoma 1.7.-31.12.2024 (EUR)]]>0,"Täytetyt"),"")} | Y85: =Hakulomake!$B$29 -> 0
A86: X | B86: =Hakulomake!$B$17 -> 0 | C86: 1 | D86: J01DH02 | E86: 093167 | F86: meropeneemi | G86: Meropenem SUN | H86: 500 mg | I86: injektio-/infuusiokuiva-aine liuosta varten | J86: 10 x 500 mg | O86: =MIN(Lääkkeet[[#This Row],[Velvoite 1.1.2024 (pakkauksia)]],Lääkkeet[[#This Row],[Suurimman alitusluvan mukainen velvoite 1.1.-30.6.2024 (pakkauksia)]],Lääkkeet[[#This Row],[Alin saldo 1.1.-30.6.2024 (pakkauksia)]])*Lääkkeet[[#This Row],[Kirjanpitoarvo / pakkaus 1.1.2024 (EUR ALV 0 %)]] -> 0 | U86: =MIN(Lääkkeet[[#This Row],[Velvoite 1.7.2024 (pakkauksia)]],Lääkkeet[[#This Row],[Suurimman alitusluvan mukainen velvoite 1.7.-31.12.2024 (pakkauksia)]],Lääkkeet[[#This Row],[Alin saldo 1.7.-31.12.2024 (pakkauksia)]])*Lääkkeet[[#This Row],[Kirjanpitoarvo / pakkaus 1.7.2024 (EUR ALV 0 %)]] -> 0 | W86: {=IFERROR(_xlfn.IFS(Lääkkeet[[#This Row],[Sitoutunut pääoma 1.1.-30.6.2024 (EUR)]]>0,"Täytetyt",Lääkkeet[[#This Row],[Sitoutunut pääoma 1.7.-31.12.2024 (EUR)]]>0,"Täytetyt"),"")} | Y86: =Hakulomake!$B$29 -> 0
A87: X | B87: =Hakulomake!$B$17 -> 0 | C87: 1 | D87: J05AB01 | E87: 094441 | F87: asikloviiri | G87: Aclovir | H87: 200 mg | I87: tabletti | J87: 25 | O87: =MIN(Lääkkeet[[#This Row],[Velvoite 1.1.2024 (pakkauksia)]],Lääkkeet[[#This Row],[Suurimman alitusluvan mukainen velvoite 1.1.-30.6.2024 (pakkauksia)]],Lääkkeet[[#This Row],[Alin saldo 1.1.-30.6.2024 (pakkauksia)]])*Lääkkeet[[#This Row],[Kirjanpitoarvo / pakkaus 1.1.2024 (EUR ALV 0 %)]] -> 0 | U87: =MIN(Lääkkeet[[#This Row],[Velvoite 1.7.2024 (pakkauksia)]],Lääkkeet[[#This Row],[Suurimman alitusluvan mukainen velvoite 1.7.-31.12.2024 (pakkauksia)]],Lääkkeet[[#This Row],[Alin saldo 1.7.-31.12.2024 (pakkauksia)]])*Lääkkeet[[#This Row],[Kirjanpitoarvo / pakkaus 1.7.2024 (EUR ALV 0 %)]] -> 0 | W87: {=IFERROR(_xlfn.IFS(Lääkkeet[[#This Row],[Sitoutunut pääoma 1.1.-30.6.2024 (EUR)]]>0,"Täytetyt",Lääkkeet[[#This Row],[Sitoutunut pääoma 1.7.-31.12.2024 (EUR)]]>0,"Täytetyt"),"")} | Y87: =Hakulomake!$B$29 -> 0
A88: X | B88: =Hakulomake!$B$17 -> 0 | C88: 1 | D88: P01AB01 | E88: 094854 | F88: metronidatsoli | G88: Trikozol | H88: 400 mg | I88: tabletti | J88: 14 | O88: =MIN(Lääkkeet[[#This Row],[Velvoite 1.1.2024 (pakkauksia)]],Lääkkeet[[#This Row],[Suurimman alitusluvan mukainen velvoite 1.1.-30.6.2024 (pakkauksia)]],Lääkkeet[[#This Row],[Alin saldo 1.1.-30.6.2024 (pakkauksia)]])*Lääkkeet[[#This Row],[Kirjanpitoarvo / pakkaus 1.1.2024 (EUR ALV 0 %)]] -> 0 | U88: =MIN(Lääkkeet[[#This Row],[Velvoite 1.7.2024 (pakkauksia)]],Lääkkeet[[#This Row],[Suurimman alitusluvan mukainen velvoite 1.7.-31.12.2024 (pakkauksia)]],Lääkkeet[[#This Row],[Alin saldo 1.7.-31.12.2024 (pakkauksia)]])*Lääkkeet[[#This Row],[Kirjanpitoarvo / pakkaus 1.7.2024 (EUR ALV 0 %)]] -> 0 | W88: {=IFERROR(_xlfn.IFS(Lääkkeet[[#This Row],[Sitoutunut pääoma 1.1.-30.6.2024 (EUR)]]>0,"Täytetyt",Lääkkeet[[#This Row],[Sitoutunut pääoma 1.7.-31.12.2024 (EUR)]]>0,"Täytetyt"),"")} | Y88: =Hakulomake!$B$29 -> 0
A89: X | B89: =Hakulomake!$B$17 -> 0 | C89: 1 | D89: J02AC01 | E89: 096625 | F89: flukonatsoli | G89: Fluconazol Fresenius Kabi | H89: 2 mg/ml | I89: infuusioneste, liuos | J89: 10 x 100 ml | O89: =MIN(Lääkkeet[[#This Row],[Velvoite 1.1.2024 (pakkauksia)]],Lääkkeet[[#This Row],[Suurimman alitusluvan mukainen velvoite 1.1.-30.6.2024 (pakkauksia)]],Lääkkeet[[#This Row],[Alin saldo 1.1.-30.6.2024 (pakkauksia)]])*Lääkkeet[[#This Row],[Kirjanpitoarvo / pakkaus 1.1.2024 (EUR ALV 0 %)]] -> 0 | U89: =MIN(Lääkkeet[[#This Row],[Velvoite 1.7.2024 (pakkauksia)]],Lääkkeet[[#This Row],[Suurimman alitusluvan mukainen velvoite 1.7.-31.12.2024 (pakkauksia)]],Lääkkeet[[#This Row],[Alin saldo 1.7.-31.12.2024 (pakkauksia)]])*Lääkkeet[[#This Row],[Kirjanpitoarvo / pakkaus 1.7.2024 (EUR ALV 0 %)]] -> 0 | W89: {=IFERROR(_xlfn.IFS(Lääkkeet[[#This Row],[Sitoutunut pääoma 1.1.-30.6.2024 (EUR)]]>0,"Täytetyt",Lääkkeet[[#This Row],[Sitoutunut pääoma 1.7.-31.12.2024 (EUR)]]>0,"Täytetyt"),"")} | Y89: =Hakulomake!$B$29 -> 0
A90: X | B90: =Hakulomake!$B$17 -> 0 | C90: 1 | D90: J02AC01 | E90: 096637 | F90: flukonatsoli | G90: Fluconazol Fresenius Kabi | H90: 2 mg/ml | I90: infuusioneste, liuos | J90: 10 x 200 ml | O90: =MIN(Lääkkeet[[#This Row],[Velvoite 1.1.2024 (pakkauksia)]],Lääkkeet[[#This Row],[Suurimman alitusluvan mukainen velvoite 1.1.-30.6.2024 (pakkauksia)]],Lääkkeet[[#This Row],[Alin saldo 1.1.-30.6.2024 (pakkauksia)]])*Lääkkeet[[#This Row],[Kirjanpitoarvo / pakkaus 1.1.2024 (EUR ALV 0 %)]] -> 0 | U90: =MIN(Lääkkeet[[#This Row],[Velvoite 1.7.2024 (pakkauksia)]],Lääkkeet[[#This Row],[Suurimman alitusluvan mukainen velvoite 1.7.-31.12.2024 (pakkauksia)]],Lääkkeet[[#This Row],[Alin saldo 1.7.-31.12.2024 (pakkauksia)]])*Lääkkeet[[#This Row],[Kirjanpitoarvo / pakkaus 1.7.2024 (EUR ALV 0 %)]] -> 0 | W90: {=IFERROR(_xlfn.IFS(Lääkkeet[[#This Row],[Sitoutunut pääoma 1.1.-30.6.2024 (EUR)]]>0,"Täytetyt",Lääkkeet[[#This Row],[Sitoutunut pääoma 1.7.-31.12.2024 (EUR)]]>0,"Täytetyt"),"")} | Y90: =Hakulomake!$B$29 -> 0
A91: X | B91: =Hakulomake!$B$17 -> 0 | C91: 1 | D91: J01MA12 | E91: 105805 | F91: levofloksasiini | G91: Levofloxacin Orion | H91: 500 mg | I91: tabletti, kalvopäällysteinen | J91: 7 | O91: =MIN(Lääkkeet[[#This Row],[Velvoite 1.1.2024 (pakkauksia)]],Lääkkeet[[#This Row],[Suurimman alitusluvan mukainen velvoite 1.1.-30.6.2024 (pakkauksia)]],Lääkkeet[[#This Row],[Alin saldo 1.1.-30.6.2024 (pakkauksia)]])*Lääkkeet[[#This Row],[Kirjanpitoarvo / pakkaus 1.1.2024 (EUR ALV 0 %)]] -> 0 | U91: =MIN(Lääkkeet[[#This Row],[Velvoite 1.7.2024 (pakkauksia)]],Lääkkeet[[#This Row],[Suurimman alitusluvan mukainen velvoite 1.7.-31.12.2024 (pakkauksia)]],Lääkkeet[[#This Row],[Alin saldo 1.7.-31.12.2024 (pakkauksia)]])*Lääkkeet[[#This Row],[Kirjanpitoarvo / pakkaus 1.7.2024 (EUR ALV 0 %)]] -> 0 | W91: {=IFERROR(_xlfn.IFS(Lääkkeet[[#This Row],[Sitoutunut pääoma 1.1.-30.6.2024 (EUR)]]>0,"Täytetyt",Lääkkeet[[#This Row],[Sitoutunut pääoma 1.7.-31.12.2024 (EUR)]]>0,"Täytetyt"),"")} | Y91: =Hakulomake!$B$29 -> 0
A92: X | B92: =Hakulomake!$B$17 -> 0 | C92: 1 | D92: J05AH02 | E92: 106006 | F92: oseltamiviiri | G92: Tamiflu | H92: 30 mg | I92: kapseli, kova | J92: 10 | O92: =MIN(Lääkkeet[[#This Row],[Velvoite 1.1.2024 (pakkauksia)]],Lääkkeet[[#This Row],[Suurimman alitusluvan mukainen velvoite 1.1.-30.6.2024 (pakkauksia)]],Lääkkeet[[#This Row],[Alin saldo 1.1.-30.6.2024 (pakkauksia)]])*Lääkkeet[[#This Row],[Kirjanpitoarvo / pakkaus 1.1.2024 (EUR ALV 0 %)]] -> 0 | U92: =MIN(Lääkkeet[[#This Row],[Velvoite 1.7.2024 (pakkauksia)]],Lääkkeet[[#This Row],[Suurimman alitusluvan mukainen velvoite 1.7.-31.12.2024 (pakkauksia)]],Lääkkeet[[#This Row],[Alin saldo 1.7.-31.12.2024 (pakkauksia)]])*Lääkkeet[[#This Row],[Kirjanpitoarvo / pakkaus 1.7.2024 (EUR ALV 0 %)]] -> 0 | W92: {=IFERROR(_xlfn.IFS(Lääkkeet[[#This Row],[Sitoutunut pääoma 1.1.-30.6.2024 (EUR)]]>0,"Täytetyt",Lääkkeet[[#This Row],[Sitoutunut pääoma 1.7.-31.12.2024 (EUR)]]>0,"Täytetyt"),"")} | Y92: =Hakulomake!$B$29 -> 0
A93: X | B93: =Hakulomake!$B$17 -> 0 | C93: 1 | D93: J05AH02 | E93: 106017 | F93: oseltamiviiri | G93: Tamiflu | H93: 45 mg | I93: kapseli, kova | J93: 10 | O93: =MIN(Lääkkeet[[#This Row],[Velvoite 1.1.2024 (pakkauksia)]],Lääkkeet[[#This Row],[Suurimman alitusluvan mukainen velvoite 1.1.-30.6.2024 (pakkauksia)]],Lääkkeet[[#This Row],[Alin saldo 1.1.-30.6.2024 (pakkauksia)]])*Lääkkeet[[#This Row],[Kirjanpitoarvo / pakkaus 1.1.2024 (EUR ALV 0 %)]] -> 0 | U93: =MIN(Lääkkeet[[#This Row],[Velvoite 1.7.2024 (pakkauksia)]],Lääkkeet[[#This Row],[Suurimman alitusluvan mukainen velvoite 1.7.-31.12.2024 (pakkauksia)]],Lääkkeet[[#This Row],[Alin saldo 1.7.-31.12.2024 (pakkauksia)]])*Lääkkeet[[#This Row],[Kirjanpitoarvo / pakkaus 1.7.2024 (EUR ALV 0 %)]] -> 0 | W93: {=IFERROR(_xlfn.IFS(Lääkkeet[[#This Row],[Sitoutunut pääoma 1.1.-30.6.2024 (EUR)]]>0,"Täytetyt",Lääkkeet[[#This Row],[Sitoutunut pääoma 1.7.-31.12.2024 (EUR)]]>0,"Täytetyt"),"")} | Y93: =Hakulomake!$B$29 -> 0
A94: X | B94: =Hakulomake!$B$17 -> 0 | C94: 1 | D94: J01MA02 | E94: 106602 | F94: siprofloksasiini | G94: Ciprofloxacin Navamedic | H94: 2 mg/ml | I94: infuusioneste, liuos | J94: 10 x 100 ml | O94: =MIN(Lääkkeet[[#This Row],[Velvoite 1.1.2024 (pakkauksia)]],Lääkkeet[[#This Row],[Suurimman alitusluvan mukainen velvoite 1.1.-30.6.2024 (pakkauksia)]],Lääkkeet[[#This Row],[Alin saldo 1.1.-30.6.2024 (pakkauksia)]])*Lääkkeet[[#This Row],[Kirjanpitoarvo / pakkaus 1.1.2024 (EUR ALV 0 %)]] -> 0 | U94: =MIN(Lääkkeet[[#This Row],[Velvoite 1.7.2024 (pakkauksia)]],Lääkkeet[[#This Row],[Suurimman alitusluvan mukainen velvoite 1.7.-31.12.2024 (pakkauksia)]],Lääkkeet[[#This Row],[Alin saldo 1.7.-31.12.2024 (pakkauksia)]])*Lääkkeet[[#This Row],[Kirjanpitoarvo / pakkaus 1.7.2024 (EUR ALV 0 %)]] -> 0 | W94: {=IFERROR(_xlfn.IFS(Lääkkeet[[#This Row],[Sitoutunut pääoma 1.1.-30.6.2024 (EUR)]]>0,"Täytetyt",Lääkkeet[[#This Row],[Sitoutunut pääoma 1.7.-31.12.2024 (EUR)]]>0,"Täytetyt"),"")} | Y94: =Hakulomake!$B$29 -> 0
A95: X | B95: =Hakulomake!$B$17 -> 0 | C95: 1 | D95: J05AB01 | E95: 106872 | F95: asikloviiri | G95: Acyclostad | H95: 200 mg | I95: tabletti | J95: 25 | O95: =MIN(Lääkkeet[[#This Row],[Velvoite 1.1.2024 (pakkauksia)]],Lääkkeet[[#This Row],[Suurimman alitusluvan mukainen velvoite 1.1.-30.6.2024 (pakkauksia)]],Lääkkeet[[#This Row],[Alin saldo 1.1.-30.6.2024 (pakkauksia)]])*Lääkkeet[[#This Row],[Kirjanpitoarvo / pakkaus 1.1.2024 (EUR ALV 0 %)]] -> 0 | U95: =MIN(Lääkkeet[[#This Row],[Velvoite 1.7.2024 (pakkauksia)]],Lääkkeet[[#This Row],[Suurimman alitusluvan mukainen velvoite 1.7.-31.12.2024 (pakkauksia)]],Lääkkeet[[#This Row],[Alin saldo 1.7.-31.12.2024 (pakkauksia)]])*Lääkkeet[[#This Row],[Kirjanpitoarvo / pakkaus 1.7.2024 (EUR ALV 0 %)]] -> 0 | W95: {=IFERROR(_xlfn.IFS(Lääkkeet[[#This Row],[Sitoutunut pääoma 1.1.-30.6.2024 (EUR)]]>0,"Täytetyt",Lääkkeet[[#This Row],[Sitoutunut pääoma 1.7.-31.12.2024 (EUR)]]>0,"Täytetyt"),"")} | Y95: =Hakulomake!$B$29 -> 0
A96: X | B96: =Hakulomake!$B$17 -> 0 | C96: 1 | D96: J01MA02 | E96: 107035 | F96: siprofloksasiini | G96: Ciprofloxacin Orion | H96: 500 mg | I96: tabletti, kalvopäällysteinen | J96: 20 | O96: =MIN(Lääkkeet[[#This Row],[Velvoite 1.1.2024 (pakkauksia)]],Lääkkeet[[#This Row],[Suurimman alitusluvan mukainen velvoite 1.1.-30.6.2024 (pakkauksia)]],Lääkkeet[[#This Row],[Alin saldo 1.1.-30.6.2024 (pakkauksia)]])*Lääkkeet[[#This Row],[Kirjanpitoarvo / pakkaus 1.1.2024 (EUR ALV 0 %)]] -> 0 | U96: =MIN(Lääkkeet[[#This Row],[Velvoite 1.7.2024 (pakkauksia)]],Lääkkeet[[#This Row],[Suurimman alitusluvan mukainen velvoite 1.7.-31.12.2024 (pakkauksia)]],Lääkkeet[[#This Row],[Alin saldo 1.7.-31.12.2024 (pakkauksia)]])*Lääkkeet[[#This Row],[Kirjanpitoarvo / pakkaus 1.7.2024 (EUR ALV 0 %)]] -> 0 | W96: {=IFERROR(_xlfn.IFS(Lääkkeet[[#This Row],[Sitoutunut pääoma 1.1.-30.6.2024 (EUR)]]>0,"Täytetyt",Lääkkeet[[#This Row],[Sitoutunut pääoma 1.7.-31.12.2024 (EUR)]]>0,"Täytetyt"),"")} | Y96: =Hakulomake!$B$29 -> 0
A97: X | B97: =Hakulomake!$B$17 -> 0 | C97: 1 | D97: J01XA01 | E97: 110314 | F97: vankomysiini | G97: Vancosan | H97: 1000 mg | I97: infuusiokuiva-aine, liuosta varten | J97: 5 | O97: =MIN(Lääkkeet[[#This Row],[Velvoite 1.1.2024 (pakkauksia)]],Lääkkeet[[#This Row],[Suurimman alitusluvan mukainen velvoite 1.1.-30.6.2024 (pakkauksia)]],Lääkkeet[[#This Row],[Alin saldo 1.1.-30.6.2024 (pakkauksia)]])*Lääkkeet[[#This Row],[Kirjanpitoarvo / pakkaus 1.1.2024 (EUR ALV 0 %)]] -> 0 | U97: =MIN(Lääkkeet[[#This Row],[Velvoite 1.7.2024 (pakkauksia)]],Lääkkeet[[#This Row],[Suurimman alitusluvan mukainen velvoite 1.7.-31.12.2024 (pakkauksia)]],Lääkkeet[[#This Row],[Alin saldo 1.7.-31.12.2024 (pakkauksia)]])*Lääkkeet[[#This Row],[Kirjanpitoarvo / pakkaus 1.7.2024 (EUR ALV 0 %)]] -> 0 | W97: {=IFERROR(_xlfn.IFS(Lääkkeet[[#This Row],[Sitoutunut pääoma 1.1.-30.6.2024 (EUR)]]>0,"Täytetyt",Lääkkeet[[#This Row],[Sitoutunut pääoma 1.7.-31.12.2024 (EUR)]]>0,"Täytetyt"),"")} | Y97: =Hakulomake!$B$29 -> 0
A98: X | B98: =Hakulomake!$B$17 -> 0 | C98: 1 | D98: J01MA02 | E98: 110921 | F98: siprofloksasiini | G98: Ciprofloxacin Orion | H98: 500 mg | I98: tabletti, kalvopäällysteinen | J98: 10 | O98: =MIN(Lääkkeet[[#This Row],[Velvoite 1.1.2024 (pakkauksia)]],Lääkkeet[[#This Row],[Suurimman alitusluvan mukainen velvoite 1.1.-30.6.2024 (pakkauksia)]],Lääkkeet[[#This Row],[Alin saldo 1.1.-30.6.2024 (pakkauksia)]])*Lääkkeet[[#This Row],[Kirjanpitoarvo / pakkaus 1.1.2024 (EUR ALV 0 %)]] -> 0 | U98: =MIN(Lääkkeet[[#This Row],[Velvoite 1.7.2024 (pakkauksia)]],Lääkkeet[[#This Row],[Suurimman alitusluvan mukainen velvoite 1.7.-31.12.2024 (pakkauksia)]],Lääkkeet[[#This Row],[Alin saldo 1.7.-31.12.2024 (pakkauksia)]])*Lääkkeet[[#This Row],[Kirjanpitoarvo / pakkaus 1.7.2024 (EUR ALV 0 %)]] -> 0 | W98: {=IFERROR(_xlfn.IFS(Lääkkeet[[#This Row],[Sitoutunut pääoma 1.1.-30.6.2024 (EUR)]]>0,"Täytetyt",Lääkkeet[[#This Row],[Sitoutunut pääoma 1.7.-31.12.2024 (EUR)]]>0,"Täytetyt"),"")} | Y98: =Hakulomake!$B$29 -> 0
A99: X | B99: =Hakulomake!$B$17 -> 0 | C99: 1 | D99: J01DD04 | E99: 112422 | F99: keftriaksoni | G99: Ceftriaxon Fresenius Kabi | H99: 2 g | I99: infuusiokuiva-aine, liuosta varten | J99: 10 x 2 g | O99: =MIN(Lääkkeet[[#This Row],[Velvoite 1.1.2024 (pakkauksia)]],Lääkkeet[[#This Row],[Suurimman alitusluvan mukainen velvoite 1.1.-30.6.2024 (pakkauksia)]],Lääkkeet[[#This Row],[Alin saldo 1.1.-30.6.2024 (pakkauksia)]])*Lääkkeet[[#This Row],[Kirjanpitoarvo / pakkaus 1.1.2024 (EUR ALV 0 %)]] -> 0 | U99: =MIN(Lääkkeet[[#This Row],[Velvoite 1.7.2024 (pakkauksia)]],Lääkkeet[[#This Row],[Suurimman alitusluvan mukainen velvoite 1.7.-31.12.2024 (pakkauksia)]],Lääkkeet[[#This Row],[Alin saldo 1.7.-31.12.2024 (pakkauksia)]])*Lääkkeet[[#This Row],[Kirjanpitoarvo / pakkaus 1.7.2024 (EUR ALV 0 %)]] -> 0 | W99: {=IFERROR(_xlfn.IFS(Lääkkeet[[#This Row],[Sitoutunut pääoma 1.1.-30.6.2024 (EUR)]]>0,"Täytetyt",Lääkkeet[[#This Row],[Sitoutunut pääoma 1.7.-31.12.2024 (EUR)]]>0,"Täytetyt"),"")} | Y99: =Hakulomake!$B$29 -> 0
A100: X | B100: =Hakulomake!$B$17 -> 0 | C100: 1 | D100: J01DD04 | E100: 112449 | F100: keftriaksoni | G100: Ceftriaxon Fresenius Kabi | H100: 1 g | I100: injektio-/infuusiokuiva-aine liuosta varten | J100: 10 x 1 g | O100: =MIN(Lääkkeet[[#This Row],[Velvoite 1.1.2024 (pakkauksia)]],Lääkkeet[[#This Row],[Suurimman alitusluvan mukainen velvoite 1.1.-30.6.2024 (pakkauksia)]],Lääkkeet[[#This Row],[Alin saldo 1.1.-30.6.2024 (pakkauksia)]])*Lääkkeet[[#This Row],[Kirjanpitoarvo / pakkaus 1.1.2024 (EUR ALV 0 %)]] -> 0 | U100: =MIN(Lääkkeet[[#This Row],[Velvoite 1.7.2024 (pakkauksia)]],Lääkkeet[[#This Row],[Suurimman alitusluvan mukainen velvoite 1.7.-31.12.2024 (pakkauksia)]],Lääkkeet[[#This Row],[Alin saldo 1.7.-31.12.2024 (pakkauksia)]])*Lääkkeet[[#This Row],[Kirjanpitoarvo / pakkaus 1.7.2024 (EUR ALV 0 %)]] -> 0 | W100: {=IFERROR(_xlfn.IFS(Lääkkeet[[#This Row],[Sitoutunut pääoma 1.1.-30.6.2024 (EUR)]]>0,"Täytetyt",Lääkkeet[[#This Row],[Sitoutunut pääoma 1.7.-31.12.2024 (EUR)]]>0,"Täytetyt"),"")} | Y100: =Hakulomake!$B$29 -> 0
A101: X | B101: =Hakulomake!$B$17 -> 0 | C101: 1 | D101: J01DH02 | E101: 116067 | F101: meropeneemi | G101: Meropenem Stada | H101: 1 g | I101: injektio-/infuusiokuiva-aine liuosta varten | J101: 10 x 1 g | O101: =MIN(Lääkkeet[[#This Row],[Velvoite 1.1.2024 (pakkauksia)]],Lääkkeet[[#This Row],[Suurimman alitusluvan mukainen velvoite 1.1.-30.6.2024 (pakkauksia)]],Lääkkeet[[#This Row],[Alin saldo 1.1.-30.6.2024 (pakkauksia)]])*Lääkkeet[[#This Row],[Kirjanpitoarvo / pakkaus 1.1.2024 (EUR ALV 0 %)]] -> 0 | U101: =MIN(Lääkkeet[[#This Row],[Velvoite 1.7.2024 (pakkauksia)]],Lääkkeet[[#This Row],[Suurimman alitusluvan mukainen velvoite 1.7.-31.12.2024 (pakkauksia)]],Lääkkeet[[#This Row],[Alin saldo 1.7.-31.12.2024 (pakkauksia)]])*Lääkkeet[[#This Row],[Kirjanpitoarvo / pakkaus 1.7.2024 (EUR ALV 0 %)]] -> 0 | W101: {=IFERROR(_xlfn.IFS(Lääkkeet[[#This Row],[Sitoutunut pääoma 1.1.-30.6.2024 (EUR)]]>0,"Täytetyt",Lääkkeet[[#This Row],[Sitoutunut pääoma 1.7.-31.12.2024 (EUR)]]>0,"Täytetyt"),"")} | Y101: =Hakulomake!$B$29 -> 0
A102: X | B102: =Hakulomake!$B$17 -> 0 | C102: 1 | D102: J05AB01 | E102: 123037 | F102: asikloviiri | G102: Acyrax | H102: 200 mg | I102: tabletti | J102: 25 | O102: =MIN(Lääkkeet[[#This Row],[Velvoite 1.1.2024 (pakkauksia)]],Lääkkeet[[#This Row],[Suurimman alitusluvan mukainen velvoite 1.1.-30.6.2024 (pakkauksia)]],Lääkkeet[[#This Row],[Alin saldo 1.1.-30.6.2024 (pakkauksia)]])*Lääkkeet[[#This Row],[Kirjanpitoarvo / pakkaus 1.1.2024 (EUR ALV 0 %)]] -> 0 | U102: =MIN(Lääkkeet[[#This Row],[Velvoite 1.7.2024 (pakkauksia)]],Lääkkeet[[#This Row],[Suurimman alitusluvan mukainen velvoite 1.7.-31.12.2024 (pakkauksia)]],Lääkkeet[[#This Row],[Alin saldo 1.7.-31.12.2024 (pakkauksia)]])*Lääkkeet[[#This Row],[Kirjanpitoarvo / pakkaus 1.7.2024 (EUR ALV 0 %)]] -> 0 | W102: {=IFERROR(_xlfn.IFS(Lääkkeet[[#This Row],[Sitoutunut pääoma 1.1.-30.6.2024 (EUR)]]>0,"Täytetyt",Lääkkeet[[#This Row],[Sitoutunut pääoma 1.7.-31.12.2024 (EUR)]]>0,"Täytetyt"),"")} | Y102: =Hakulomake!$B$29 -> 0
A103: X | B103: =Hakulomake!$B$17 -> 0 | C103: 1 | D103: J01CF02 | E103: 130014 | F103: kloksasilliini | G103: Cloxacillin Stragen | H103: 1 g | I103: injektio/infuusiokuiva-aine, liuosta varten | J103: 10 x 1 g | O103: =MIN(Lääkkeet[[#This Row],[Velvoite 1.1.2024 (pakkauksia)]],Lääkkeet[[#This Row],[Suurimman alitusluvan mukainen velvoite 1.1.-30.6.2024 (pakkauksia)]],Lääkkeet[[#This Row],[Alin saldo 1.1.-30.6.2024 (pakkauksia)]])*Lääkkeet[[#This Row],[Kirjanpitoarvo / pakkaus 1.1.2024 (EUR ALV 0 %)]] -> 0 | U103: =MIN(Lääkkeet[[#This Row],[Velvoite 1.7.2024 (pakkauksia)]],Lääkkeet[[#This Row],[Suurimman alitusluvan mukainen velvoite 1.7.-31.12.2024 (pakkauksia)]],Lääkkeet[[#This Row],[Alin saldo 1.7.-31.12.2024 (pakkauksia)]])*Lääkkeet[[#This Row],[Kirjanpitoarvo / pakkaus 1.7.2024 (EUR ALV 0 %)]] -> 0 | W103: {=IFERROR(_xlfn.IFS(Lääkkeet[[#This Row],[Sitoutunut pääoma 1.1.-30.6.2024 (EUR)]]>0,"Täytetyt",Lääkkeet[[#This Row],[Sitoutunut pääoma 1.7.-31.12.2024 (EUR)]]>0,"Täytetyt"),"")} | Y103: =Hakulomake!$B$29 -> 0
A104: X | B104: =Hakulomake!$B$17 -> 0 | C104: 1 | D104: J01EA01 | E104: 130864 | F104: trimetopriimi | G104: Trimopan | H104: 160 mg | I104: tabletti, kalvopäällysteinen | J104: 10 | O104: =MIN(Lääkkeet[[#This Row],[Velvoite 1.1.2024 (pakkauksia)]],Lääkkeet[[#This Row],[Suurimman alitusluvan mukainen velvoite 1.1.-30.6.2024 (pakkauksia)]],Lääkkeet[[#This Row],[Alin saldo 1.1.-30.6.2024 (pakkauksia)]])*Lääkkeet[[#This Row],[Kirjanpitoarvo / pakkaus 1.1.2024 (EUR ALV 0 %)]] -> 0 | U104: =MIN(Lääkkeet[[#This Row],[Velvoite 1.7.2024 (pakkauksia)]],Lääkkeet[[#This Row],[Suurimman alitusluvan mukainen velvoite 1.7.-31.12.2024 (pakkauksia)]],Lääkkeet[[#This Row],[Alin saldo 1.7.-31.12.2024 (pakkauksia)]])*Lääkkeet[[#This Row],[Kirjanpitoarvo / pakkaus 1.7.2024 (EUR ALV 0 %)]] -> 0 | W104: {=IFERROR(_xlfn.IFS(Lääkkeet[[#This Row],[Sitoutunut pääoma 1.1.-30.6.2024 (EUR)]]>0,"Täytetyt",Lääkkeet[[#This Row],[Sitoutunut pääoma 1.7.-31.12.2024 (EUR)]]>0,"Täytetyt"),"")} | Y104: =Hakulomake!$B$29 -> 0
A105: X | B105: =Hakulomake!$B$17 -> 0 | C105: 1 | D105: J01EA01 | E105: 130880 | F105: trimetopriimi | G105: Trimopan | H105: 160 mg | I105: tabletti, kalvopäällysteinen | J105: 20 | O105: =MIN(Lääkkeet[[#This Row],[Velvoite 1.1.2024 (pakkauksia)]],Lääkkeet[[#This Row],[Suurimman alitusluvan mukainen velvoite 1.1.-30.6.2024 (pakkauksia)]],Lääkkeet[[#This Row],[Alin saldo 1.1.-30.6.2024 (pakkauksia)]])*Lääkkeet[[#This Row],[Kirjanpitoarvo / pakkaus 1.1.2024 (EUR ALV 0 %)]] -> 0 | U105: =MIN(Lääkkeet[[#This Row],[Velvoite 1.7.2024 (pakkauksia)]],Lääkkeet[[#This Row],[Suurimman alitusluvan mukainen velvoite 1.7.-31.12.2024 (pakkauksia)]],Lääkkeet[[#This Row],[Alin saldo 1.7.-31.12.2024 (pakkauksia)]])*Lääkkeet[[#This Row],[Kirjanpitoarvo / pakkaus 1.7.2024 (EUR ALV 0 %)]] -> 0 | W105: {=IFERROR(_xlfn.IFS(Lääkkeet[[#This Row],[Sitoutunut pääoma 1.1.-30.6.2024 (EUR)]]>0,"Täytetyt",Lääkkeet[[#This Row],[Sitoutunut pääoma 1.7.-31.12.2024 (EUR)]]>0,"Täytetyt"),"")} | Y105: =Hakulomake!$B$29 -> 0
A106: X | B106: =Hakulomake!$B$17 -> 0 | C106: 1 | D106: J01FA09 | E106: 134338 | F106: klaritromysiini | G106: Klacid | H106: 50 mg/ml | I106: rakeet oraalisuspensiota varten | J106: 50 ml | O106: =MIN(Lääkkeet[[#This Row],[Velvoite 1.1.2024 (pakkauksia)]],Lääkkeet[[#This Row],[Suurimman alitusluvan mukainen velvoite 1.1.-30.6.2024 (pakkauksia)]],Lääkkeet[[#This Row],[Alin saldo 1.1.-30.6.2024 (pakkauksia)]])*Lääkkeet[[#This Row],[Kirjanpitoarvo / pakkaus 1.1.2024 (EUR ALV 0 %)]] -> 0 | U106: =MIN(Lääkkeet[[#This Row],[Velvoite 1.7.2024 (pakkauksia)]],Lääkkeet[[#This Row],[Suurimman alitusluvan mukainen velvoite 1.7.-31.12.2024 (pakkauksia)]],Lääkkeet[[#This Row],[Alin saldo 1.7.-31.12.2024 (pakkauksia)]])*Lääkkeet[[#This Row],[Kirjanpitoarvo / pakkaus 1.7.2024 (EUR ALV 0 %)]] -> 0 | W106: {=IFERROR(_xlfn.IFS(Lääkkeet[[#This Row],[Sitoutunut pääoma 1.1.-30.6.2024 (EUR)]]>0,"Täytetyt",Lääkkeet[[#This Row],[Sitoutunut pääoma 1.7.-31.12.2024 (EUR)]]>0,"Täytetyt"),"")} | Y106: =Hakulomake!$B$29 -> 0
...

Sheet Oma tuotanto
B2: Oman tuotannon tuotteet
B4: Sitoutunut pääoma H1 | D4: =SUM($I$13:$I$1003) -> 0
B5: Sitoutunut pääoma H2 | D5: =SUM($P$13:$P$1003) -> 0
B6: Sitoutunut pääoma yhteensä | D6: =SUM($D$4:$D$5) -> 0
B7: Maksettava korvaus H1 | D7: =(31+29+31+30+31+30)/366*$D$4*Hakulomake!$C$42 -> 0
B8: Maksettava korvaus H2 | D8: =(31+31+30+31+30+31)/366*$D$5*Hakulomake!$C$43 -> 0
B9: Maksettava korvaus yhteensä | D9: =SUM($D$7:$D$8) -> 0
B12: Asetuksen lääkeryhmä (nro.) | C12: Valmiste (nimi, vahvuus, pakkauskoko) | D12: Velvoite 1.1.2024 (pakkauksia) | E12: Velvoite 1.1.2024 (yksikköä) | F12: Suurimman alitusluvan mukainen velvoite 1.1.-30.6.2024 (pakkauksia) | G12: Alin saldo 1.1.-30.6.2024 (pakkauksia) | H12: Kirjanpitoarvo / pakkaus 1.1.2024 (EUR ALV 0 %) | I12: Sitoutunut pääoma 1.1.-30.6.2024 (EUR) | J12: Alituslupanumerot 1.1.-30.6.2024 | K12: Velvoite 1.7.2024 (pakkauksia) | L12: Velvoite 1.7.2024 (yksikköä) | M12: Suurimman alitusluvan mukainen velvoite 1.7.-31.12.2024 (pakkauksia) | N12: Alin saldo 1.7.-31.12.2024 (pakkauksia) | O12: Kirjanpitoarvo / pakkaus 1.7.2024 (EUR ALV 0 %) | P12: Sitoutunut pääoma 1.7.-31.12.2024 (EUR) | Q12: Alituslupanumerot 1.7.-31.12.2024 | R12: Kommentit
I13: =MIN(D13,F13,G13)*H13 -> 0 | P13: =MIN(K13,M13,N13)*O13 -> 0
I14: =MIN(D14,F14,G14)*H14 -> 0 | P14: =MIN(K14,M14,N14)*O14 -> 0
I15: =MIN(D15,F15,G15)*H15 -> 0 | P15: =MIN(K15,M15,N15)*O15 -> 0
I16: =MIN(D16,F16,G16)*H16 -> 0 | P16: =MIN(K16,M16,N16)*O16 -> 0
I17: =MIN(D17,F17,G17)*H17 -> 0 | P17: =MIN(K17,M17,N17)*O17 -> 0
I18: =MIN(D18,F18,G18)*H18 -> 0 | P18: =MIN(K18,M18,N18)*O18 -> 0
I19: =MIN(D19,F19,G19)*H19 -> 0 | P19: =MIN(K19,M19,N19)*O19 -> 0
I20: =MIN(D20,F20,G20)*H20 -> 0 | P20: =MIN(K20,M20,N20)*O20 -> 0
I21: =MIN(D21,F21,G21)*H21 -> 0 | P21: =MIN(K21,M21,N21)*O21 -> 0
I22: =MIN(D22,F22,G22)*H22 -> 0 | P22: =MIN(K22,M22,N22)*O22 -> 0
I23: =MIN(D23,F23,G23)*H23 -> 0 | P23: =MIN(K23,M23,N23)*O23 -> 0
I24: =MIN(D24,F24,G24)*H24 -> 0 | P24: =MIN(K24,M24,N24)*O24 -> 0
... I1003: =MIN(D1003,F1003,G1003)*H1003 -> 0 | P1003: =MIN(K1003,M1003,N1003)*O1003 -> 0

Sheet Lasku
A1: Huoltovarmuuskeskus | F1: LASKU FAKTURA | I1: sivu 1/1
A3: Laskuttajan tiedot
A4: =Hakulomake!B29 -> 0 | F4: Laskun päiväys: | H4: =Hakulomake!B11 -> 0
F5: Laskun numero: | H5: 1
F6: Viitenumero:
F7: Maksuehto: | H7: 14 vrk
A8: =+Hakulomake!B31 -> 0 | F8: Laskun viite: | H8: Compensation for obligatory stockpiling of medicines based on law
A9: =Hakulomake!B34 -> 0
A10: =Hakulomake!B30 -> 0
A14: Päätös lääkkeiden velvoitevarastointikorvauksesta vuodelta 2024
F16: Haettu korvaus | G16: Haettu korvaus ryhmä 2
H18: Alv-% | I18: Korvaus
A19: 1. vuosipuoli | F19: =Hakulomake!B49 -> 0 | G19: =Hakulomake!B50 -> 0 | H19: 0 | I19: =F19+G19 -> 0
A20: 2. vuosipuoli | F20: =Hakulomake!C49 -> 0 | G20: =Hakulomake!C50 -> 0 | H20: 0 | I20: =F20+G20 -> 0
A26: Eräpäivä: | G26: Loppusumma EUR: | I26: =Hakulomake!C52 -> 0
A27: 45610
A34: =CONCATENATE(A4," ",A8," ",A10," ",A9) -> 0 0 0 0
