Workbook

Sheet Hakulomake
A7: Liite lääkkeiden velvoitevarastointilain perusteella tehtävään korvaushakemukseen
A9: Lääkkeiden velvoitevarastoon sitoutunut pääoma vuodelta 2024
A11: Päiväys:
A13: Korvaushakemuksen yhdyshenkilö:
A14: Yhdyshenkilön puhelinnumero:
A15: Yhdyshenkilön sähköpostiosoite:
A17: Korvausta hakeva yhteisö:
A18: Postiosoite:
A19: Postinumero ja postitoimipaikka:
A20: Puhelin:
A21: Y-tunnus:
A22: Toimitusjohtaja:
... A36: Velvoitevaraston osoite tai osoitteet:
A42: Korvauskorko I % 1.1. - 30.6.2024 (Suomen Pankin viitekorko +2 %-yksikköä) | C42: =0.045+0.02 -> 0.065
A43: Korvauskorko II % 1.7. - 31.12.2024 (Suomen Pankin viitekorko +2 %-yksikköä) | C43: =0.045+0.02 -> 0.065 | D43: Asetuksen lääkeryhmät
D45: (1) Mikrobilääkkeet
A46: KORVAUSLASKELMA | B46: 1. vuosipuoli | C46: 2. vuosipuoli | D46: (2) Elektrolyytti ja nestetasapainohäiriöissä sekä parenteraalisessa ravitsemuksessa käytettävät lääkkeet
A47: Sitoutunut pääoma yhteensä | B47: =SUM(Lääkkeet[Sitoutunut pääoma 1.1.-30.6.2024 (EUR)])+'Oma tuotanto'!$D$4 -> 0 | C47: =SUM(Lääkkeet[Sitoutunut pääoma 1.7.-31.12.2024 (EUR)])+'Oma tuotanto'!$D$5 -> 0 | D47: (3) Sydän- ja verisuonisairauksien lääkkeet ja diureetit
D48: (4) Aineenvaihdunta- ja umpierityssairauksien lääkkeet
A49: Haettu korvaus: viitekorko ja +2 % -yksikköä | B49: =(31+29+31+30+31+30)/366*$C$42*$B$47 -> 0 | C49: =(31+31+30+31+30+31)/366*$C$43*$C$47 -> 0 | D49: (5) Kipu-, reuma- ja kuumelääkkeet
A50: Haettu lisäkorvaus: +2 % lääkeryhmästä 2 | B50: =(31+29+31+30+31+30)/366*0.02*(SUMIFS(Lääkelista!O:O,Lääkelista!C:C,2)+SUMIFS('Oma tuotanto'!I:I,'Oma tuotanto'!B:B,2)) -> 0 | C50: =(31+31+30+31+30+31)/366*0.02*SUMIFS(Lääkelista!U:U,Lääkelista!C:C,2) -> 0 | D50: (6) Paikallispuudutuksessa ja yleisanestesiassa käytettävät lääkkeet
D51: (7) Myrkytyslääkkeet ja rokotteet
A52: Haettu korvaus yhteensä | C52: =SUM(B49:C50) -> 0 | D52: (8) Hengityselinten sairauksien lääkkeet
D53: (9) Ruoansulatussairauksien lääkkeet
A54: Aika ja paikka: | D54: (10) Psyykenlääkkeet
D55: (11) Neurologiset lääkkeet
A56: Nimi: | D56: (12) Silmätautilääkkeet
D57: (13) Antitromboottiset lääkeaineet ja hemostaatit
D58: (14) Eläinlääkkeet
D59: (15) Valmistuksessa käytettävät raaka-aineet
D60: (16) Valmistuksessa käytettävät pakkausmateriaalit

Sheet Lääkelista
A2: Tekn | B2: Organisaatio / yritys | C2: Asetuksen ryhmä | D2: ATC-koodi | E2: VNR-numero | F2: Luokan nimi | G2: Kauppanimi | H2: Vahvuus | I2: Lääkemuoto | J2: Pakkauskoko (kpl) | K2: Velvoite 1.1.2024 (pakkauksia) | L2: Suurimman alitusluvan mukainen velvoite 1.1.-30.6.2024 (pakkauksia) | M2: Alin saldo 1.1.-30.6.2024 (pakkauksia) | N2: Kirjanpitoarvo / pakkaus 1.1.2024 (EUR ALV 0 %) | O2: Sitoutunut pääoma 1.1.-30.6.2024 (EUR) | P2: Alituslupanumerot 1.1.-30.6.2024 | Q2: Velvoite 1.7.2024 (pakkauksia) | R2: Suurimman alitusluvan mukainen velvoite 1.7.-31.12.2024 (pakkauksia) | S2: Alin saldo 1.7.-31.12.2024 (pakkauksia) | T2: Kirjanpitoarvo / pakkaus 1.7.2024 (EUR ALV 0 %) | U2: Sitoutunut pääoma 1.7.-31.12.2024 (EUR) | V2: Alituslupanumerot 1.7.-31.12.2024 | W2: Tyhjien rivien suodatus | X2: Kommentit (mm. korvaavat tuotteet velvoitteen toteutumiselle) | Y2: Korvauksen saaja (lääkeyhtiö)
A3: X | B3: =Hakulomake!$B$17 -> 0 | C3: 1 | D3: P01AB01 | E3: 000019 | F3: metronidatsoli | G3: Flagyl | H3: 400 mg | I3: tabletti, kalvopäällysteinen | J3: 10 | O3: =MIN(Lääkkeet[[#This Row],[Velvoite 1.1.2024 (pakkauksia)]],Lääkkeet[[#This Row],[Suurimman alitusluvan mukainen velvoite 1.1.-30.6.2024 (pakkauksia)]],Lääkkeet[[#This Row],[Alin saldo 1.1.-30.6.2024 (pakkauksia)]])*Lääkkeet[[#This Row],[Kirjanpitoarvo / pakkaus 1.1.2024 (EUR ALV 0 %)]] -> 0 | U3: =MIN(Lääkkeet[[#This Row],[Velvoite 1.7.2024 (pakkauksia)]],Lääkkeet[[#This Row],[Suurimman alitusluvan mukainen velvoite 1.7.-31.12.2024 (pakkauksia)]],Lääkkeet[[#This Row],[Alin saldo 1.7.-31.12.2024 (pakkauksia)]])*Lääkkeet[[#This Row],[Kirjanpitoarvo / pakkaus 1.7.2024 (EUR ALV 0 %)]] -> 0 | W3: {=IFERROR(_xlfn.IFS(Lääkkeet[[#This Row],[Sitoutunut pääoma 1.1.-30.6.2024 (EUR)]]>0,"Täytetyt",Lääkkeet[[#This Row],[Sitoutunut pääoma 1.7.-31.12.2024 (EUR)]]>0,"Täytetyt"),"")} | Y3: =Hakulomake!$B$29 -> 0
A4: X | B4: =Hakulomake!$B$17 -> 0 | C4: 1 | D4: J01CR02 | E4: 000082 | F4: amoksisilliini ja beetalaktamaasin estäjä | G4: Amoxin Comp | H4: 50 mg / 12.5 mg/ml | I4: jauhe oraalisuspensiota varten | J4: 100 ml | O4: =MIN(Lääkkeet[[#This Row],[Velvoite 1.1.2024 (pakkauksia)]],Lääkkeet[[#This Row],[Suurimman alitusluvan mukainen velvoite 1.1.-30.6.2024 (pakkauksia)]],Lääkkeet[[#This Row],[Alin saldo 1.1.-30.6.2024 (pakkauksia)]])*Lääkkeet[[#This Row],[Kirjanpitoarvo / pakkaus 1.1.2024 (EUR ALV 0 %)]] -> 0 | U4: =MIN(Lääkkeet[[#This Row],[Velvoite 1.7.2024 (pakkauksia)]],Lääkkeet[[#This Row],[Suurimman alitusluvan mukainen velvoite 1.7.-31.12.2024 (pakkauksia)]],Lääkkeet[[#This Row],[Alin saldo 1.7.-31.12.2024 (pakkauksia)]])*Lääkkeet[[#This Row],[Kirjanpitoarvo / pakkaus 1.7.2024 (EUR ALV 0 %)]] -> 0 | W4: {=IFERROR(_xlfn.IFS(Lääkkeet[[#This Row],[Sitoutunut pääoma 1.1.-30.6.2024 (EUR)]]>0,"Täytetyt",Lääkkeet[[#This Row],[Sitoutunut pääoma 1.7.-31.12.2024 (EUR)]]>0,"Täytetyt"),"")} | Y4: =Hakulomake!$B$29 -> 0
A5: X | B5: =Hakulomake!$B$17 -> 0 | C5: 1 | D5: J01CR02 | E5: 000115 | F5: amoksisilliini ja beetalaktamaasin estäjä | G5: Amoxin Comp | H5: 500 mg / 125 mg | I5: tabletti, kalvopäällysteinen | J5: 20 | O5: =MIN(Lääkkeet[[#This Row],[Velvoite 1.1.2024 (pakkauksia)]],Lääkkeet[[#This Row],[Suurimman alitusluvan mukainen velvoite 1.1.-30.6.2024 (pakkauksia)]],Lääkkeet[[#This Row],[Alin saldo 1.1.-30.6.2024 (pakkauksia)]])*Lääkkeet[[#This Row],[Kirjanpitoarvo / pakkaus 1.1.2024 (EUR ALV 0 %)]] -> 0 | U5: =MIN(Lääkkeet[[#This Row],[Velvoite 1.7.2024 (pakkauksia)]],Lääkkeet[[#This Row],[Suurimman alitusluvan mukainen velvoite 1.7.-31.12.2024 (pakkauksia)]],Lääkkeet[[#This Row],[Alin saldo 1.7.-31.12.2024 (pakkauksia)]])*Lääkkeet[[#This Row],[Kirjanpitoarvo / pakkaus 1.7.2024 (EUR ALV 0 %)]] -> 0 | W5: {=IFERROR(_xlfn.IFS(Lääkkeet[[#This Row],[Sitoutunut pääoma 1.1.-30.6.2024 (EUR)]]>0,"Täytetyt",Lääkkeet[[#This Row],[Sitoutunut pääoma 1.7.-31.12.2024 (EUR)]]>0,"Täytetyt"),"")} | Y5: =Hakulomake!$B$29 -> 0
A6: X | B6: =Hakulomake!$B$17 -> 0 | C6: 1 | D6: J01CR02 | E6: 000126 | F6: amoksisilliini ja beetalaktamaasin estäjä | G6: Amoxin Comp | H6: 500 mg / 125 mg | I6: tabletti, kalvopäällysteinen | J6: 30 | O6: =MIN(Lääkkeet[[#This Row],[Velvoite 1.1.2024 (pakkauksia)]],Lääkkeet[[#This Row],[Suurimman alitusluvan mukainen velvoite 1.1.-30.6.2024 (pakkauksia)]],Lääkkeet[[#This Row],[Alin saldo 1.1.-30.6.2024 (pakkauksia)]])*Lääkkeet[[#This Row],[Kirjanpitoarvo / pakkaus 1.1.2024 (EUR ALV 0 %)]] -> 0 | U6: =MIN(Lääkkeet[[#This Row],[Velvoite 1.7.2024 (pakkauksia)]],Lääkkeet[[#This Row],[Suurimman alitusluvan mukainen velvoite 1.7.-31.12.2024 (pakkauksia)]],Lääkkeet[[#This Row],[Alin saldo 1.7.-31.12.2024 (pakkauksia)]])*Lääkkeet[[#This Row],[Kirjanpitoarvo / pakkaus 1.7.2024 (EUR ALV 0 %)]] -> 0 | W6: {=IFERROR(_xlfn.IFS(Lääkkeet[[#This Row],[Sitoutunut pääoma 1.1.-30.6.2024 (EUR)]]>0,"Täytetyt",Lääkkeet[[#This Row],[Sitoutunut pääoma 1.7.-31.12.2024 (EUR)]]>0,"Täytetyt"),"")} | Y6: =Hakulomake!$B$29 -> 0
A7: X | B7: =Hakulomake!$B$17 -> 0 | C7: 1 | D7: J01CR02 | E7: 001165 | F7: amoksisilliini ja beetalaktamaasin estäjä | G7: Bioclavid | H7: 875 mg / 125 mg | I7: tabletti, kalvopäällysteinen | J7: 14 | O7: =MIN(Lääkkeet[[#This Row],[Velvoite 1.1.2024 (pakkauksia)]],Lääkkeet[[#This Row],[Suurimman alitusluvan mukainen velvoite 1.1.-30.6.2024 (pakkauksia)]],Lääkkeet[[#This Row],[Alin saldo 1.1.-30.6.2024 (pakkauksia)]])*Lääkkeet[[#This Row],[Kirjanpitoarvo / pakkaus 1.1.2024 (EUR ALV 0 %)]] -> 0 | U7: =MIN(Lääkkeet[[#This Row],[Velvoite 1.7.2024 (pakkauksia)]],Lääkkeet[[#This Row],[Suurimman alitusluvan mukainen velvoite 1.7.-31.12.2024 (pakkauksia)]],Lääkkeet[[#This Row],[Alin saldo 1.7.-31.12.2024 (pakkauksia)]])*Lääkkeet[[#This Row],[Kirjanpitoarvo / pakkaus 1.7.2024 (EUR ALV 0 %)]] -> 0 | W7: {=IFERROR(_xlfn.IFS(Lääkkeet[[#This Row],[Sitoutunut pääoma 1.1.-30.6.2024 (EUR)]]>0,"Täytetyt",Lääkkeet[[#This Row],[Sitoutunut pääoma 1.7.-31.12.2024 (EUR)]]>0,"Täytetyt"),"")} | Y7: =Hakulomake!$B$29 -> 0
A8: X | B8: =Hakulomake!$B$17 -> 0 | C8: 1 | D8: J01CR02 | E8: 001176 | F8: amoksisilliini ja beetalaktamaasin estäjä | G8: Bioclavid | H8: 875 mg / 125 mg | I8: tabletti, kalvopäällysteinen | J8: 20 | O8: =MIN(Lääkkeet[[#This Row],[Velvoite 1.1.2024 (pakkauksia)]],Lääkkeet[[#This Row],[Suurimman alitusluvan mukainen velvoite 1.1.-30.6.2024 (pakkauksia)]],Lääkkeet[[#This Row],[Alin saldo 1.1.-30.6.2024 (pakkauksia)]])*Lääkkeet[[#This Row],[Kirjanpitoarvo / pakkaus 1.1.2024 (EUR ALV 0 %)]] -> 0 | U8: =MIN(Lääkkeet[[#This Row],[Velvoite 1.7.2024 (pakkauksia)]],Lääkkeet[[#This Row],[Suurimman alitusluvan mukainen velvoite 1.7.-31.12.2024 (pakkauksia)]],Lääkkeet[[#This Row],[Alin saldo 1.7.-31.12.2024 (pakkauksia)]])*Lääkkeet[[#This Row],[Kirjanpitoarvo / pakkaus 1.7.2024 (EUR ALV 0 %)]] -> 0 | W8: {=IFERROR(_xlfn.IFS(Lääkkeet[[#This Row],[Sitoutunut pääoma 1.1.-30.6.2024 (EUR)]]>0,"Täytetyt",Lääkkeet[[#This Row],[Sitoutunut pääoma 1.7.-31.12.2024 (EUR)]]>0,"Täytetyt"),"")} | Y8: =Hakulomake!$B$29 -> 0
A9: X | B9: =Hakulomake!$B$17 -> 0 | C9: 1 | D9: J01GB01 | E9: 003861 | F9: tobramysiini | G9: TOBI | H9: 300 mg / 5 ml | I9: sumutinliuos | J9: 56 x 5 ml | O9: =MIN(Lääkkeet[[#This Row],[Velvoite 1.1.2024 (pakkauksia)]],Lääkkeet[[#This Row],[Suurimman alitusluvan mukainen velvoite 1.1.-30.6.2024 (pakkauksia)]],Lääkkeet[[#This Row],[Alin saldo 1.1.-30.6.2024 (pakkauksia)]])*Lääkkeet[[#This Row],[Kirjanpitoarvo / pakkaus 1.1.2024 (EUR ALV 0 %)]] -> 0 | U9: =MIN(Lääkkeet[[#This Row],[Velvoite 1.7.2024 (pakkauksia)]],Lääkkeet[[#This Row],[Suurimman alitusluvan mukainen velvoite 1.7.-31.12.2024 (pakkauksia)]],Lääkkeet[[#This Row],[Alin saldo 1.7.-31.12.2024 (pakkauksia)]])*Lääkkeet[[#This Row],[Kirjanpitoarvo / pakkaus 1.7.2024 (EUR ALV 0 %)]] -> 0 | W9: {=IFERROR(_xlfn.IFS(Lääkkeet[[#This Row],[Sitoutunut pääoma 1.1.-30.6.2024 (EUR)]]>0,"Täytetyt",Lääkkeet[[#This Row],[Sitoutunut pääoma 1.7.-31.12.2024 (EUR)]]>0,"Täytetyt"),"")} | Y9: =Hakulomake!$B$29 -> 0
A10: X | B10: =Hakulomake!$B$17 -> 0 | C10: 1 | D10: J01CR02 | E10: 005949 | F10: amoksisilliini ja beetalaktamaasin estäjä | G10: Amoxin Comp | H10: 875 mg / 125 mg | I10: tabletti, kalvopäällysteinen | J10: 10 | O10: =MIN(Lääkkeet[[#This Row],[Velvoite 1.1.2024 (pakkauksia)]],Lääkkeet[[#This Row],[Suurimman alitusluvan mukainen velvoite 1.1.-30.6.2024 (pakkauksia)]],Lääkkeet[[#This Row],[Alin saldo 1.1.-30.6.2024 (pakkauksia)]])*Lääkkeet[[#This Row],[Kirjanpitoarvo / pakkaus 1.1.2024 (EUR ALV 0 %)]] -> 0 | U10: =MIN(Lääkkeet[[#This Row],[Velvoite 1.7.2024 (pakkauksia)]],Lääkkeet[[#This Row],[Suurimman alitusluvan mukainen velvoite 1.7.-31.12.2024 (pakkauksia)]],Lääkkeet[[#This Row],[Alin saldo 1.7.-31.12.2024 (pakkauksia)]])*Lääkkeet[[#This Row],[Kirjanpitoarvo / pakkaus 1.7.2024 (EUR ALV 0 %)]] -> 0 | W10: {=IFERROR(_xlfn.IFS(Lääkkeet[[#This Row],[Sitoutunut pääoma 1.1.-30.6.2024 (EUR)]]>0,"Täytetyt",Lääkkeet[[#This Row],[Sitoutunut pääoma 1.7.-31.12.2024 (EUR)]]>0,"Täytetyt"),"")} | Y10: =Hakulomake!$B$29 -> 0
A11: X | B11: =Hakulomake!$B$17 -> 0 | C11: 1 | D11: J01CR02 | E11: 005963 | F11: amoksisilliini ja beetalaktamaasin estäjä | G11: Amoxin Comp | H11: 875 mg / 125 mg | I11: tabletti, kalvopäällysteinen | J11: 14 | O11: =MIN(Lääkkeet[[#This Row],[Velvoite 1.1.2024 (pakkauksia)]],Lääkkeet[[#This Row],[Suurimman alitusluvan mukainen velvoite 1.1.-30.6.2024 (pakkauksia)]],Lääkkeet[[#This Row],[Alin saldo 1.1.-30.6.2024 (pakkauksia)]])*Lääkkeet[[#This Row],[Kirjanpitoarvo / pakkaus 1.1.2024 (EUR ALV 0 %)]] -> 0 | U11: =MIN(Lääkkeet[[#This Row],[Velvoite 1.7.2024 (pakkauksia)]],Lääkkeet[[#This Row],[Suurimman alitusluvan mukainen velvoite 1.7.-31.12.2024 (pakkauksia)]],Lääkkeet[[#This Row],[Alin saldo 1.7.-31.12.2024 (pakkauksia)]])*Lääkkeet[[#This Row],[Kirjanpitoarvo / pakkaus 1.7.2024 (EUR ALV 0 %)]] -> 0 | W11: {=IFERROR(_xlfn.IFS(Lääkkeet[[#This Row],[Sitoutunut pääoma 1.1.-30.6.2024 (EUR)]]>0,"Täytetyt",Lääkkeet[[#This Row],[Sitoutunut pääoma 1.7.-31.12.2024 (EUR)]]>0,"Täytetyt"),"")} | Y11: =Hakulomake!$B$29 -> 0
A12: X | B12: =Hakulomake!$B$17 -> 0 | C12: 1 | D12: J01DB01 | E12: 006183 | F12: kefaleksiini | G12: Kefexin | H12: 500 mg | I12: tabletti, kalvopäällysteinen | J12: 14 | O12: =MIN(Lääkkeet[[#This Row],[Velvoite 1.1.2024 (pakkauksia)]],Lääkkeet[[#This Row],[Suurimman alitusluvan mukainen velvoite 1.1.-30.6.2024 (pakkauksia)]],Lääkkeet[[#This Row],[Alin saldo 1.1.-30.6.2024 (pakkauksia)]])*Lääkkeet[[#This Row],[Kirjanpitoarvo / pakkaus 1.1.2024 (EUR ALV 0 %)]] -> 0 | U12: =MIN(Lääkkeet[[#This Row],[Velvoite 1.7.2024 (pakkauksia)]],Lääkkeet[[#This Row],[Suurimman alitusluvan mukainen velvoite 1.7.-31.12.2024 (pakkauksia)]],Lääkkeet[[#This Row],[Alin saldo 1.7.-31.12.2024 (pakkauksia)]])*Lääkkeet[[#This Row],[Kirjanpitoarvo / pakkaus 1.7.2024 (EUR ALV 0 %)]] -> 0 | W12: {=IFERROR(_xlfn.IFS(Lääkkeet[[#This Row],[Sitoutunut pääoma 1.1.-30.6.2024 (EUR)]]>0,"Täytetyt",Lääkkeet[[#This Row],[Sitoutunut pääoma 1.7.-31.12.2024 (EUR)]]>0,"Täytetyt"),"")} | Y12: =Hakulomake!$B$29 -> 0
A13: X | B13: =Hakulomake!$B$17 -> 0 | C13: 1 | D13: J01CE02 | E13: 006185 | F13: fenoksimetyylipenisilliini | G13: V-Pen 1500 | H13: 1500000 IU | I13: tabletti, kalvopäällysteinen | J13: 14 | O13: =MIN(Lääkkeet[[#This Row],[Velvoite 1.1.2024 (pakkauksia)]],Lääkkeet[[#This Row],[Suurimman alitusluvan mukainen velvoite 1.1.-30.6.2024 (pakkauksia)]],Lääkkeet[[#This Row],[Alin saldo 1.1.-30.6.2024 (pakkauksia)]])*Lääkkeet[[#This Row],[Kirjanpitoarvo / pakkaus 1.1.2024 (EUR ALV 0 %)]] -> 0 | U13: =MIN(Lääkkeet[[#This Row],[Velvoite 1.7.2024 (pakkauksia)]],Lääkkeet[[#This Row],[Suurimman alitusluvan mukainen velvoite 1.7.-31.12.2024 (pakkauksia)]],Lääkkeet[[#This Row],[Alin saldo 1.7.-31.12.2024 (pakkauksia)]])*Lääkkeet[[#This Row],[Kirjanpitoarvo / pakkaus 1.7.2024 (EUR ALV 0 %)]] -> 0 | W13: {=IFERROR(_xlfn.IFS(Lääkkeet[[#This Row],[Sitoutunut pääoma 1.1.-30.6.2024 (EUR)]]>0,"Täytetyt",Lääkkeet[[#This Row],[Sitoutunut pääoma 1.7.-31.12.2024 (EUR)]]>0,"Täytetyt"),"")} | Y13: =Hakulomake!$B$29 -> 0
A14: X | B14: =Hakulomake!$B$17 -> 0 | C14: 1 | D14: J01CA04 | E14: 006192 | F14: amoksisilliini | G14: Amorion | H14: 500 mg | I14: tabletti, kalvopäällysteinen | J14: 14 | O14: =MIN(Lääkkeet[[#This Row],[Velvoite 1.1.2024 (pakkauksia)]],Lääkkeet[[#This Row],[Suurimman alitusluvan mukainen velvoite 1.1.-30.6.2024 (pakkauksia)]],Lääkkeet[[#This Row],[Alin saldo 1.1.-30.6.2024 (pakkauksia)]])*Lääkkeet[[#This Row],[Kirjanpitoarvo / pakkaus 1.1.2024 (EUR ALV 0 %)]] -> 0 | U14: =MIN(Lääkkeet[[#This Row],[Velvoite 1.7.2024 (pakkauksia)]],Lääkkeet[[#This Row],[Suurimman alitusluvan mukainen velvoite 1.7.-31.12.2024 (pakkauksia)]],Lääkkeet[[#This Row],[Alin saldo 1.7.-31.12.2024 (pakkauksia)]])*Lääkkeet[[#This Row],[Kirjanpitoarvo / pakkaus 1.7.2024 (EUR ALV 0 %)]] -> 0 | W14: {=IFERROR(_xlfn.IFS(Lääkkeet[[#This Row],[Sitoutunut pääoma 1.1.-30.6.2024 (EUR)]]>0,"Täytetyt",Lääkkeet[[#This Row],[Sitoutunut pääoma 1.7.-31.12.2024 (EUR)]]>0,"Täytetyt"),"")} | Y14: =Hakulomake!$B$29 -> 0
A15: X | B15: =Hakulomake!$B$17 -> 0 | C15: 1 | D15: J01CA04 | E15: 006203 | F15: amoksisilliini | G15: Amorion | H15: 750 mg | I15: tabletti, kalvopäällysteinen | J15: 14 | O15: =MIN(Lääkkeet[[#This Row],[Velvoite 1.1.2024 (pakkauksia)]],Lääkkeet[[#This Row],[Suurimman alitusluvan mukainen velvoite 1.1.-30.6.2024 (pakkauksia)]],Lääkkeet[[#This Row],[Alin saldo 1.1.-30.6.2024 (pakkauksia)]])*Lääkkeet[[#This Row],[Kirjanpitoarvo / pakkaus 1.1.2024 (EUR ALV 0 %)]] -> 0 | U15: =MIN(Lääkkeet[[#This Row],[Velvoite 1.7.2024 (pakkauksia)]],Lääkkeet[[#This Row],[Suurimman alitusluvan mukainen velvoite 1.7.-31.12.2024 (pakkauksia)]],Lääkkeet[[#This Row],[Alin saldo 1.7.-31.12.2024 (pakkauksia)]])*Lääkkeet[[#This Row],[Kirjanpitoarvo / pakkaus 1.7.2024 (EUR ALV 0 %)]] -> 0 | W15: {=IFERROR(_xlfn.IFS(Lääkkeet[[#This Row],[Sitoutunut pääoma 1.1.-30.6.2024 (EUR)]]>0,"Täytetyt",Lääkkeet[[#This Row],[Sitoutunut pääoma 1.7.-31.12.2024 (EUR)]]>0,"Täytetyt"),"")} | Y15: =Hakulomake!$B$29 -> 0
A16: X | B16: =Hakulomake!$B$17 -> 0 | C16: 1 | D16: J01DB01 | E16: 006222 | F16: kefaleksiini | G16: Kefexin | H16: 750 mg | I16: tabletti, kalvopäällysteinen | J16: 14 | O16: =MIN(Lääkkeet[[#This Row],[Velvoite 1.1.2024 (pakkauksia)]],Lääkkeet[[#This Row],[Suurimman alitusluvan mukainen velvoite 1.1.-30.6.2024 (pakkauksia)]],Lääkkeet[[#This Row],[Alin saldo 1.1.-30.6.2024 (pakkauksia)]])*Lääkkeet[[#This Row],[Kirjanpitoarvo / pakkaus 1.1.2024 (EUR ALV 0 %)]] -> 0 | U16: =MIN(Lääkkeet[[#This Row],[Velvoite 1.7.2024 (pakkauksia)]],Lääkkeet[[#This Row],[Suurimman alitusluvan mukainen velvoite 1.7.-31.12.2024 (pakkauksia)]],Lääkkeet[[#This Row],[Alin saldo 1.7.-31.12.2024 (pakkauksia)]])*Lääkkeet[[#This Row],[Kirjanpitoarvo / pakkaus 1.7.2024 (EUR ALV 0 %)]] -> 0 | W16: {=IFERROR(_xlfn.IFS(Lääkkeet[[#This Row],[Sitoutunut pääoma 1.1.-30.6.2024 (EUR)]]>0,"Täytetyt",Lääkkeet[[#This Row],[Sitoutunut pääoma 1.7.-31.12.2024 (EUR)]]>0,"Täytetyt"),"")} | Y16: =Hakulomake!$B$29 -> 0
A17: X | B17: =Hakulomake!$B$17 -> 0 | C17: 1 | D17: J01CE02 | E17: 006279 | F17: fenoksimetyylipenisilliini | G17: V-Pen | H17: 50 mg/ml | I17: rakeet oraaliliuosta varten | J17: 100 ml | O17: =MIN(Lääkkeet[[#This Row],[Velvoite 1.1.2024 (pakkauksia)]],Lääkkeet[[#This Row],[Suurimman alitusluvan mukainen velvoite 1.1.-30.6.2024 (pakkauksia)]],Lääkkeet[[#This Row],[Alin saldo 1.1.-30.6.2024 (pakkauksia)]])*Lääkkeet[[#This Row],[Kirjanpitoarvo / pakkaus 1.1.2024 (EUR ALV 0 %)]] -> 0 | U17: =MIN(Lääkkeet[[#This Row],[Velvoite 1.7.2024 (pakkauksia)]],Lääkkeet[[#This Row],[Suurimman alitusluvan mukainen velvoite 1.7.-31.12.2024 (pakkauksia)]],Lääkkeet[[#This Row],[Alin saldo 1.7.-31.12.2024 (pakkauksia)]])*Lääkkeet[[#This Row],[Kirjanpitoarvo / pakkaus 1.7.2024 (EUR ALV 0 %)]] -> 0 | W17: {=IFERROR(_xlfn.IFS(Lääkkeet[[#This Row],[Sitoutunut pääoma 1.1.-30.6.2024 (EUR)]]>0,"Täytetyt",Lääkkeet[[#This Row],[Sitoutunut pääoma 1.7.-31.12.2024 (EUR)]]>0,"Täytetyt"),"")} | Y17: =Hakulomake!$B$29 -> 0
A18: X | B18: =Hakulomake!$B$17 -> 0 | C18: 1 | D18: J01CA04 | E18: 006299 | F18: amoksisilliini | G18: Amorion | H18: 100 mg/ml | I18: jauhe oraalisuspensiota varten | J18: 50 ml | O18: =MIN(Lääkkeet[[#This Row],[Velvoite 1.1.2024 (pakkauksia)]],Lääkkeet[[#This Row],[Suurimman alitusluvan mukainen velvoite 1.1.-30.6.2024 (pakkauksia)]],Lääkkeet[[#This Row],[Alin saldo 1.1.-30.6.2024 (pakkauksia)]])*Lääkkeet[[#This Row],[Kirjanpitoarvo / pakkaus 1.1.2024 (EUR ALV 0 %)]] -> 0 | U18: =MIN(Lääkkeet[[#This Row],[Velvoite 1.7.2024 (pakkauksia)]],Lääkkeet[[#This Row],[Suurimman alitusluvan mukainen velvoite 1.7.-31.12.2024 (pakkauksia)]],Lääkkeet[[#This Row],[Alin saldo 1.7.-31.12.2024 (pakkauksia)]])*Lääkkeet[[#This Row],[Kirjanpitoarvo / pakkaus 1.7.2024 (EUR ALV 0 %)]] -> 0 | W18: {=IFERROR(_xlfn.IFS(Lääkkeet[[#This Row],[Sitoutunut pääoma 1.1.-30.6.2024 (EUR)]]>0,"Täytetyt",Lääkkeet[[#This Row],[Sitoutunut pääoma 1.7.-31.12.2024 (EUR)]]>0,"Täytetyt"),"")} | Y18: =Hakulomake!$B$29 -> 0
A19: X | B19: =Hakulomake!$B$17 -> 0 | C19: 1 | D19: J01CE02 | E19: 006324 | F19: fenoksimetyylipenisilliini | G19: V-Pen | H19: 50 mg/ml | I19: rakeet oraaliliuosta varten | J19: 60 ml | O19: =MIN(Lääkkeet[[#This Row],[Velvoite 1.1.2024 (pakkauksia)]],Lääkkeet[[#This Row],[Suurimman alitusluvan mukainen velvoite 1.1.-30.6.2024 (pakkauksia)]],Lääkkeet[[#This Row],[Alin saldo 1.1.-30.6.2024 (pakkauksia)]])*Lääkkeet[[#This Row],[Kirjanpitoarvo / pakkaus 1.1.2024 (EUR ALV 0 %)]] -> 0 | U19: =MIN(Lääkkeet[[#This Row],[Velvoite 1.7.2024 (pakkauksia)]],Lääkkeet[[#This Row],[Suurimman alitusluvan mukainen velvoite 1.7.-31.12.2024 (pakkauksia)]],Lääkkeet[[#This Row],[Alin saldo 1.7.-31.12.2024 (pakkauksia)]])*Lääkkeet[[#This Row],[Kirjanpitoarvo / pakkaus 1.7.2024 (EUR ALV 0 %)]] -> 0 | W19: {=IFERROR(_xlfn.IFS(Lääkkeet[[#This Row],[Sitoutunut pääoma 1.1.-30.6.2024 (EUR)]]>0,"Täytetyt",Lääkkeet[[#This Row],[Sitoutunut pääoma 1.7.-31.12.2024 (EUR)]]>0,"Täytetyt"),"")} | Y19: =Hakulomake!$B$29 -> 0
A20: X | B20: =Hakulomake!$B$17 -> 0 | C20: 1 | D20: J01CA04 | E20: 006334 | F20: amoksisilliini | G20: Amorion | H20: 50 mg/ml | I20: jauhe oraalisuspensiota varten | J20: 60 ml | O20: =MIN(Lääkkeet[[#This Row],[Velvoite 1.1.2024 (pakkauksia)]],Lääkkeet[[#This Row],[Suurimman alitusluvan mukainen velvoite 1.1.-30.6.2024 (pakkauksia)]],Lääkkeet[[#This Row],[Alin saldo 1.1.-30.6.2024 (pakkauksia)]])*Lääkkeet[[#This Row],[Kirjanpitoarvo / pakkaus 1.1.2024 (EUR ALV 0 %)]] -> 0 | U20: =MIN(Lääkkeet[[#This Row],[Velvoite 1.7.2024 (pakkauksia)]],Lääkkeet[[#This Row],[Suurimman alitusluvan mukainen velvoite 1.7.-31.12.2024 (pakkauksia)]],Lääkkeet[[#This Row],[Alin saldo 1.7.-31.12.2024 (pakkauksia)]])*Lääkkeet[[#This Row],[Kirjanpitoarvo / pakkaus 1.7.2024 (EUR ALV 0 %)]] -> 0 | W20: {=IFERROR(_xlfn.IFS(Lääkkeet[[#This Row],[Sitoutunut pääoma 1.1.-30.6.2024 (EUR)]]>0,"Täytetyt",Lääkkeet[[#This Row],[Sitoutunut pääoma 1.7.-31.12.2024 (EUR)]]>0,"Täytetyt"),"")} | Y20: =Hakulomake!$B$29 -> 0
A21: X | B21: =Hakulomake!$B$17 -> 0 | C21: 1 | D21: J01CA04 | E21: 006350 | F21: amoksisilliini | G21: Amorion | H21: 50 mg/ml | I21: jauhe oraalisuspensiota varten | J21: 100 ml | O21: =MIN(Lääkkeet[[#This Row],[Velvoite 1.1.2024 (pakkauksia)]],Lääkkeet[[#This Row],[Suurimman alitusluvan mukainen velvoite 1.1.-30.6.2024 (pakkauksia)]],Lääkkeet[[#This Row],[Alin saldo 1.1.-30.6.2024 (pakkauksia)]])*Lääkkeet[[#This Row],[Kirjanpitoarvo / pakkaus 1.1.2024 (EUR ALV 0 %)]] -> 0 | U21: =MIN(Lääkkeet[[#This Row],[Velvoite 1.7.2024 (pakkauksia)]],Lääkkeet[[#This Row],[Suurimman alitusluvan mukainen velvoite 1.7.-31.12.2024 (pakkauksia)]],Lääkkeet[[#This Row],[Alin saldo 1.7.-31.12.2024 (pakkauksia)]])*Lääkkeet[[#This Row],[Kirjanpitoarvo / pakkaus 1.7.2024 (EUR ALV 0 %)]] -> 0 | W21: {=IFERROR(_xlfn.IFS(Lääkkeet[[#This Row],[Sitoutunut pääoma 1.1.-30.6.2024 (EUR)]]>0,"Täytetyt",Lääkkeet[[#This Row],[Sitoutunut pääoma 1.7.-31.12.2024 (EUR)]]>0,"Täytetyt"),"")} | Y21: =Hakulomake!$B$29 -> 0
A22: X | B22: =Hakulomake!$B$17 -> 0 | C22: 1 | D22: J01CE02 | E22: 006826 | F22: fenoksimetyylipenisilliini | G22: V-Pen 1500 | H22: 1500000 IU | I22: tabletti, kalvopäällysteinen | J22: 20 | O22: =MIN(Lääkkeet[[#This Row],[Velvoite 1.1.2024 (pakkauksia)]],Lääkkeet[[#This Row],[Suurimman alitusluvan mukainen velvoite 1.1.-30.6.2024 (pakkauksia)]],Lääkkeet[[#This Row],[Alin saldo 1.1.-30.6.2024 (pakkauksia)]])*Lääkkeet[[#This Row],[Kirjanpitoarvo / pakkaus 1.1.2024 (EUR ALV 0 %)]] -> 0 | U22: =MIN(Lääkkeet[[#This Row],[Velvoite 1.7.2024 (pakkauksia)]],Lääkkeet[[#This Row],[Suurimman alitusluvan mukainen velvoite 1.7.-31.12.2024 (pakkauksia)]],Lääkkeet[[#This Row],[Alin saldo 1.7.-31.12.2024 (pakkauksia)]])*Lääkkeet[[#This Row],[Kirjanpitoarvo / pakkaus 1.7.2024 (EUR ALV 0 %)]] -> 0 | W22: {=IFERROR(_xlfn.IFS(Lääkkeet[[#This Row],[Sitoutunut pääoma 1.1.-30.6.2024 (EUR)]]>0,"Täytetyt",Lääkkeet[[#This Row],[Sitoutunut pääoma 1.7.-31.12.2024 (EUR)]]>0,"Täytetyt"),"")} | Y22: =Hakulomake!$B$29 -> 0
A23: X | B23: =Hakulomake!$B$17 -> 0 | C23: 1 | D23: J01CA04 | E23: 006989 | F23: amoksisilliini | G23: Amorion | H23: 500 mg | I23: tabletti, kalvopäällysteinen | J23: 20 | O23: =MIN(Lääkkeet[[#This Row],[Velvoite 1.1.2024 (pakkauksia)]],Lääkkeet[[#This Row],[Suurimman alitusluvan mukainen velvoite 1.1.-30.6.2024 (pakkauksia)]],Lääkkeet[[#This Row],[Alin saldo 1.1.-30.6.2024 (pakkauksia)]])*Lääkkeet[[#This Row],[Kirjanpitoarvo / pakkaus 1.1.2024 (EUR ALV 0 %)]] -> 0 | U23: =MIN(Lääkkeet[[#This Row],[Velvoite 1.7.2024 (pakkauksia)]],Lääkkeet[[#This Row],[Suurimman alitusluvan mukainen velvoite 1.7.-31.12.2024 (pakkauksia)]],Lääkkeet[[#This Row],[Alin saldo 1.7.-31.12.2024 (pakkauksia)]])*Lääkkeet[[#This Row],[Kirjanpitoarvo / pakkaus 1.7.2024 (EUR ALV 0 %)]] -> 0 | W23: {=IFERROR(_xlfn.IFS(Lääkkeet[[#This Row],[Sitoutunut pääoma 1.1.-30.6.2024 (EUR)]]>0,"Täytetyt",Lääkkeet[[#This Row],[Sitoutunut pääoma 1.7.-31.12.2024 (EUR)]]>0,"Täytetyt"),"")} | Y23: =Hakulomake!$B$29 -> 0
A24: X | B24: =Hakulomake!$B$17 -> 0 | C24: 1 | D24: J01CA04 | E24: 006998 | F24: amoksisilliini | G24: Amorion | H24: 500 mg | I24: tabletti, kalvopäällysteinen | J24: 30 | O24: =MIN(Lääkkeet[[#This Row],[Velvoite 1.1.2024 (pakkauksia)]],Lääkkeet[[#This Row],[Suurimman alitusluvan mukainen velvoite 1.1.-30.6.2024 (pakkauksia)]],Lääkkeet[[#This Row],[Alin saldo 1.1.-30.6.2024 (pakkauksia)]])*Lääkkeet[[#This Row],[Kirjanpitoarvo / pakkaus 1.1.2024 (EUR ALV 0 %)]] -> 0 | U24: =MIN(Lääkkeet[[#This Row],[Velvoite 1.7.2024 (pakkauksia)]],Lääkkeet[[#This Row],[Suurimman alitusluvan mukainen velvoite 1.7.-31.12.2024 (pakkauksia)]],Lääkkeet[[#This Row],[Alin saldo 1.7.-31.12.2024 (pakkauksia)]])*Lääkkeet[[#This Row],[Kirjanpitoarvo / pakkaus 1.7.2024 (EUR ALV 0 %)]] -> 0 | W24: {=IFERROR(_xlfn.IFS(Lääkkeet[[#This Row],[Sitoutunut pääoma 1.1.-30.6.2024 (EUR)]]>0,"Täytetyt",Lääkkeet[[#This Row],[Sitoutunut pääoma 1.7.-31.12.2024 (EUR)]]>0,"Täytetyt"),"")} | Y24: =Hakulomake!$B$29 -> 0
A25: X | B25: =Hakulomake!$B$17 -> 0 | C25: 1 | D25: J01CA04 | E25: 007009 | F25: amoksisilliini | G25: Amorion | H25: 750 mg | I25: tabletti, kalvopäällysteinen | J25: 20 | O25: =MIN(Lääkkeet[[#This Row],[Velvoite 1.1.2024 (pakkauksia)]],Lääkkeet[[#This Row],[Suurimman alitusluvan mukainen velvoite 1.1.-30.6.2024 (pakkauksia)]],Lääkkeet[[#This Row],[Alin saldo 1.1.-30.6.2024 (pakkauksia)]])*Lääkkeet[[#This Row],[Kirjanpitoarvo / pakkaus 1.1.2024 (EUR ALV 0 %)]] -> 0 | U25: =MIN(Lääkkeet[[#This Row],[Velvoite 1.7.2024 (pakkauksia)]],Lääkkeet[[#This Row],[Suurimman alitusluvan mukainen velvoite 1.7.-31.12.2024 (pakkauksia)]],Lääkkeet[[#This Row],[Alin saldo 1.7.-31.12.2024 (pakkauksia)]])*Lääkkeet[[#This Row],[Kirjanpitoarvo / pakkaus 1.7.2024 (EUR ALV 0 %)]] -> 0 | W25: {=IFERROR(_xlfn.IFS(Lääkkeet[[#This Row],[Sitoutunut pääoma 1.1.-30.6.2024 (EUR)]]>0,"Täytetyt",Lääkkeet[[#This Row],[Sitoutunut pääoma 1.7.-31.12.2024 (EUR)]]>0,"Täytetyt"),"")} | Y25: =Hakulomake!$B$29 -> 0
A26: X | B26: =Hakulomake!$B$17 -> 0 | C26: 1 | D26: J01DB01 | E26: 007050 | F26: kefaleksiini | G26: Kefexin | H26: 250 mg | I26: tabletti, kalvopäällysteinen | J26: 30 | O26: =MIN(Lääkkeet[[#This Row],[Velvoite 1.1.2024 (pakkauksia)]],Lääkkeet[[#This Row],[Suurimman alitusluvan mukainen velvoite 1.1.-30.6.2024 (pakkauksia)]],Lääkkeet[[#This Row],[Alin saldo 1.1.-30.6.2024 (pakkauksia)]])*Lääkkeet[[#This Row],[Kirjanpitoarvo / pakkaus 1.1.2024 (EUR ALV 0 %)]] -> 0 | U26: =MIN(Lääkkeet[[#This Row],[Velvoite 1.7.2024 (pakkauksia)]],Lääkkeet[[#This Row],[Suurimman alitusluvan mukainen velvoite 1.7.-31.12.2024 (pakkauksia)]],Lääkkeet[[#This Row],[Alin saldo 1.7.-31.12.2024 (pakkauksia)]])*Lääkkeet[[#This Row],[Kirjanpitoarvo / pakkaus 1.7.2024 (EUR ALV 0 %)]] -> 0 | W26: {=IFERROR(_xlfn.IFS(Lääkkeet[[#This Row],[Sitoutunut pääoma 1.1.-30.6.2024 (EUR)]]>0,"Täytetyt",Lääkkeet[[#This Row],[Sitoutunut pääoma 1.7.-31.12.2024 (EUR)]]>0,"Täytetyt"),"")} | Y26: =Hakulomake!$B$29 -> 0
A27: X | B27: =Hakulomake!$B$17 -> 0 | C27: 1 | D27: J01DB01 | E27: 007061 | F27: kefaleksiini | G27: Kefexin | H27: 500 mg | I27: tabletti, kalvopäällysteinen | J27: 20 | O27: =MIN(Lääkkeet[[#This Row],[Velvoite 1.1.2024 (pakkauksia)]],Lääkkeet[[#This Row],[Suurimman alitusluvan mukainen velvoite 1.1.-30.6.2024 (pakkauksia)]],Lääkkeet[[#This Row],[Alin saldo 1.1.-30.6.2024 (pakkauksia)]])*Lääkkeet[[#This Row],[Kirjanpitoarvo / pakkaus 1.1.2024 (EUR ALV 0 %)]] -> 0 | U27: =MIN(Lääkkeet[[#This Row],[Velvoite 1.7.2024 (pakkauksia)]],Lääkkeet[[#This Row],[Suurimman alitusluvan mukainen velvoite 1.7.-31.12.2024 (pakkauksia)]],Lääkkeet[[#This Row],[Alin saldo 1.7.-31.12.2024 (pakkauksia)]])*Lääkkeet[[#This Row],[Kirjanpitoarvo / pakkaus 1.7.2024 (EUR ALV 0 %)]] -> 0 | W27: {=IFERROR(_xlfn.IFS(Lääkkeet[[#This Row],[Sitoutunut pääoma 1.1.-30.6.2024 (EUR)]]>0,"Täytetyt",Lääkkeet[[#This Row],[Sitoutunut pääoma 1.7.-31.12.2024 (EUR)]]>0,"Täytetyt"),"")} | Y27: =Hakulomake!$B$29 -> 0
A28: X | B28: =Hakulomake!$B$17 -> 0 | C28: 1 | D28: J01DB01 | E28: 007072 | F28: kefaleksiini | G28: Kefexin | H28: 500 mg | I28: tabletti, kalvopäällysteinen | J28: 30 | O28: =MIN(Lääkkeet[[#This Row],[Velvoite 1.1.2024 (pakkauksia)]],Lääkkeet[[#This Row],[Suurimman alitusluvan mukainen velvoite 1.1.-30.6.2024 (pakkauksia)]],Lääkkeet[[#This Row],[Alin saldo 1.1.-30.6.2024 (pakkauksia)]])*Lääkkeet[[#This Row],[Kirjanpitoarvo / pakkaus 1.1.2024 (EUR ALV 0 %)]] -> 0 | U28: =MIN(Lääkkeet[[#This Row],[Velvoite 1.7.2024 (pakkauksia)]],Lääkkeet[[#This Row],[Suurimman alitusluvan mukainen velvoite 1.7.-31.12.2024 (pakkauksia)]],Lääkkeet[[#This Row],[Alin saldo 1.7.-31.12.2024 (pakkauksia)]])*Lääkkeet[[#This Row],[Kirjanpitoarvo / pakkaus 1.7.2024 (EUR ALV 0 %)]] -> 0 | W28: {=IFERROR(_xlfn.IFS(Lääkkeet[[#This Row],[Sitoutunut pääoma 1.1.-30.6.2024 (EUR)]]>0,"Täytetyt",Lääkkeet[[#This Row],[Sitoutunut pääoma 1.7.-31.12.2024 (EUR)]]>0,"Täytetyt"),"")} | Y28: =Hakulomake!$B$29 -> 0
A29: X | B29: =Hakulomake!$B$17 -> 0 | C29: 1 | D29: J01DB01 | E29: 007083 | F29: kefaleksiini | G29: Kefexin | H29: 750 mg | I29: tabletti, kalvopäällysteinen | J29: 20 | O29: =MIN(Lääkkeet[[#This Row],[Velvoite 1.1.2024 (pakkauksia)]],Lääkkeet[[#This Row],[Suurimman alitusluvan mukainen velvoite 1.1.-30.6.2024 (pakkauksia)]],Lääkkeet[[#This Row],[Alin saldo 1.1.-30.6.2024 (pakkauksia)]])*Lääkkeet[[#This Row],[Kirjanpitoarvo / pakkaus 1.1.2024 (EUR ALV 0 %)]] -> 0 | U29: =MIN(Lääkkeet[[#This Row],[Velvoite 1.7.2024 (pakkauksia)]],Lääkkeet[[#This Row],[Suurimman alitusluvan mukainen velvoite 1.7.-31.12.2024 (pakkauksia)]],Lääkkeet[[#This Row],[Alin saldo 1.7.-31.12.2024 (pakkauksia)]])*Lääkkeet[[#This Row],[Kirjanpitoarvo / pakkaus 1.7.2024 (EUR ALV 0 %)]] -> 0 | W29: {=IFERROR(_xlfn.IFS(Lääkkeet[[#This Row],[Sitoutunut pääoma 1.1.-30.6.2024 (EUR)]]>0,"Täytetyt",Lääkkeet[[#This Row],[Sitoutunut pääoma 1.7.-31.12.2024 (EUR)]]>0,"Täytetyt"),"")} | Y29: =Hakulomake!$B$29 -> 0
A30: X | B30: =Hakulomake!$B$17 -> 0 | C30: 1 | D30: J01CE02 | E30: 007181 | F30: fenoksimetyylipenisilliini | G30: V-Pen Mega | H30: 1000000 IU | I30: tabletti, kalvopäällysteinen | J30: 20 | O30: =MIN(Lääkkeet[[#This Row],[Velvoite 1.1.2024 (pakkauksia)]],Lääkkeet[[#This Row],[Suurimman alitusluvan mukainen velvoite 1.1.-30.6.2024 (pakkauksia)]],Lääkkeet[[#This Row],[Alin saldo 1.1.-30.6.2024 (pakkauksia)]])*Lääkkeet[[#This Row],[Kirjanpitoarvo / pakkaus 1.1.2024 (EUR ALV 0 %)]] -> 0 | U30: =MIN(Lääkkeet[[#This Row],[Velvoite 1.7.2024 (pakkauksia)]],Lääkkeet[[#This Row],[Suurimman alitusluvan mukainen velvoite 1.7.-31.12.2024 (pakkauksia)]],Lääkkeet[[#This Row],[Alin saldo 1.7.-31.12.2024 (pakkauksia)]])*Lääkkeet[[#This Row],[Kirjanpitoarvo / pakkaus 1.7.2024 (EUR ALV 0 %)]] -> 0 | W30: {=IFERROR(_xlfn.IFS(Lääkkeet[[#This Row],[Sitoutunut pääoma 1.1.-30.6.2024 (EUR)]]>0,"Täytetyt",Lääkkeet[[#This Row],[Sitoutunut pääoma 1.7.-31.12.2024 (EUR)]]>0,"Täytetyt"),"")} | Y30: =Hakulomake!$B$29 -> 0
A31: X | B31: =Hakulomake!$B$17 -> 0 | C31: 1 | D31: J01CE02 | E31: 007190 | F31: fenoksimetyylipenisilliini | G31: V-Pen Mega | H31: 1000000 IU | I31: tabletti, kalvopäällysteinen | J31: 30 | O31: =MIN(Lääkkeet[[#This Row],[Velvoite 1.1.2024 (pakkauksia)]],Lääkkeet[[#This Row],[Suurimman alitusluvan mukainen velvoite 1.1.-30.6.2024 (pakkauksia)]],Lääkkeet[[#This Row],[Alin saldo 1.1.-30.6.2024 (pakkauksia)]])*Lääkkeet[[#This Row],[Kirjanpitoarvo / pakkaus 1.1.2024 (EUR ALV 0 %)]] -> 0 | U31: =MIN(Lääkkeet[[#This Row],[Velvoite 1.7.2024 (pakkauksia)]],Lääkkeet[[#This Row],[Suurimman alitusluvan mukainen velvoite 1.7.-31.12.2024 (pakkauksia)]],Lääkkeet[[#This Row],[Alin saldo 1.7.-31.12.2024 (pakkauksia)]])*Lääkkeet[[#This Row],[Kirjanpitoarvo / pakkaus 1.7.2024 (EUR ALV 0 %)]] -> 0 | W31: {=IFERROR(_xlfn.IFS(Lääkkeet[[#This Row],[Sitoutunut pääoma 1.1.-30.6.2024 (EUR)]]>0,"Täytetyt",Lääkkeet[[#This Row],[Sitoutunut pääoma 1.7.-31.12.2024 (EUR)]]>0,"Täytetyt"),"")} | Y31: =Hakulomake!$B$29 -> 0
A32: X | B32: =Hakulomake!$B$17 -> 0 | C32: 1 | D32: J01EA01 | E32: 010180 | F32: trimetopriimi | G32: TRIMETIN | H32: 300 mg | I32: tabletti | J32: 10 | O32: =MIN(Lääkkeet[[#This Row],[Velvoite 1.1.2024 (pakkauksia)]],Lääkkeet[[#This Row],[Suurimman alitusluvan mukainen velvoite 1.1.-30.6.2024 (pakkauksia)]],Lääkkeet[[#This Row],[Alin saldo 1.1.-30.6.2024 (pakkauksia)]])*Lääkkeet[[#This Row],[Kirjanpitoarvo / pakkaus 1.1.2024 (EUR ALV 0 %)]] -> 0 | U32: =MIN(Lääkkeet[[#This Row],[Velvoite 1.7.2024 (pakkauksia)]],Lääkkeet[[#This Row],[Suurimman alitusluvan mukainen velvoite 1.7.-31.12.2024 (pakkauksia)]],Lääkkeet[[#This Row],[Alin saldo 1.7.-31.12.2024 (pakkauksia)]])*Lääkkeet[[#This Row],[Kirjanpitoarvo / pakkaus 1.7.2024 (EUR ALV 0 %)]] -> 0 | W32: {=IFERROR(_xlfn.IFS(Lääkkeet[[#This Row],[Sitoutunut pääoma 1.1.-30.6.2024 (EUR)]]>0,"Täytetyt",Lääkkeet[[#This Row],[Sitoutunut pääoma 1.7.-31.12.2024 (EUR)]]>0,"Täytetyt"),"")} | Y32: =Hakulomake!$B$29 -> 0
A33: X | B33: =Hakulomake!$B$17 -> 0 | C33: 1 | D33: J01MA02 | E33: 010519 | F33: siprofloksasiini | G33: Ciprofloxacin Ratiopharm | H33: 250 mg | I33: tabletti, kalvopäällysteinen | J33: 10 | O33: =MIN(Lääkkeet[[#This Row],[Velvoite 1.1.2024 (pakkauksia)]],Lääkkeet[[#This Row],[Suurimman alitusluvan mukainen velvoite 1.1.-30.6.2024 (pakkauksia)]],Lääkkeet[[#This Row],[Alin saldo 1.1.-30.6.2024 (pakkauksia)]])*Lääkkeet[[#This Row],[Kirjanpitoarvo / pakkaus 1.1.2024 (EUR ALV 0 %)]] -> 0 | U33: =MIN(Lääkkeet[[#This Row],[Velvoite 1.7.2024 (pakkauksia)]],Lääkkeet[[#This Row],[Suurimman alitusluvan mukainen velvoite 1.7.-31.12.2024 (pakkauksia)]],Lääkkeet[[#This Row],[Alin saldo 1.7.-31.12.2024 (pakkauksia)]])*Lääkkeet[[#This Row],[Kirjanpitoarvo / pakkaus 1.7.2024 (EUR ALV 0 %)]] -> 0 | W33: {=IFERROR(_xlfn.IFS(Lääkkeet[[#This Row],[Sitoutunut pääoma 1.1.-30.6.2024 (EUR)]]>0,"Täytetyt",Lääkkeet[[#This Row],[Sitoutunut pääoma 1.7.-31.12.2024 (EUR)]]>0,"Täytetyt"),"")} | Y33: =Hakulomake!$B$29 -> 0
... A38: X | B38: =Hakulomake!$B$17 -> 0 | C38: 1 | D38: J01EA01 | E38: 010797 | F38: trimetopriimi | G38: TRIMETIN | H38: 300 mg | I38: tabletti | J38: 5 | O38: =MIN(Lääkkeet[[#This Row],[Velvoite 1.1.2024 (pakkauksia)]],Lääkkeet[[#This Row],[Suurimman alitusluvan mukainen velvoite 1.1.-30.6.2024 (pakkauksia)]],Lääkkeet[[#This Row],[Alin saldo 1.1.-30.6.2024 (pakkauksia)]])*Lääkkeet[[#This Row],[Kirjanpitoarvo / pakkaus 1.1.2024 (EUR ALV 0 %)]] -> 0 | U38: =MIN(Lääkkeet[[#This Row],[Velvoite 1.7.2024 (pakkauksia)]],Lääkkeet[[#This Row],[Suurimman alitusluvan mukainen velvoite 1.7.-31.12.2024 (pakkauksia)]],Lääkkeet[[#This Row],[Alin saldo 1.7.-31.12.2024 (pakkauksia)]])*Lääkkeet[[#This Row],[Kirjanpitoarvo / pakkaus 1.7.2024 (EUR ALV 0 %)]] -> 0 | W38: {=IFERROR(_xlfn.IFS(Lääkkeet[[#This Row],[Sitoutunut pääoma 1.1.-30.6.2024 (EUR)]]>0,"Täytetyt",Lääkkeet[[#This Row],[Sitoutunut pääoma 1.7.-31.12.2024 (EUR)]]>0,"Täytetyt"),"")} | Y38: =Hakulomake!$B$29 -> 0
A39: X | B39: =Hakulomake!$B$17 -> 0 | C39: 1 | D39: J01DC02 | E39: 010897 | F39: kefuroksiimi | G39: Cefuroxime Orion Pharma | H39: 1.5 g | I39: injektio/infuusiokuiva-aine liuosta/suspensiota varten | J39: 10 x 1.5 g | O39: =MIN(Lääkkeet[[#This Row],[Velvoite 1.1.2024 (pakkauksia)]],Lääkkeet[[#This Row],[Suurimman alitusluvan mukainen velvoite 1.1.-30.6.2024 (pakkauksia)]],Lääkkeet[[#This Row],[Alin saldo 1.1.-30.6.2024 (pakkauksia)]])*Lääkkeet[[#This Row],[Kirjanpitoarvo / pakkaus 1.1.2024 (EUR ALV 0 %)]] -> 0 | U39: =MIN(Lääkkeet[[#This Row],[Velvoite 1.7.2024 (pakkauksia)]],Lääkkeet[[#This Row],[Suurimman alitusluvan mukainen velvoite 1.7.-31.12.2024 (pakkauksia)]],Lääkkeet[[#This Row],[Alin saldo 1.7.-31.12.2024 (pakkauksia)]])*Lääkkeet[[#This Row],[Kirjanpitoarvo / pakkaus 1.7.2024 (EUR ALV 0 %)]] -> 0 | W39: {=IFERROR(_xlfn.IFS(Lääkkeet[[#This Row],[Sitoutunut pääoma 1.1.-30.6.2024 (EUR)]]>0,"Täytetyt",Lääkkeet[[#This Row],[Sitoutunut pääoma 1.7.-31.12.2024 (EUR)]]>0,"Täytetyt"),"")} | Y39: =Hakulomake!$B$29 -> 0
A40: X | B40: =Hakulomake!$B$17 -> 0 | C40: 1 | D40: J01DC02 | E40: 011316 | F40: kefuroksiimi | G40: Cefuroxime Orion Pharma | H40: 750 mg | I40: injektio/infuusiokuiva-aine liuosta/suspensiota varten | J40: 10 x 750 mg | O40: =MIN(Lääkkeet[[#This Row],[Velvoite 1.1.2024 (pakkauksia)]],Lääkkeet[[#This Row],[Suurimman alitusluvan mukainen velvoite 1.1.-30.6.2024 (pakkauksia)]],Lääkkeet[[#This Row],[Alin saldo 1.1.-30.6.2024 (pakkauksia)]])*Lääkkeet[[#This Row],[Kirjanpitoarvo / pakkaus 1.1.2024 (EUR ALV 0 %)]] -> 0 | U40: =MIN(Lääkkeet[[#This Row],[Velvoite 1.7.2024 (pakkauksia)]],Lääkkeet[[#This Row],[Suurimman alitusluvan mukainen velvoite 1.7.-31.12.2024 (pakkauksia)]],Lääkkeet[[#This Row],[Alin saldo 1.7.-31.12.2024 (pakkauksia)]])*Lääkkeet[[#This Row],[Kirjanpitoarvo / pakkaus 1.7.2024 (EUR ALV 0 %)]] -> 0 | W40: {=IFERROR(_xlfn.IFS(Lääkkeet[[#This Row],[Sitoutunut pääoma 1.1.-30.6.2024 (EUR)]]>0,"Täytetyt",Lääkkeet[[#This Row],[Sitoutunut pääoma 1.7.-31.12.2024 (EUR)]]>0,"Täytetyt"),"")} | Y40: =Hakulomake!$B$29 -> 0
A41: X | B41: =Hakulomake!$B$17 -> 0 | C41: 1 | D41: QJ01CE01 | E41: 011718 | F41: Bentsyylipenisilliini | G41: Geepenil vet | H41: 24 g | I41: injektiokuiva-aine ja liuotin, liuosta varten | J41: 24.0 g + 64 ml | O41: =MIN(Lääkkeet[[#This Row],[Velvoite 1.1.2024 (pakkauksia)]],Lääkkeet[[#This Row],[Suurimman alitusluvan mukainen velvoite 1.1.-30.6.2024 (pakkauksia)]],Lääkkeet[[#This Row],[Alin saldo 1.1.-30.6.2024 (pakkauksia)]])*Lääkkeet[[#This Row],[Kirjanpitoarvo / pakkaus 1.1.2024 (EUR ALV 0 %)]] -> 0 | U41: =MIN(Lääkkeet[[#This Row],[Velvoite 1.7.2024 (pakkauksia)]],Lääkkeet[[#This Row],[Suurimman alitusluvan mukainen velvoite 1.7.-31.12.2024 (pakkauksia)]],Lääkkeet[[#This Row],[Alin saldo 1.7.-31.12.2024 (pakkauksia)]])*Lääkkeet[[#This Row],[Kirjanpitoarvo / pakkaus 1.7.2024 (EUR ALV 0 %)]] -> 0 | W41: {=IFERROR(_xlfn.IFS(Lääkkeet[[#This Row],[Sitoutunut pääoma 1.1.-30.6.2024 (EUR)]]>0,"Täytetyt",Lääkkeet[[#This Row],[Sitoutunut pääoma 1.7.-31.12.2024 (EUR)]]>0,"Täytetyt"),"")} | Y41: =Hakulomake!$B$29 -> 0
A42: X | B42: =Hakulomake!$B$17 -> 0 | C42: 1 | D42: QJ01CE01 | E42: 011858 | F42: Bentsyylipenisilliini | G42: Geepenil vet | H42: 24 g | I42: injektiokuiva-aine ja liuotin, liuosta varten | J42: 10 x (24.0 g + 64 ml) | O42: =MIN(Lääkkeet[[#This Row],[Velvoite 1.1.2024 (pakkauksia)]],Lääkkeet[[#This Row],[Suurimman alitusluvan mukainen velvoite 1.1.-30.6.2024 (pakkauksia)]],Lääkkeet[[#This Row],[Alin saldo 1.1.-30.6.2024 (pakkauksia)]])*Lääkkeet[[#This Row],[Kirjanpitoarvo / pakkaus 1.1.2024 (EUR ALV 0 %)]] -> 0 | U42: =MIN(Lääkkeet[[#This Row],[Velvoite 1.7.2024 (pakkauksia)]],Lääkkeet[[#This Row],[Suurimman alitusluvan mukainen velvoite 1.7.-31.12.2024 (pakkauksia)]],Lääkkeet[[#This Row],[Alin saldo 1.7.-31.12.2024 (pakkauksia)]])*Lääkkeet[[#This Row],[Kirjanpitoarvo / pakkaus 1.7.2024 (EUR ALV 0 %)]] -> 0 | W42: {=IFERROR(_xlfn.IFS(Lääkkeet[[#This Row],[Sitoutunut pääoma 1.1.-30.6.2024 (EUR)]]>0,"Täytetyt",Lääkkeet[[#This Row],[Sitoutunut pääoma 1.7.-31.12.2024 (EUR)]]>0,"Täytetyt"),"")} | Y42: =Hakulomake!$B$29 -> 0
A43: X | B43: =Hakulomake!$B$17 -> 0 | C43: 1 | D43: J05AB01 | E43: 013177 | F43: asikloviiri | G43: Zovirax | I43: infuusiokuiva-aine, liuosta varten | J43: 5 x 500 mg | O43: =MIN(Lääkkeet[[#This Row],[Velvoite 1.1.2024 (pakkauksia)]],Lääkkeet[[#This Row],[Suurimman alitusluvan mukainen velvoite 1.1.-30.6.2024 (pakkauksia)]],Lääkkeet[[#This Row],[Alin saldo 1.1.-30.6.2024 (pakkauksia)]])*Lääkkeet[[#This Row],[Kirjanpitoarvo / pakkaus 1.1.2024 (EUR ALV 0 %)]] -> 0 | U43: =MIN(Lääkkeet[[#This Row],[Velvoite 1.7.2024 (pakkauksia)]],Lääkkeet[[#This Row],[Suurimman alitusluvan mukainen velvoite 1.7.-31.12.2024 (pakkauksia)]],Lääkkeet[[#This Row],[Alin saldo 1.7.-31.12.2024 (pakkauksia)]])*Lääkkeet[[#This Row],[Kirjanpitoarvo / pakkaus 1.7.2024 (EUR ALV 0 %)]] -> 0 | W43: {=IFERROR(_xlfn.IFS(Lääkkeet[[#This Row],[Sitoutunut pääoma 1.1.-30.6.2024 (EUR)]]>0,"Täytetyt",Lääkkeet[[#This Row],[Sitoutunut pääoma 1.7.-31.12.2024 (EUR)]]>0,"Täytetyt"),"")} | Y43: =Hakulomake!$B$29 -> 0
A44: X | B44: =Hakulomake!$B$17 -> 0 | C44: 1 | D44: J02AC01 | E44: 015406 | F44: flukonatsoli | G44: Fluconazol Orion | H44: 100 mg | I44: kapseli, kova | J44: 28 | O44: =MIN(Lääkkeet[[#This Row],[Velvoite 1.1.2024 (pakkauksia)]],Lääkkeet[[#This Row],[Suurimman alitusluvan mukainen velvoite 1.1.-30.6.2024 (pakkauksia)]],Lääkkeet[[#This Row],[Alin saldo 1.1.-30.6.2024 (pakkauksia)]])*Lääkkeet[[#This Row],[Kirjanpitoarvo / pakkaus 1.1.2024 (EUR ALV 0 %)]] -> 0 | U44: =MIN(Lääkkeet[[#This Row],[Velvoite 1.7.2024 (pakkauksia)]],Lääkkeet[[#This Row],[Suurimman alitusluvan mukainen velvoite 1.7.-31.12.2024 (pakkauksia)]],Lääkkeet[[#This Row],[Alin saldo 1.7.-31.12.2024 (pakkauksia)]])*Lääkkeet[[#This Row],[Kirjanpitoarvo / pakkaus 1.7.2024 (EUR ALV 0 %)]] -> 0 | W44: {=IFERROR(_xlfn.IFS(Lääkkeet[[#This Row],[Sitoutunut pääoma 1.1.-30.6.2024 (EUR)]]>0,"Täytetyt",Lääkkeet[[#This Row],[Sitoutunut pääoma 1.7.-31.12.2024 (EUR)]]>0,"Täytetyt"),"")} | Y44: =Hakulomake!$B$29 -> 0
A45: X | B45: =Hakulomake!$B$17 -> 0 | C45: 1 | D45: J02AC01 | E45: 015417 | F45: flukonatsoli | G45: Fluconazol Orion | H45: 150 mg | I45: kapseli, kova | J45: 1 | O45: =MIN(Lääkkeet[[#This Row],[Velvoite 1.1.2024 (pakkauksia)]],Lääkkeet[[#This Row],[Suurimman alitusluvan mukainen velvoite 1.1.-30.6.2024 (pakkauksia)]],Lääkkeet[[#This Row],[Alin saldo 1.1.-30.6.2024 (pakkauksia)]])*Lääkkeet[[#This Row],[Kirjanpitoarvo / pakkaus 1.1.2024 (EUR ALV 0 %)]] -> 0 | U45: =MIN(Lääkkeet[[#This Row],[Velvoite 1.7.2024 (pakkauksia)]],Lääkkeet[[#This Row],[Suurimman alitusluvan mukainen velvoite 1.7.-31.12.2024 (pakkauksia)]],Lääkkeet[[#This Row],[Alin saldo 1.7.-31.12.2024 (pakkauksia)]])*Lääkkeet[[#This Row],[Kirjanpitoarvo / pakkaus 1.7.2024 (EUR ALV 0 %)]] -> 0 | W45: {=IFERROR(_xlfn.IFS(Lääkkeet[[#This Row],[Sitoutunut pääoma 1.1.-30.6.2024 (EUR)]]>0,"Täytetyt",Lääkkeet[[#This Row],[Sitoutunut pääoma 1.7.-31.12.2024 (EUR)]]>0,"Täytetyt"),"")} | Y45: =Hakulomake!$B$29 -> 0
...

Sheet Oma tuotanto
B2: Oman tuotannon tuotteet
B4: Sitoutunut pääoma H1 | D4: =SUM($I$13:$I$1003) -> 0
B5: Sitoutunut pääoma H2 | D5: =SUM($P$13:$P$1003) -> 0
B6: Sitoutunut pääoma yhteensä | D6: =SUM($D$4:$D$5) -> 0
B7: Maksettava korvaus H1 | D7: =(31+29+31+30+31+30)/366*$D$4*Hakulomake!$C$42 -> 0
B8: Maksettava korvaus H2 | D8: =(31+31+30+31+30+31)/366*$D$5*Hakulomake!$C$43 -> 0
B9: Maksettava korvaus yhteensä | D9: =SUM($D$7:$D$8) -> 0
B12: Asetuksen lääkeryhmä (nro.) | C12: Valmiste (nimi, vahvuus, pakkauskoko) | D12: Velvoite 1.1.2024 (pakkauksia) | E12: Velvoite 1.1.2024 (yksikköä) | F12: Suurimman alitusluvan mukainen velvoite 1.1.-30.6.2024 (pakkauksia) | G12: Alin saldo 1.1.-30.6.2024 (pakkauksia) | H12: Kirjanpitoarvo / pakkaus 1.1.2024 (EUR ALV 0 %) | I12: Sitoutunut pääoma 1.1.-30.6.2024 (EUR) | J12: Alituslupanumerot 1.1.-30.6.2024 | K12: Velvoite 1.7.2024 (pakkauksia) | L12: Velvoite 1.7.2024 (yksikköä) | M12: Suurimman alitusluvan mukainen velvoite 1.7.-31.12.2024 (pakkauksia) | N12: Alin saldo 1.7.-31.12.2024 (pakkauksia) | O12: Kirjanpitoarvo / pakkaus 1.7.2024 (EUR ALV 0 %) | P12: Sitoutunut pääoma 1.7.-31.12.2024 (EUR) | Q12: Alituslupanumerot 1.7.-31.12.2024 | R12: Kommentit
I13: =MIN(D13,F13,G13)*H13 -> 0 | P13: =MIN(K13,M13,N13)*O13 -> 0
I14: =MIN(D14,F14,G14)*H14 -> 0 | P14: =MIN(K14,M14,N14)*O14 -> 0
I15: =MIN(D15,F15,G15)*H15 -> 0 | P15: =MIN(K15,M15,N15)*O15 -> 0
I16: =MIN(D16,F16,G16)*H16 -> 0 | P16: =MIN(K16,M16,N16)*O16 -> 0
I17: =MIN(D17,F17,G17)*H17 -> 0 | P17: =MIN(K17,M17,N17)*O17 -> 0
I18: =MIN(D18,F18,G18)*H18 -> 0 | P18: =MIN(K18,M18,N18)*O18 -> 0
I19: =MIN(D19,F19,G19)*H19 -> 0 | P19: =MIN(K19,M19,N19)*O19 -> 0
I20: =MIN(D20,F20,G20)*H20 -> 0 | P20: =MIN(K20,M20,N20)*O20 -> 0
I21: =MIN(D21,F21,G21)*H21 -> 0 | P21: =MIN(K21,M21,N21)*O21 -> 0
I22: =MIN(D22,F22,G22)*H22 -> 0 | P22: =MIN(K22,M22,N22)*O22 -> 0
I23: =MIN(D23,F23,G23)*H23 -> 0 | P23: =MIN(K23,M23,N23)*O23 -> 0
I24: =MIN(D24,F24,G24)*H24 -> 0 | P24: =MIN(K24,M24,N24)*O24 -> 0
... I1003: =MIN(D1003,F1003,G1003)*H1003 -> 0 | P1003: =MIN(K1003,M1003,N1003)*O1003 -> 0

Sheet Lasku
A1: Huoltovarmuuskeskus | F1: LASKU FAKTURA | I1: sivu 1/1
A3: Laskuttajan tiedot
A4: =Hakulomake!B29 -> 0 | F4: Laskun päiväys: | H4: =Hakulomake!B11 -> 0
F5: Laskun numero: | H5: 1
F6: Viitenumero:
F7: Maksuehto: | H7: 14 vrk
A8: =+Hakulomake!B31 -> 0 | F8: Laskun viite: | H8: Compensation for obligatory stockpiling of medicines based on law
A9: =Hakulomake!B34 -> 0
A10: =Hakulomake!B30 -> 0
A14: Päätös lääkkeiden velvoitevarastointikorvauksesta vuodelta 2024
F16: Haettu korvaus | G16: Haettu korvaus ryhmä 2
H18: Alv-% | I18: Korvaus
A19: 1. vuosipuoli | F19: =Hakulomake!B49 -> 0 | G19: =Hakulomake!B50 -> 0 | H19: 0 | I19: =F19+G19 -> 0
A20: 2. vuosipuoli | F20: =Hakulomake!C49 -> 0 | G20: =Hakulomake!C50 -> 0 | H20: 0 | I20: =F20+G20 -> 0
A26: Eräpäivä: | G26: Loppusumma EUR: | I26: =Hakulomake!C52 -> 0
A27: 45610
A34: =CONCATENATE(A4," ",A8," ",A10," ",A9) -> 0 0 0 0
